BEGIN:VCALENDAR
VERSION:2.0
METHOD:PUBLISH
PRODID:-//IETF//datatracker.ietf.org ical agenda//EN
BEGIN:VTIMEZONE
TZID:Asia/Taipei
X-LIC-LOCATION:Asia/Taipei
BEGIN:STANDARD
TZOFFSETFROM:+0806
TZOFFSETTO:+0800
TZNAME:JWST
DTSTART:18960101T000000
RDATE:18960101T000000
END:STANDARD
BEGIN:STANDARD
TZOFFSETFROM:+0800
TZOFFSETTO:+0900
TZNAME:JST
DTSTART:19371001T000000
RDATE:19371001T000000
END:STANDARD
BEGIN:STANDARD
TZOFFSETFROM:+0900
TZOFFSETTO:+0800
TZNAME:CST
DTSTART:19450921T010000
RDATE:19450921T010000
RDATE:19461001T000000
RDATE:19471101T000000
RDATE:19481001T000000
RDATE:19491001T000000
RDATE:19501001T000000
RDATE:19511001T000000
RDATE:19521101T000000
RDATE:19531101T000000
RDATE:19541101T000000
RDATE:19551001T000000
RDATE:19561001T000000
RDATE:19571001T000000
RDATE:19581001T000000
RDATE:19591001T000000
RDATE:19601001T000000
RDATE:19611001T000000
RDATE:19741001T000000
RDATE:19751001T000000
RDATE:19791001T000000
END:STANDARD
BEGIN:DAYLIGHT
TZOFFSETFROM:+0800
TZOFFSETTO:+0900
TZNAME:CDT
DTSTART:19460515T000000
RDATE:19460515T000000
RDATE:19470415T000000
RDATE:19480501T000000
RDATE:19490501T000000
RDATE:19500501T000000
RDATE:19510501T000000
RDATE:19520301T000000
RDATE:19530401T000000
RDATE:19540401T000000
RDATE:19550401T000000
RDATE:19560401T000000
RDATE:19570401T000000
RDATE:19580401T000000
RDATE:19590401T000000
RDATE:19600601T000000
RDATE:19610601T000000
RDATE:19740401T000000
RDATE:19750401T000000
RDATE:19790701T000000
END:DAYLIGHT
END:VTIMEZONE
BEGIN:VEVENT
UID:ietf-82-2346-apparea
SUMMARY:apparea - Applications Area Open Meeting (Combined with APPSAWG)
LOCATION:102
STATUS:CONFIRMED
CLASS:PUBLIC
DTSTART;TZID=Asia/Taipei:20111114T090000
DTEND;TZID=Asia/Taipei:20111114T113000
DTSTAMP:20161222T095707Z
DESCRIPTION:Morning Session I\n
 Note: Combined with APPSAWG\n
 \n
 Session materials: https://datatracker.ietf.org/meeting/82/session/apparea\n
 \n
 See in schedule: https://datatracker.ietf.org/meeting/82/agenda#row-82-2011-11-14-mon-0900-app-apparea\n
END:VEVENT
BEGIN:VEVENT
UID:ietf-82-2260-appsawg
SUMMARY:appsawg - Applications Area Working Group (Combined with APPSAREA)
LOCATION:102
STATUS:CONFIRMED
CLASS:PUBLIC
DTSTART;TZID=Asia/Taipei:20111114T090000
DTEND;TZID=Asia/Taipei:20111114T113000
DTSTAMP:20161222T095707Z
URL:https://datatracker.ietf.org/meeting/82/materials/agenda-82-appsawg
DESCRIPTION:Morning Session I\n
 Note: Combined with APPSAREA\n
 \n
 Agenda https://datatracker.ietf.org/meeting/82/materials/agenda-82-appsawg\n
 \n
 Session materials: https://datatracker.ietf.org/meeting/82/session/appsawg\n
 \n
 See in schedule: https://datatracker.ietf.org/meeting/82/agenda#row-82-2011-11-14-mon-0900-app-appsawg\n
END:VEVENT
BEGIN:VEVENT
UID:ietf-82-2313-paws
SUMMARY:paws - Protocol to Access WS database
LOCATION:101D
STATUS:CONFIRMED
CLASS:PUBLIC
DTSTART;TZID=Asia/Taipei:20111115T090000
DTEND;TZID=Asia/Taipei:20111115T113000
DTSTAMP:20161222T095707Z
URL:https://datatracker.ietf.org/meeting/82/materials/agenda-82-paws
DESCRIPTION:Morning Session I\n
 \n
 Agenda https://datatracker.ietf.org/meeting/82/materials/agenda-82-paws\n
 \n
 Session materials: https://datatracker.ietf.org/meeting/82/session/paws\n
 \n
 See in schedule: https://datatracker.ietf.org/meeting/82/agenda#row-82-2011-11-15-tue-0900-app-paws\n
END:VEVENT
BEGIN:VEVENT
UID:ietf-82-2335-eai
SUMMARY:eai - Email Address Internationalization
LOCATION:101D
STATUS:CONFIRMED
CLASS:PUBLIC
DTSTART;TZID=Asia/Taipei:20111115T130000
DTEND;TZID=Asia/Taipei:20111115T150000
DTSTAMP:20161222T095707Z
URL:https://datatracker.ietf.org/meeting/82/materials/agenda-82-eai
DESCRIPTION:Afternoon Session I\n
 \n
 Agenda https://datatracker.ietf.org/meeting/82/materials/agenda-82-eai\n
 \n
 Session materials: https://datatracker.ietf.org/meeting/82/session/eai\n
 \n
 See in schedule: https://datatracker.ietf.org/meeting/82/agenda#row-82-2011-11-15-tue-1300-app-eai\n
END:VEVENT
BEGIN:VEVENT
UID:ietf-82-2310-precis
SUMMARY:precis - Preparation and Comparison of Internationalized Strings
LOCATION:101D
STATUS:CONFIRMED
CLASS:PUBLIC
DTSTART;TZID=Asia/Taipei:20111115T152000
DTEND;TZID=Asia/Taipei:20111115T170000
DTSTAMP:20161222T095707Z
URL:https://datatracker.ietf.org/meeting/82/materials/agenda-82-precis
DESCRIPTION:Afternoon Session II\n
 \n
 Agenda https://datatracker.ietf.org/meeting/82/materials/agenda-82-precis\n
 \n
 Session materials: https://datatracker.ietf.org/meeting/82/session/precis\n
 \n
 See in schedule: https://datatracker.ietf.org/meeting/82/agenda#row-82-2011-11-15-tue-1520-app-precis\n
END:VEVENT
BEGIN:VEVENT
UID:ietf-82-2357-weirds
SUMMARY:weirds - Worthwhile Extensible Internet Registration Data Service 
LOCATION:102
STATUS:CONFIRMED
CLASS:PUBLIC
DTSTART;TZID=Asia/Taipei:20111116T090000
DTEND;TZID=Asia/Taipei:20111116T113000
DTSTAMP:20161222T095707Z
URL:https://datatracker.ietf.org/meeting/82/materials/agenda-82-weirds
DESCRIPTION:Morning Session I\n
 \n
 Agenda https://datatracker.ietf.org/meeting/82/materials/agenda-82-weirds\n
 \n
 Session materials: https://datatracker.ietf.org/meeting/82/session/weirds\n
 \n
 See in schedule: https://datatracker.ietf.org/meeting/82/agenda#row-82-2011-11-16-wed-0900-app-weirds\n
END:VEVENT
BEGIN:VEVENT
UID:ietf-82-2328-websec
SUMMARY:websec - Web Security
LOCATION:201 ABC
STATUS:CONFIRMED
CLASS:PUBLIC
DTSTART;TZID=Asia/Taipei:20111116T130000
DTEND;TZID=Asia/Taipei:20111116T150000
DTSTAMP:20161222T095707Z
URL:https://datatracker.ietf.org/meeting/82/materials/agenda-82-websec
DESCRIPTION:Afternoon Session I\n
 \n
 Agenda https://datatracker.ietf.org/meeting/82/materials/agenda-82-websec\n
 \n
 Session materials: https://datatracker.ietf.org/meeting/82/session/websec\n
 \n
 See in schedule: https://datatracker.ietf.org/meeting/82/agenda#row-82-2011-11-16-wed-1300-app-websec\n
END:VEVENT
BEGIN:VEVENT
UID:ietf-82-2351-repute
SUMMARY:repute - Reputation Services
LOCATION:101A
STATUS:CONFIRMED
CLASS:PUBLIC
DTSTART;TZID=Asia/Taipei:20111116T151000
DTEND;TZID=Asia/Taipei:20111116T161000
DTSTAMP:20161222T095707Z
URL:https://datatracker.ietf.org/meeting/82/materials/agenda-82-repute
DESCRIPTION:Afternoon Session II\n
 \n
 Agenda https://datatracker.ietf.org/meeting/82/materials/agenda-82-repute\n
 \n
 Session materials: https://datatracker.ietf.org/meeting/82/session/repute\n
 \n
 See in schedule: https://datatracker.ietf.org/meeting/82/agenda#row-82-2011-11-16-wed-1510-app-repute\n
END:VEVENT
BEGIN:VEVENT
UID:ietf-82-2337-iri
SUMMARY:iri - Internationalized Resource Identifiers
LOCATION:101C
STATUS:CONFIRMED
CLASS:PUBLIC
DTSTART;TZID=Asia/Taipei:20111117T090000
DTEND;TZID=Asia/Taipei:20111117T113000
DTSTAMP:20161222T095707Z
URL:https://datatracker.ietf.org/meeting/82/materials/agenda-82-iri
DESCRIPTION:Morning Session I\n
 \n
 Agenda https://datatracker.ietf.org/meeting/82/materials/agenda-82-iri\n
 \n
 Session materials: https://datatracker.ietf.org/meeting/82/session/iri\n
 \n
 See in schedule: https://datatracker.ietf.org/meeting/82/agenda#row-82-2011-11-17-thu-0900-app-iri\n
END:VEVENT
BEGIN:VEVENT
UID:ietf-82-2303-core
SUMMARY:core - Constrained RESTful Environments
LOCATION:101D
STATUS:CONFIRMED
CLASS:PUBLIC
DTSTART;TZID=Asia/Taipei:20111117T152000
DTEND;TZID=Asia/Taipei:20111117T172000
DTSTAMP:20161222T095707Z
URL:https://datatracker.ietf.org/meeting/82/materials/agenda-82-core
DESCRIPTION:Afternoon Session II\n
 \n
 Agenda https://datatracker.ietf.org/meeting/82/materials/agenda-82-core\n
 \n
 Session materials: https://datatracker.ietf.org/meeting/82/session/core\n
 \n
 See in schedule: https://datatracker.ietf.org/meeting/82/agenda#row-82-2011-11-17-thu-1520-app-core\n
END:VEVENT
BEGIN:VEVENT
UID:ietf-82-2304-core
SUMMARY:core - Constrained RESTful Environments
LOCATION:101B
STATUS:CONFIRMED
CLASS:PUBLIC
DTSTART;TZID=Asia/Taipei:20111118T112000
DTEND;TZID=Asia/Taipei:20111118T122000
DTSTAMP:20161222T095707Z
URL:https://datatracker.ietf.org/meeting/82/materials/agenda-82-core
DESCRIPTION:Afternoon Session I\n
 \n
 Agenda https://datatracker.ietf.org/meeting/82/materials/agenda-82-core\n
 \n
 Session materials: https://datatracker.ietf.org/meeting/82/session/core\n
 \n
 See in schedule: https://datatracker.ietf.org/meeting/82/agenda#row-82-2011-11-18-fri-1120-app-core\n
END:VEVENT
BEGIN:VEVENT
UID:ietf-82-2305-core
SUMMARY:core - Constrained RESTful Environments
LOCATION:101B
STATUS:CONFIRMED
CLASS:PUBLIC
DTSTART;TZID=Asia/Taipei:20111118T123000
DTEND;TZID=Asia/Taipei:20111118T133000
DTSTAMP:20161222T095707Z
URL:https://datatracker.ietf.org/meeting/82/materials/agenda-82-core
DESCRIPTION:Afternoon Session II\n
 \n
 Agenda https://datatracker.ietf.org/meeting/82/materials/agenda-82-core\n
 \n
 Session materials: https://datatracker.ietf.org/meeting/82/session/core\n
 \n
 See in schedule: https://datatracker.ietf.org/meeting/82/agenda#row-82-2011-11-18-fri-1230-app-core\n
END:VEVENT
END:VCALENDAR
