BEGIN:VCALENDAR
VERSION:2.0
METHOD:PUBLISH
PRODID:-//IETF//datatracker.ietf.org ical agenda//EN
BEGIN:VTIMEZONE
TZID:Asia/Taipei
X-LIC-LOCATION:Asia/Taipei
BEGIN:STANDARD
TZOFFSETFROM:+0806
TZOFFSETTO:+0800
TZNAME:JWST
DTSTART:18960101T000000
RDATE:18960101T000000
END:STANDARD
BEGIN:STANDARD
TZOFFSETFROM:+0800
TZOFFSETTO:+0900
TZNAME:JST
DTSTART:19371001T000000
RDATE:19371001T000000
END:STANDARD
BEGIN:STANDARD
TZOFFSETFROM:+0900
TZOFFSETTO:+0800
TZNAME:CST
DTSTART:19450921T010000
RDATE:19450921T010000
RDATE:19461001T000000
RDATE:19471101T000000
RDATE:19481001T000000
RDATE:19491001T000000
RDATE:19501001T000000
RDATE:19511001T000000
RDATE:19521101T000000
RDATE:19531101T000000
RDATE:19541101T000000
RDATE:19551001T000000
RDATE:19561001T000000
RDATE:19571001T000000
RDATE:19581001T000000
RDATE:19591001T000000
RDATE:19601001T000000
RDATE:19611001T000000
RDATE:19741001T000000
RDATE:19751001T000000
RDATE:19791001T000000
END:STANDARD
BEGIN:DAYLIGHT
TZOFFSETFROM:+0800
TZOFFSETTO:+0900
TZNAME:CDT
DTSTART:19460515T000000
RDATE:19460515T000000
RDATE:19470415T000000
RDATE:19480501T000000
RDATE:19490501T000000
RDATE:19500501T000000
RDATE:19510501T000000
RDATE:19520301T000000
RDATE:19530401T000000
RDATE:19540401T000000
RDATE:19550401T000000
RDATE:19560401T000000
RDATE:19570401T000000
RDATE:19580401T000000
RDATE:19590401T000000
RDATE:19600601T000000
RDATE:19610601T000000
RDATE:19740401T000000
RDATE:19750401T000000
RDATE:19790701T000000
END:DAYLIGHT
END:VTIMEZONE
BEGIN:VEVENT
UID:ietf-82-2369-tools
SUMMARY:Code Sprint
LOCATION:4F VIP
STATUS:CONFIRMED
CLASS:PUBLIC
DTSTART;TZID=Asia/Taipei:20111112T093000
DTEND;TZID=Asia/Taipei:20111112T180000
DTSTAMP:20161222T095707Z
DESCRIPTION:Code Sprint\n
 \n
 Session materials: https://datatracker.ietf.org/meeting/82/session/tools\n
 \n
 See in schedule: https://datatracker.ietf.org/meeting/82/agenda#row-82-2011-11-12-sat-0930-tools-code-sprint\n
END:VEVENT
BEGIN:VEVENT
UID:ietf-82-2370-iepg
SUMMARY:IEPG Meeting
LOCATION:101C
STATUS:CONFIRMED
CLASS:PUBLIC
DTSTART;TZID=Asia/Taipei:20111113T100000
DTEND;TZID=Asia/Taipei:20111113T120000
DTSTAMP:20161222T095707Z
DESCRIPTION:IEPG Meeting\n
 \n
 Session materials: https://datatracker.ietf.org/meeting/82/session/iepg\n
 \n
 See in schedule: https://datatracker.ietf.org/meeting/82/agenda#row-82-2011-11-13-sun-1000-iepg-iepg-meeting\n
END:VEVENT
BEGIN:VEVENT
UID:ietf-82-2367-edu
SUMMARY:Newcomers' Orientation
LOCATION:102
STATUS:CONFIRMED
CLASS:PUBLIC
DTSTART;TZID=Asia/Taipei:20111113T130000
DTEND;TZID=Asia/Taipei:20111113T145000
DTSTAMP:20161222T095707Z
DESCRIPTION:Newcomers' Orientation\n
 \n
 Session materials: https://datatracker.ietf.org/meeting/82/session/edu\n
 \n
 See in schedule: https://datatracker.ietf.org/meeting/82/agenda#row-82-2011-11-13-sun-1300-edu-newcomers-orientation\n
END:VEVENT
BEGIN:VEVENT
UID:ietf-82-2368-edu
SUMMARY:Newcomers' Orientation (Mandarin)
LOCATION:101C
STATUS:CONFIRMED
CLASS:PUBLIC
DTSTART;TZID=Asia/Taipei:20111113T130000
DTEND;TZID=Asia/Taipei:20111113T145000
DTSTAMP:20161222T095707Z
DESCRIPTION:Newcomers' Orientation (Mandarin)\n
 \n
 Session materials: https://datatracker.ietf.org/meeting/82/session/edu\n
 \n
 See in schedule: https://datatracker.ietf.org/meeting/82/agenda#row-82-2011-11-13-sun-1300-edu-newcomers-orientation-mandarin\n
END:VEVENT
BEGIN:VEVENT
UID:ietf-82-2350-edu
SUMMARY:Document Lifecycle
LOCATION:102
STATUS:CONFIRMED
CLASS:PUBLIC
DTSTART;TZID=Asia/Taipei:20111113T150000
DTEND;TZID=Asia/Taipei:20111113T165000
DTSTAMP:20161222T095707Z
DESCRIPTION:Document Lifecycle\n
 \n
 Session materials: https://datatracker.ietf.org/meeting/82/session/edu\n
 \n
 See in schedule: https://datatracker.ietf.org/meeting/82/agenda#row-82-2011-11-13-sun-1500-edu-document-lifecycle\n
END:VEVENT
BEGIN:VEVENT
UID:ietf-82-2353-edu
SUMMARY:Routing\, Bridging and Switching Tutorial
LOCATION:101C
STATUS:CONFIRMED
CLASS:PUBLIC
DTSTART;TZID=Asia/Taipei:20111113T150000
DTEND;TZID=Asia/Taipei:20111113T165000
DTSTAMP:20161222T095707Z
DESCRIPTION:Routing\, Bridging and Switching Tutorial\n
 \n
 Session materials: https://datatracker.ietf.org/meeting/82/session/edu\n
 \n
 See in schedule: https://datatracker.ietf.org/meeting/82/agenda#row-82-2011-11-13-sun-1500-edu-routing-bridging-and-switching-tutorial\n
END:VEVENT
BEGIN:VEVENT
UID:ietf-82-2360-ietf
SUMMARY:Technical Plenary
LOCATION:201
STATUS:CONFIRMED
CLASS:PUBLIC
DTSTART;TZID=Asia/Taipei:20111114T163000
DTEND;TZID=Asia/Taipei:20111114T193000
DTSTAMP:20161222T095707Z
URL:https://datatracker.ietf.org/meeting/82/materials/agenda-82-ietf-technical-plenary
DESCRIPTION:Technical Plenary\n
 \n
 Agenda https://datatracker.ietf.org/meeting/82/materials/agenda-82-ietf-technical-plenary\n
 \n
 Session materials: https://datatracker.ietf.org/meeting/82/session/ietf\n
 \n
 See in schedule: https://datatracker.ietf.org/meeting/82/agenda#row-82-2011-11-14-mon-1630-1plenary-ietf\n
END:VEVENT
BEGIN:VEVENT
UID:ietf-82-2359-ietf
SUMMARY:IETF Operations and Administration Plenary
LOCATION:201
STATUS:CONFIRMED
CLASS:PUBLIC
DTSTART;TZID=Asia/Taipei:20111116T163000
DTEND;TZID=Asia/Taipei:20111116T193000
DTSTAMP:20161222T095707Z
URL:https://datatracker.ietf.org/meeting/82/materials/agenda-82-ietf-ietf-operations-and-administration-plenary
DESCRIPTION:IETF Operations and Administration Plenary\n
 \n
 Agenda https://datatracker.ietf.org/meeting/82/materials/agenda-82-ietf-ietf-operations-and-administration-plenary\n
 \n
 Session materials: https://datatracker.ietf.org/meeting/82/session/ietf\n
 \n
 See in schedule: https://datatracker.ietf.org/meeting/82/agenda#row-82-2011-11-16-wed-1630-1plenary-ietf\n
END:VEVENT
END:VCALENDAR
