BEGIN:VCALENDAR
VERSION:2.0
METHOD:PUBLISH
PRODID:-//IETF//datatracker.ietf.org ical agenda//EN
BEGIN:VTIMEZONE
TZID:Asia/Taipei
X-LIC-LOCATION:Asia/Taipei
BEGIN:STANDARD
TZOFFSETFROM:+0806
TZOFFSETTO:+0800
TZNAME:JWST
DTSTART:18960101T000000
RDATE:18960101T000000
END:STANDARD
BEGIN:STANDARD
TZOFFSETFROM:+0800
TZOFFSETTO:+0900
TZNAME:JST
DTSTART:19371001T000000
RDATE:19371001T000000
END:STANDARD
BEGIN:STANDARD
TZOFFSETFROM:+0900
TZOFFSETTO:+0800
TZNAME:CST
DTSTART:19450921T010000
RDATE:19450921T010000
RDATE:19461001T000000
RDATE:19471101T000000
RDATE:19481001T000000
RDATE:19491001T000000
RDATE:19501001T000000
RDATE:19511001T000000
RDATE:19521101T000000
RDATE:19531101T000000
RDATE:19541101T000000
RDATE:19551001T000000
RDATE:19561001T000000
RDATE:19571001T000000
RDATE:19581001T000000
RDATE:19591001T000000
RDATE:19601001T000000
RDATE:19611001T000000
RDATE:19741001T000000
RDATE:19751001T000000
RDATE:19791001T000000
END:STANDARD
BEGIN:DAYLIGHT
TZOFFSETFROM:+0800
TZOFFSETTO:+0900
TZNAME:CDT
DTSTART:19460515T000000
RDATE:19460515T000000
RDATE:19470415T000000
RDATE:19480501T000000
RDATE:19490501T000000
RDATE:19500501T000000
RDATE:19510501T000000
RDATE:19520301T000000
RDATE:19530401T000000
RDATE:19540401T000000
RDATE:19550401T000000
RDATE:19560401T000000
RDATE:19570401T000000
RDATE:19580401T000000
RDATE:19590401T000000
RDATE:19600601T000000
RDATE:19610601T000000
RDATE:19740401T000000
RDATE:19750401T000000
RDATE:19790701T000000
END:DAYLIGHT
END:VTIMEZONE
BEGIN:VEVENT
UID:ietf-82-2295-6man
SUMMARY:6man - IPv6 Maintenance
LOCATION:3F Banquet
STATUS:CONFIRMED
CLASS:PUBLIC
DTSTART;TZID=Asia/Taipei:20111114T090000
DTEND;TZID=Asia/Taipei:20111114T113000
DTSTAMP:20161222T095707Z
URL:https://datatracker.ietf.org/meeting/82/materials/agenda-82-6man
DESCRIPTION:Morning Session I\n
 \n
 Agenda https://datatracker.ietf.org/meeting/82/materials/agenda-82-6man\n
 \n
 Session materials: https://datatracker.ietf.org/meeting/82/session/6man\n
 \n
 See in schedule: https://datatracker.ietf.org/meeting/82/agenda#row-82-2011-11-14-mon-0900-int-6man\n
END:VEVENT
BEGIN:VEVENT
UID:ietf-82-2341-softwire
SUMMARY:softwire - Softwires
LOCATION:101B
STATUS:CONFIRMED
CLASS:PUBLIC
DTSTART;TZID=Asia/Taipei:20111114T130000
DTEND;TZID=Asia/Taipei:20111114T150000
DTSTAMP:20161222T095707Z
URL:https://datatracker.ietf.org/meeting/82/materials/agenda-82-softwire
DESCRIPTION:Afternoon Session I\n
 \n
 Agenda https://datatracker.ietf.org/meeting/82/materials/agenda-82-softwire\n
 \n
 Session materials: https://datatracker.ietf.org/meeting/82/session/softwire\n
 \n
 See in schedule: https://datatracker.ietf.org/meeting/82/agenda#row-82-2011-11-14-mon-1300-int-softwire\n
END:VEVENT
BEGIN:VEVENT
UID:ietf-82-2348-mext
SUMMARY:mext - Mobility EXTensions for IPv6
LOCATION:101C
STATUS:CONFIRMED
CLASS:PUBLIC
DTSTART;TZID=Asia/Taipei:20111114T151000
DTEND;TZID=Asia/Taipei:20111114T161000
DTSTAMP:20161222T095707Z
URL:https://datatracker.ietf.org/meeting/82/materials/agenda-82-mext
DESCRIPTION:Afternoon Session II\n
 \n
 Agenda https://datatracker.ietf.org/meeting/82/materials/agenda-82-mext\n
 \n
 Session materials: https://datatracker.ietf.org/meeting/82/session/mext\n
 \n
 See in schedule: https://datatracker.ietf.org/meeting/82/agenda#row-82-2011-11-14-mon-1510-int-mext\n
END:VEVENT
BEGIN:VEVENT
UID:ietf-82-2309-homenet
SUMMARY:homenet - Home Networking
LOCATION:201 DEF
STATUS:CONFIRMED
CLASS:PUBLIC
DTSTART;TZID=Asia/Taipei:20111115T090000
DTEND;TZID=Asia/Taipei:20111115T113000
DTSTAMP:20161222T095707Z
URL:https://datatracker.ietf.org/meeting/82/materials/agenda-82-homenet
DESCRIPTION:Morning Session I\n
 \n
 Agenda https://datatracker.ietf.org/meeting/82/materials/agenda-82-homenet\n
 \n
 Session materials: https://datatracker.ietf.org/meeting/82/session/homenet\n
 \n
 See in schedule: https://datatracker.ietf.org/meeting/82/agenda#row-82-2011-11-15-tue-0900-int-homenet\n
END:VEVENT
BEGIN:VEVENT
UID:ietf-82-2249-multimob
SUMMARY:multimob - Multicast Mobility
LOCATION:101B
STATUS:CONFIRMED
CLASS:PUBLIC
DTSTART;TZID=Asia/Taipei:20111115T130000
DTEND;TZID=Asia/Taipei:20111115T150000
DTSTAMP:20161222T095707Z
URL:https://datatracker.ietf.org/meeting/82/materials/agenda-82-multimob
DESCRIPTION:Afternoon Session I\n
 \n
 Agenda https://datatracker.ietf.org/meeting/82/materials/agenda-82-multimob\n
 \n
 Session materials: https://datatracker.ietf.org/meeting/82/session/multimob\n
 \n
 See in schedule: https://datatracker.ietf.org/meeting/82/agenda#row-82-2011-11-15-tue-1300-int-multimob\n
END:VEVENT
BEGIN:VEVENT
UID:ietf-82-2296-trill
SUMMARY:trill - Transparent Interconnection of Lots of Links
LOCATION:102
STATUS:CONFIRMED
CLASS:PUBLIC
DTSTART;TZID=Asia/Taipei:20111115T130000
DTEND;TZID=Asia/Taipei:20111115T150000
DTSTAMP:20161222T095707Z
URL:https://datatracker.ietf.org/meeting/82/materials/agenda-82-trill
DESCRIPTION:Afternoon Session I\n
 \n
 Agenda https://datatracker.ietf.org/meeting/82/materials/agenda-82-trill\n
 \n
 Session materials: https://datatracker.ietf.org/meeting/82/session/trill\n
 \n
 See in schedule: https://datatracker.ietf.org/meeting/82/agenda#row-82-2011-11-15-tue-1300-int-trill\n
END:VEVENT
BEGIN:VEVENT
UID:ietf-82-2283-mif
SUMMARY:mif - Multiple Interfaces
LOCATION:201 ABC
STATUS:CONFIRMED
CLASS:PUBLIC
DTSTART;TZID=Asia/Taipei:20111115T152000
DTEND;TZID=Asia/Taipei:20111115T170000
DTSTAMP:20161222T095707Z
URL:https://datatracker.ietf.org/meeting/82/materials/agenda-82-mif
DESCRIPTION:Afternoon Session II\n
 \n
 Agenda https://datatracker.ietf.org/meeting/82/materials/agenda-82-mif\n
 \n
 Session materials: https://datatracker.ietf.org/meeting/82/session/mif\n
 \n
 See in schedule: https://datatracker.ietf.org/meeting/82/agenda#row-82-2011-11-15-tue-1520-int-mif\n
END:VEVENT
BEGIN:VEVENT
UID:ietf-82-2342-softwire
SUMMARY:softwire - Softwires
LOCATION:3F Banquet
STATUS:CONFIRMED
CLASS:PUBLIC
DTSTART;TZID=Asia/Taipei:20111115T152000
DTEND;TZID=Asia/Taipei:20111115T170000
DTSTAMP:20161222T095707Z
URL:https://datatracker.ietf.org/meeting/82/materials/agenda-82-softwire
DESCRIPTION:Afternoon Session II\n
 \n
 Agenda https://datatracker.ietf.org/meeting/82/materials/agenda-82-softwire\n
 \n
 Session materials: https://datatracker.ietf.org/meeting/82/session/softwire\n
 \n
 See in schedule: https://datatracker.ietf.org/meeting/82/agenda#row-82-2011-11-15-tue-1520-int-softwire\n
END:VEVENT
BEGIN:VEVENT
UID:ietf-82-2284-mif
SUMMARY:mif - Multiple Interfaces
LOCATION:201 ABC
STATUS:CONFIRMED
CLASS:PUBLIC
DTSTART;TZID=Asia/Taipei:20111115T171000
DTEND;TZID=Asia/Taipei:20111115T181000
DTSTAMP:20161222T095707Z
URL:https://datatracker.ietf.org/meeting/82/materials/agenda-82-mif
DESCRIPTION:Afternoon Session III\n
 \n
 Agenda https://datatracker.ietf.org/meeting/82/materials/agenda-82-mif\n
 \n
 Session materials: https://datatracker.ietf.org/meeting/82/session/mif\n
 \n
 See in schedule: https://datatracker.ietf.org/meeting/82/agenda#row-82-2011-11-15-tue-1710-int-mif\n
END:VEVENT
BEGIN:VEVENT
UID:ietf-82-2334-savi
SUMMARY:savi - Source Address Validation Improvements
LOCATION:101D
STATUS:CONFIRMED
CLASS:PUBLIC
DTSTART;TZID=Asia/Taipei:20111115T171000
DTEND;TZID=Asia/Taipei:20111115T181000
DTSTAMP:20161222T095707Z
URL:https://datatracker.ietf.org/meeting/82/materials/agenda-82-savi
DESCRIPTION:Afternoon Session III\n
 \n
 Agenda https://datatracker.ietf.org/meeting/82/materials/agenda-82-savi\n
 \n
 Session materials: https://datatracker.ietf.org/meeting/82/session/savi\n
 \n
 See in schedule: https://datatracker.ietf.org/meeting/82/agenda#row-82-2011-11-15-tue-1710-int-savi\n
END:VEVENT
BEGIN:VEVENT
UID:ietf-82-2257-netext
SUMMARY:netext - Network-Based Mobility Extensions
LOCATION:101B
STATUS:CONFIRMED
CLASS:PUBLIC
DTSTART;TZID=Asia/Taipei:20111116T090000
DTEND;TZID=Asia/Taipei:20111116T113000
DTSTAMP:20161222T095707Z
URL:https://datatracker.ietf.org/meeting/82/materials/agenda-82-netext
DESCRIPTION:Morning Session I\n
 \n
 Agenda https://datatracker.ietf.org/meeting/82/materials/agenda-82-netext\n
 \n
 Session materials: https://datatracker.ietf.org/meeting/82/session/netext\n
 \n
 See in schedule: https://datatracker.ietf.org/meeting/82/agenda#row-82-2011-11-16-wed-0900-int-netext\n
END:VEVENT
BEGIN:VEVENT
UID:ietf-82-2345-intarea
SUMMARY:intarea - Internet Area Working Group
LOCATION:201 DEF
STATUS:CONFIRMED
CLASS:PUBLIC
DTSTART;TZID=Asia/Taipei:20111116T130000
DTEND;TZID=Asia/Taipei:20111116T150000
DTSTAMP:20161222T095707Z
URL:https://datatracker.ietf.org/meeting/82/materials/agenda-82-intarea
DESCRIPTION:Afternoon Session I\n
 \n
 Agenda https://datatracker.ietf.org/meeting/82/materials/agenda-82-intarea\n
 \n
 Session materials: https://datatracker.ietf.org/meeting/82/session/intarea\n
 \n
 See in schedule: https://datatracker.ietf.org/meeting/82/agenda#row-82-2011-11-16-wed-1300-int-intarea\n
END:VEVENT
BEGIN:VEVENT
UID:ietf-82-2297-trill
SUMMARY:trill - Transparent Interconnection of Lots of Links
LOCATION:101B
STATUS:CONFIRMED
CLASS:PUBLIC
DTSTART;TZID=Asia/Taipei:20111116T151000
DTEND;TZID=Asia/Taipei:20111116T161000
DTSTAMP:20161222T095707Z
URL:https://datatracker.ietf.org/meeting/82/materials/agenda-82-trill
DESCRIPTION:Afternoon Session II\n
 \n
 Agenda https://datatracker.ietf.org/meeting/82/materials/agenda-82-trill\n
 \n
 Session materials: https://datatracker.ietf.org/meeting/82/session/trill\n
 \n
 See in schedule: https://datatracker.ietf.org/meeting/82/agenda#row-82-2011-11-16-wed-1510-int-trill\n
END:VEVENT
BEGIN:VEVENT
UID:ietf-82-2327-dhc
SUMMARY:dhc - Dynamic Host Configuration
LOCATION:102
STATUS:CONFIRMED
CLASS:PUBLIC
DTSTART;TZID=Asia/Taipei:20111117T090000
DTEND;TZID=Asia/Taipei:20111117T113000
DTSTAMP:20161222T095707Z
URL:https://datatracker.ietf.org/meeting/82/materials/agenda-82-dhc
DESCRIPTION:Morning Session I\n
 \n
 Agenda https://datatracker.ietf.org/meeting/82/materials/agenda-82-dhc\n
 \n
 Session materials: https://datatracker.ietf.org/meeting/82/session/dhc\n
 \n
 See in schedule: https://datatracker.ietf.org/meeting/82/agenda#row-82-2011-11-17-thu-0900-int-dhc\n
END:VEVENT
BEGIN:VEVENT
UID:ietf-82-2325-tictoc
SUMMARY:tictoc - Timing over IP Connection and Transfer of Clock
LOCATION:101A
STATUS:CONFIRMED
CLASS:PUBLIC
DTSTART;TZID=Asia/Taipei:20111117T130000
DTEND;TZID=Asia/Taipei:20111117T150000
DTSTAMP:20161222T095707Z
URL:https://datatracker.ietf.org/meeting/82/materials/agenda-82-tictoc
DESCRIPTION:Afternoon Session I\n
 \n
 Agenda https://datatracker.ietf.org/meeting/82/materials/agenda-82-tictoc\n
 \n
 Session materials: https://datatracker.ietf.org/meeting/82/session/tictoc\n
 \n
 See in schedule: https://datatracker.ietf.org/meeting/82/agenda#row-82-2011-11-17-thu-1300-int-tictoc\n
END:VEVENT
BEGIN:VEVENT
UID:ietf-82-2268-ancp
SUMMARY:ancp - Access Node Control Protocol (CANCELED)
LOCATION:101A
STATUS:CONFIRMED
CLASS:PUBLIC
DTSTART;TZID=Asia/Taipei:20111117T152000
DTEND;TZID=Asia/Taipei:20111117T172000
DTSTAMP:20161222T095707Z
DESCRIPTION:Afternoon Session II\n
 Note: CANCELED\n
 \n
 Session materials: https://datatracker.ietf.org/meeting/82/session/ancp\n
 \n
 See in schedule: https://datatracker.ietf.org/meeting/82/agenda#row-82-2011-11-17-thu-1520-int-ancp\n
END:VEVENT
BEGIN:VEVENT
UID:ietf-82-2352-lisp
SUMMARY:lisp - Locator/ID Separation Protocol (Canceled)
LOCATION:102
STATUS:CONFIRMED
CLASS:PUBLIC
DTSTART;TZID=Asia/Taipei:20111117T174000
DTEND;TZID=Asia/Taipei:20111117T194000
DTSTAMP:20161222T095707Z
DESCRIPTION:Afternoon Session III\n
 Note: Canceled\n
 \n
 Session materials: https://datatracker.ietf.org/meeting/82/session/lisp\n
 \n
 See in schedule: https://datatracker.ietf.org/meeting/82/agenda#row-82-2011-11-17-thu-1740-int-lisp\n
END:VEVENT
BEGIN:VEVENT
UID:ietf-82-2338-pcp
SUMMARY:pcp - Port Control Protocol
LOCATION:101B
STATUS:CONFIRMED
CLASS:PUBLIC
DTSTART;TZID=Asia/Taipei:20111118T090000
DTEND;TZID=Asia/Taipei:20111118T110000
DTSTAMP:20161222T095707Z
URL:https://datatracker.ietf.org/meeting/82/materials/agenda-82-pcp
DESCRIPTION:Morning Session I\n
 \n
 Agenda https://datatracker.ietf.org/meeting/82/materials/agenda-82-pcp\n
 \n
 Session materials: https://datatracker.ietf.org/meeting/82/session/pcp\n
 \n
 See in schedule: https://datatracker.ietf.org/meeting/82/agenda#row-82-2011-11-18-fri-0900-int-pcp\n
END:VEVENT
END:VCALENDAR
