BEGIN:VCALENDAR
VERSION:2.0
METHOD:PUBLISH
PRODID:-//IETF//datatracker.ietf.org ical agenda//EN
BEGIN:VTIMEZONE
TZID:Asia/Taipei
X-LIC-LOCATION:Asia/Taipei
BEGIN:STANDARD
TZOFFSETFROM:+0806
TZOFFSETTO:+0800
TZNAME:JWST
DTSTART:18960101T000000
RDATE:18960101T000000
END:STANDARD
BEGIN:STANDARD
TZOFFSETFROM:+0800
TZOFFSETTO:+0900
TZNAME:JST
DTSTART:19371001T000000
RDATE:19371001T000000
END:STANDARD
BEGIN:STANDARD
TZOFFSETFROM:+0900
TZOFFSETTO:+0800
TZNAME:CST
DTSTART:19450921T010000
RDATE:19450921T010000
RDATE:19461001T000000
RDATE:19471101T000000
RDATE:19481001T000000
RDATE:19491001T000000
RDATE:19501001T000000
RDATE:19511001T000000
RDATE:19521101T000000
RDATE:19531101T000000
RDATE:19541101T000000
RDATE:19551001T000000
RDATE:19561001T000000
RDATE:19571001T000000
RDATE:19581001T000000
RDATE:19591001T000000
RDATE:19601001T000000
RDATE:19611001T000000
RDATE:19741001T000000
RDATE:19751001T000000
RDATE:19791001T000000
END:STANDARD
BEGIN:DAYLIGHT
TZOFFSETFROM:+0800
TZOFFSETTO:+0900
TZNAME:CDT
DTSTART:19460515T000000
RDATE:19460515T000000
RDATE:19470415T000000
RDATE:19480501T000000
RDATE:19490501T000000
RDATE:19500501T000000
RDATE:19510501T000000
RDATE:19520301T000000
RDATE:19530401T000000
RDATE:19540401T000000
RDATE:19550401T000000
RDATE:19560401T000000
RDATE:19570401T000000
RDATE:19580401T000000
RDATE:19590401T000000
RDATE:19600601T000000
RDATE:19610601T000000
RDATE:19740401T000000
RDATE:19750401T000000
RDATE:19790701T000000
END:DAYLIGHT
END:VTIMEZONE
BEGIN:VEVENT
UID:ietf-82-2311-irtf
SUMMARY:irtf - IRTF
LOCATION:201 ABC
STATUS:CONFIRMED
CLASS:PUBLIC
DTSTART;TZID=Asia/Taipei:20111115T130000
DTEND;TZID=Asia/Taipei:20111115T150000
DTSTAMP:20161222T095707Z
URL:https://datatracker.ietf.org/meeting/82/materials/agenda-82-irtf
DESCRIPTION:Afternoon Session I\n
 \n
 Agenda https://datatracker.ietf.org/meeting/82/materials/agenda-82-irtf\n
 \n
 Session materials: https://datatracker.ietf.org/meeting/82/session/irtf\n
 \n
 See in schedule: https://datatracker.ietf.org/meeting/82/agenda#row-82-2011-11-15-tue-1300-irtf\n
END:VEVENT
BEGIN:VEVENT
UID:ietf-82-2273-hiprg
SUMMARY:hiprg - Host Identity Protocol
LOCATION:101D
STATUS:CONFIRMED
CLASS:PUBLIC
DTSTART;TZID=Asia/Taipei:20111117T090000
DTEND;TZID=Asia/Taipei:20111117T113000
DTSTAMP:20161222T095707Z
URL:https://datatracker.ietf.org/meeting/82/materials/agenda-82-hiprg
DESCRIPTION:Morning Session I\n
 \n
 Agenda https://datatracker.ietf.org/meeting/82/materials/agenda-82-hiprg\n
 \n
 Session materials: https://datatracker.ietf.org/meeting/82/session/hiprg\n
 \n
 See in schedule: https://datatracker.ietf.org/meeting/82/agenda#row-82-2011-11-17-thu-0900-irtf-hiprg\n
END:VEVENT
BEGIN:VEVENT
UID:ietf-82-2277-samrg
SUMMARY:samrg - Scalable Adaptive Multicast Research Group
LOCATION:101A
STATUS:CONFIRMED
CLASS:PUBLIC
DTSTART;TZID=Asia/Taipei:20111117T174000
DTEND;TZID=Asia/Taipei:20111117T194000
DTSTAMP:20161222T095707Z
URL:https://datatracker.ietf.org/meeting/82/materials/agenda-82-samrg
DESCRIPTION:Afternoon Session III\n
 \n
 Agenda https://datatracker.ietf.org/meeting/82/materials/agenda-82-samrg\n
 \n
 Session materials: https://datatracker.ietf.org/meeting/82/session/samrg\n
 \n
 See in schedule: https://datatracker.ietf.org/meeting/82/agenda#row-82-2011-11-17-thu-1740-irtf-samrg\n
END:VEVENT
END:VCALENDAR
