BEGIN:VCALENDAR
VERSION:2.0
METHOD:PUBLISH
PRODID:-//IETF//datatracker.ietf.org ical agenda//EN
BEGIN:VTIMEZONE
TZID:Asia/Taipei
X-LIC-LOCATION:Asia/Taipei
BEGIN:STANDARD
TZOFFSETFROM:+0806
TZOFFSETTO:+0800
TZNAME:JWST
DTSTART:18960101T000000
RDATE:18960101T000000
END:STANDARD
BEGIN:STANDARD
TZOFFSETFROM:+0800
TZOFFSETTO:+0900
TZNAME:JST
DTSTART:19371001T000000
RDATE:19371001T000000
END:STANDARD
BEGIN:STANDARD
TZOFFSETFROM:+0900
TZOFFSETTO:+0800
TZNAME:CST
DTSTART:19450921T010000
RDATE:19450921T010000
RDATE:19461001T000000
RDATE:19471101T000000
RDATE:19481001T000000
RDATE:19491001T000000
RDATE:19501001T000000
RDATE:19511001T000000
RDATE:19521101T000000
RDATE:19531101T000000
RDATE:19541101T000000
RDATE:19551001T000000
RDATE:19561001T000000
RDATE:19571001T000000
RDATE:19581001T000000
RDATE:19591001T000000
RDATE:19601001T000000
RDATE:19611001T000000
RDATE:19741001T000000
RDATE:19751001T000000
RDATE:19791001T000000
END:STANDARD
BEGIN:DAYLIGHT
TZOFFSETFROM:+0800
TZOFFSETTO:+0900
TZNAME:CDT
DTSTART:19460515T000000
RDATE:19460515T000000
RDATE:19470415T000000
RDATE:19480501T000000
RDATE:19490501T000000
RDATE:19500501T000000
RDATE:19510501T000000
RDATE:19520301T000000
RDATE:19530401T000000
RDATE:19540401T000000
RDATE:19550401T000000
RDATE:19560401T000000
RDATE:19570401T000000
RDATE:19580401T000000
RDATE:19590401T000000
RDATE:19600601T000000
RDATE:19610601T000000
RDATE:19740401T000000
RDATE:19750401T000000
RDATE:19790701T000000
END:DAYLIGHT
END:VTIMEZONE
BEGIN:VEVENT
UID:ietf-82-2250-bmwg
SUMMARY:bmwg - Benchmarking Methodology
LOCATION:101A
STATUS:CONFIRMED
CLASS:PUBLIC
DTSTART;TZID=Asia/Taipei:20111114T090000
DTEND;TZID=Asia/Taipei:20111114T113000
DTSTAMP:20161222T095707Z
URL:https://datatracker.ietf.org/meeting/82/materials/agenda-82-bmwg
DESCRIPTION:Morning Session I\n
 \n
 Agenda https://datatracker.ietf.org/meeting/82/materials/agenda-82-bmwg\n
 \n
 Session materials: https://datatracker.ietf.org/meeting/82/session/bmwg\n
 \n
 See in schedule: https://datatracker.ietf.org/meeting/82/agenda#row-82-2011-11-14-mon-0900-ops-bmwg\n
END:VEVENT
BEGIN:VEVENT
UID:ietf-82-2299-radext
SUMMARY:radext - RADIUS EXTensions
LOCATION:101D
STATUS:CONFIRMED
CLASS:PUBLIC
DTSTART;TZID=Asia/Taipei:20111114T090000
DTEND;TZID=Asia/Taipei:20111114T113000
DTSTAMP:20161222T095707Z
URL:https://datatracker.ietf.org/meeting/82/materials/agenda-82-radext
DESCRIPTION:Morning Session I\n
 \n
 Agenda https://datatracker.ietf.org/meeting/82/materials/agenda-82-radext\n
 \n
 Session materials: https://datatracker.ietf.org/meeting/82/session/radext\n
 \n
 See in schedule: https://datatracker.ietf.org/meeting/82/agenda#row-82-2011-11-14-mon-0900-ops-radext\n
END:VEVENT
BEGIN:VEVENT
UID:ietf-82-2293-opsec
SUMMARY:opsec - Operational Security Capabilities for IP Network Infrastructure
LOCATION:101A
STATUS:CONFIRMED
CLASS:PUBLIC
DTSTART;TZID=Asia/Taipei:20111114T151000
DTEND;TZID=Asia/Taipei:20111114T161000
DTSTAMP:20161222T095707Z
URL:https://datatracker.ietf.org/meeting/82/materials/agenda-82-opsec
DESCRIPTION:Afternoon Session II\n
 \n
 Agenda https://datatracker.ietf.org/meeting/82/materials/agenda-82-opsec\n
 \n
 Session materials: https://datatracker.ietf.org/meeting/82/session/opsec\n
 \n
 See in schedule: https://datatracker.ietf.org/meeting/82/agenda#row-82-2011-11-14-mon-1510-ops-opsec\n
END:VEVENT
BEGIN:VEVENT
UID:ietf-82-2274-opsarea
SUMMARY:opsarea - Operations & Management Area Open Meeting (Combined with OPSAWG)
LOCATION:102
STATUS:CONFIRMED
CLASS:PUBLIC
DTSTART;TZID=Asia/Taipei:20111115T090000
DTEND;TZID=Asia/Taipei:20111115T113000
DTSTAMP:20161222T095707Z
URL:https://datatracker.ietf.org/meeting/82/materials/agenda-82-opsarea
DESCRIPTION:Morning Session I\n
 Note: Combined with OPSAWG\n
 \n
 Agenda https://datatracker.ietf.org/meeting/82/materials/agenda-82-opsarea\n
 \n
 Session materials: https://datatracker.ietf.org/meeting/82/session/opsarea\n
 \n
 See in schedule: https://datatracker.ietf.org/meeting/82/agenda#row-82-2011-11-15-tue-0900-ops-opsarea\n
END:VEVENT
BEGIN:VEVENT
UID:ietf-82-2347-opsawg
SUMMARY:opsawg - Operations and Management Area Working Group (Combined with OPSAREA)
LOCATION:102
STATUS:CONFIRMED
CLASS:PUBLIC
DTSTART;TZID=Asia/Taipei:20111115T090000
DTEND;TZID=Asia/Taipei:20111115T113000
DTSTAMP:20161222T095707Z
URL:https://datatracker.ietf.org/meeting/82/materials/agenda-82-opsawg
DESCRIPTION:Morning Session I\n
 Note: Combined with OPSAREA\n
 \n
 Agenda https://datatracker.ietf.org/meeting/82/materials/agenda-82-opsawg\n
 \n
 Session materials: https://datatracker.ietf.org/meeting/82/session/opsawg\n
 \n
 See in schedule: https://datatracker.ietf.org/meeting/82/agenda#row-82-2011-11-15-tue-0900-ops-opsawg\n
END:VEVENT
BEGIN:VEVENT
UID:ietf-82-2340-netmod
SUMMARY:netmod - NETCONF Data Modeling Language (Room changed FROM 101C)
LOCATION:101A
STATUS:CONFIRMED
CLASS:PUBLIC
DTSTART;TZID=Asia/Taipei:20111115T130000
DTEND;TZID=Asia/Taipei:20111115T150000
DTSTAMP:20161222T095707Z
URL:https://datatracker.ietf.org/meeting/82/materials/agenda-82-netmod
DESCRIPTION:Afternoon Session I\n
 Note: Room changed FROM 101C\n
 \n
 Agenda https://datatracker.ietf.org/meeting/82/materials/agenda-82-netmod\n
 \n
 Session materials: https://datatracker.ietf.org/meeting/82/session/netmod\n
 \n
 See in schedule: https://datatracker.ietf.org/meeting/82/agenda#row-82-2011-11-15-tue-1300-ops-netmod\n
END:VEVENT
BEGIN:VEVENT
UID:ietf-82-2318-armd
SUMMARY:armd - Address Resolution for Massive numbers of hosts in the Data center
LOCATION:101B
STATUS:CONFIRMED
CLASS:PUBLIC
DTSTART;TZID=Asia/Taipei:20111115T171000
DTEND;TZID=Asia/Taipei:20111115T181000
DTSTAMP:20161222T095707Z
URL:https://datatracker.ietf.org/meeting/82/materials/agenda-82-armd
DESCRIPTION:Afternoon Session III\n
 \n
 Agenda https://datatracker.ietf.org/meeting/82/materials/agenda-82-armd\n
 \n
 Session materials: https://datatracker.ietf.org/meeting/82/session/armd\n
 \n
 See in schedule: https://datatracker.ietf.org/meeting/82/agenda#row-82-2011-11-15-tue-1710-ops-armd\n
END:VEVENT
BEGIN:VEVENT
UID:ietf-82-2275-netconf
SUMMARY:netconf - Network Configuration
LOCATION:101A
STATUS:CONFIRMED
CLASS:PUBLIC
DTSTART;TZID=Asia/Taipei:20111115T171000
DTEND;TZID=Asia/Taipei:20111115T181000
DTSTAMP:20161222T095707Z
URL:https://datatracker.ietf.org/meeting/82/materials/agenda-82-netconf
DESCRIPTION:Afternoon Session III\n
 \n
 Agenda https://datatracker.ietf.org/meeting/82/materials/agenda-82-netconf\n
 \n
 Session materials: https://datatracker.ietf.org/meeting/82/session/netconf\n
 \n
 See in schedule: https://datatracker.ietf.org/meeting/82/agenda#row-82-2011-11-15-tue-1710-ops-netconf\n
END:VEVENT
BEGIN:VEVENT
UID:ietf-82-2363-v6ops
SUMMARY:v6ops - IPv6 Operations
LOCATION:201 DEF
STATUS:CONFIRMED
CLASS:PUBLIC
DTSTART;TZID=Asia/Taipei:20111116T090000
DTEND;TZID=Asia/Taipei:20111116T113000
DTSTAMP:20161222T095707Z
URL:https://datatracker.ietf.org/meeting/82/materials/agenda-82-v6ops
DESCRIPTION:Morning Session I\n
 \n
 Agenda https://datatracker.ietf.org/meeting/82/materials/agenda-82-v6ops\n
 \n
 Session materials: https://datatracker.ietf.org/meeting/82/session/v6ops\n
 \n
 See in schedule: https://datatracker.ietf.org/meeting/82/agenda#row-82-2011-11-16-wed-0900-ops-v6ops\n
END:VEVENT
BEGIN:VEVENT
UID:ietf-82-2319-eman
SUMMARY:eman - Energy Management
LOCATION:101B
STATUS:CONFIRMED
CLASS:PUBLIC
DTSTART;TZID=Asia/Taipei:20111116T130000
DTEND;TZID=Asia/Taipei:20111116T150000
DTSTAMP:20161222T095707Z
URL:https://datatracker.ietf.org/meeting/82/materials/agenda-82-eman
DESCRIPTION:Afternoon Session I\n
 \n
 Agenda https://datatracker.ietf.org/meeting/82/materials/agenda-82-eman\n
 \n
 Session materials: https://datatracker.ietf.org/meeting/82/session/eman\n
 \n
 See in schedule: https://datatracker.ietf.org/meeting/82/agenda#row-82-2011-11-16-wed-1300-ops-eman\n
END:VEVENT
BEGIN:VEVENT
UID:ietf-82-2281-mboned
SUMMARY:mboned - MBONE Deployment
LOCATION:101B
STATUS:CONFIRMED
CLASS:PUBLIC
DTSTART;TZID=Asia/Taipei:20111117T090000
DTEND;TZID=Asia/Taipei:20111117T113000
DTSTAMP:20161222T095707Z
URL:https://datatracker.ietf.org/meeting/82/materials/agenda-82-mboned
DESCRIPTION:Morning Session I\n
 \n
 Agenda https://datatracker.ietf.org/meeting/82/materials/agenda-82-mboned\n
 \n
 Session materials: https://datatracker.ietf.org/meeting/82/session/mboned\n
 \n
 See in schedule: https://datatracker.ietf.org/meeting/82/agenda#row-82-2011-11-17-thu-0900-ops-mboned\n
END:VEVENT
BEGIN:VEVENT
UID:ietf-82-2364-v6ops
SUMMARY:v6ops - IPv6 Operations
LOCATION:201 DEF
STATUS:CONFIRMED
CLASS:PUBLIC
DTSTART;TZID=Asia/Taipei:20111117T130000
DTEND;TZID=Asia/Taipei:20111117T150000
DTSTAMP:20161222T095707Z
URL:https://datatracker.ietf.org/meeting/82/materials/agenda-82-v6ops
DESCRIPTION:Afternoon Session I\n
 \n
 Agenda https://datatracker.ietf.org/meeting/82/materials/agenda-82-v6ops\n
 \n
 Session materials: https://datatracker.ietf.org/meeting/82/session/v6ops\n
 \n
 See in schedule: https://datatracker.ietf.org/meeting/82/agenda#row-82-2011-11-17-thu-1300-ops-v6ops\n
END:VEVENT
BEGIN:VEVENT
UID:ietf-82-2329-grow
SUMMARY:grow - Global Routing Operations
LOCATION:102
STATUS:CONFIRMED
CLASS:PUBLIC
DTSTART;TZID=Asia/Taipei:20111117T152000
DTEND;TZID=Asia/Taipei:20111117T172000
DTSTAMP:20161222T095707Z
URL:https://datatracker.ietf.org/meeting/82/materials/agenda-82-grow
DESCRIPTION:Afternoon Session II\n
 \n
 Agenda https://datatracker.ietf.org/meeting/82/materials/agenda-82-grow\n
 \n
 Session materials: https://datatracker.ietf.org/meeting/82/session/grow\n
 \n
 See in schedule: https://datatracker.ietf.org/meeting/82/agenda#row-82-2011-11-17-thu-1520-ops-grow\n
END:VEVENT
BEGIN:VEVENT
UID:ietf-82-2272-ipfix
SUMMARY:ipfix - IP Flow Information Export
LOCATION:101B
STATUS:CONFIRMED
CLASS:PUBLIC
DTSTART;TZID=Asia/Taipei:20111117T152000
DTEND;TZID=Asia/Taipei:20111117T172000
DTSTAMP:20161222T095707Z
URL:https://datatracker.ietf.org/meeting/82/materials/agenda-82-ipfix
DESCRIPTION:Afternoon Session II\n
 \n
 Agenda https://datatracker.ietf.org/meeting/82/materials/agenda-82-ipfix\n
 \n
 Session materials: https://datatracker.ietf.org/meeting/82/session/ipfix\n
 \n
 See in schedule: https://datatracker.ietf.org/meeting/82/agenda#row-82-2011-11-17-thu-1520-ops-ipfix\n
END:VEVENT
BEGIN:VEVENT
UID:ietf-82-2291-dime
SUMMARY:dime - Diameter Maintenance and Extensions
LOCATION:101D
STATUS:CONFIRMED
CLASS:PUBLIC
DTSTART;TZID=Asia/Taipei:20111117T174000
DTEND;TZID=Asia/Taipei:20111117T194000
DTSTAMP:20161222T095707Z
URL:https://datatracker.ietf.org/meeting/82/materials/agenda-82-dime
DESCRIPTION:Afternoon Session III\n
 \n
 Agenda https://datatracker.ietf.org/meeting/82/materials/agenda-82-dime\n
 \n
 Session materials: https://datatracker.ietf.org/meeting/82/session/dime\n
 \n
 See in schedule: https://datatracker.ietf.org/meeting/82/agenda#row-82-2011-11-17-thu-1740-ops-dime\n
END:VEVENT
BEGIN:VEVENT
UID:ietf-82-2343-multrans
SUMMARY:multrans - Multicast Transition 
LOCATION:201 ABC
STATUS:CONFIRMED
CLASS:PUBLIC
DTSTART;TZID=Asia/Taipei:20111117T174000
DTEND;TZID=Asia/Taipei:20111117T194000
DTSTAMP:20161222T095707Z
URL:https://datatracker.ietf.org/meeting/82/materials/agenda-82-multrans
DESCRIPTION:Afternoon Session III\n
 \n
 Agenda https://datatracker.ietf.org/meeting/82/materials/agenda-82-multrans\n
 \n
 Session materials: https://datatracker.ietf.org/meeting/82/session/multrans\n
 \n
 See in schedule: https://datatracker.ietf.org/meeting/82/agenda#row-82-2011-11-17-thu-1740-ops-multrans\n
END:VEVENT
BEGIN:VEVENT
UID:ietf-82-2270-6renum
SUMMARY:6renum - IPv6 Site Renumbering
LOCATION:201 DEF
STATUS:CONFIRMED
CLASS:PUBLIC
DTSTART;TZID=Asia/Taipei:20111118T112000
DTEND;TZID=Asia/Taipei:20111118T122000
DTSTAMP:20161222T095707Z
URL:https://datatracker.ietf.org/meeting/82/materials/agenda-82-6renum
DESCRIPTION:Afternoon Session I\n
 \n
 Agenda https://datatracker.ietf.org/meeting/82/materials/agenda-82-6renum\n
 \n
 Session materials: https://datatracker.ietf.org/meeting/82/session/6renum\n
 \n
 See in schedule: https://datatracker.ietf.org/meeting/82/agenda#row-82-2011-11-18-fri-1120-ops-6renum\n
END:VEVENT
BEGIN:VEVENT
UID:ietf-82-2271-6renum
SUMMARY:6renum - IPv6 Site Renumbering
LOCATION:201 DEF
STATUS:CONFIRMED
CLASS:PUBLIC
DTSTART;TZID=Asia/Taipei:20111118T123000
DTEND;TZID=Asia/Taipei:20111118T133000
DTSTAMP:20161222T095707Z
URL:https://datatracker.ietf.org/meeting/82/materials/agenda-82-6renum
DESCRIPTION:Afternoon Session II\n
 \n
 Agenda https://datatracker.ietf.org/meeting/82/materials/agenda-82-6renum\n
 \n
 Session materials: https://datatracker.ietf.org/meeting/82/session/6renum\n
 \n
 See in schedule: https://datatracker.ietf.org/meeting/82/agenda#row-82-2011-11-18-fri-1230-ops-6renum\n
END:VEVENT
END:VCALENDAR
