BEGIN:VCALENDAR
VERSION:2.0
METHOD:PUBLISH
PRODID:-//IETF//datatracker.ietf.org ical agenda//EN
BEGIN:VTIMEZONE
TZID:Asia/Taipei
X-LIC-LOCATION:Asia/Taipei
BEGIN:STANDARD
TZOFFSETFROM:+0806
TZOFFSETTO:+0800
TZNAME:JWST
DTSTART:18960101T000000
RDATE:18960101T000000
END:STANDARD
BEGIN:STANDARD
TZOFFSETFROM:+0800
TZOFFSETTO:+0900
TZNAME:JST
DTSTART:19371001T000000
RDATE:19371001T000000
END:STANDARD
BEGIN:STANDARD
TZOFFSETFROM:+0900
TZOFFSETTO:+0800
TZNAME:CST
DTSTART:19450921T010000
RDATE:19450921T010000
RDATE:19461001T000000
RDATE:19471101T000000
RDATE:19481001T000000
RDATE:19491001T000000
RDATE:19501001T000000
RDATE:19511001T000000
RDATE:19521101T000000
RDATE:19531101T000000
RDATE:19541101T000000
RDATE:19551001T000000
RDATE:19561001T000000
RDATE:19571001T000000
RDATE:19581001T000000
RDATE:19591001T000000
RDATE:19601001T000000
RDATE:19611001T000000
RDATE:19741001T000000
RDATE:19751001T000000
RDATE:19791001T000000
END:STANDARD
BEGIN:DAYLIGHT
TZOFFSETFROM:+0800
TZOFFSETTO:+0900
TZNAME:CDT
DTSTART:19460515T000000
RDATE:19460515T000000
RDATE:19470415T000000
RDATE:19480501T000000
RDATE:19490501T000000
RDATE:19500501T000000
RDATE:19510501T000000
RDATE:19520301T000000
RDATE:19530401T000000
RDATE:19540401T000000
RDATE:19550401T000000
RDATE:19560401T000000
RDATE:19570401T000000
RDATE:19580401T000000
RDATE:19590401T000000
RDATE:19600601T000000
RDATE:19610601T000000
RDATE:19740401T000000
RDATE:19750401T000000
RDATE:19790701T000000
END:DAYLIGHT
END:VTIMEZONE
BEGIN:VEVENT
UID:ietf-82-2290-clue
SUMMARY:clue - ControLling mUltiple streams for tElepresence
LOCATION:201 ABC
STATUS:CONFIRMED
CLASS:PUBLIC
DTSTART;TZID=Asia/Taipei:20111114T090000
DTEND;TZID=Asia/Taipei:20111114T113000
DTSTAMP:20161222T095707Z
URL:https://datatracker.ietf.org/meeting/82/materials/agenda-82-clue
DESCRIPTION:Morning Session I\n
 \n
 Agenda https://datatracker.ietf.org/meeting/82/materials/agenda-82-clue\n
 \n
 Session materials: https://datatracker.ietf.org/meeting/82/session/clue\n
 \n
 See in schedule: https://datatracker.ietf.org/meeting/82/agenda#row-82-2011-11-14-mon-0900-rai-clue\n
END:VEVENT
BEGIN:VEVENT
UID:ietf-82-2248-avtcore
SUMMARY:avtcore - Audio/Video Transport Core Maintenance
LOCATION:101C
STATUS:CONFIRMED
CLASS:PUBLIC
DTSTART;TZID=Asia/Taipei:20111114T130000
DTEND;TZID=Asia/Taipei:20111114T150000
DTSTAMP:20161222T095707Z
URL:https://datatracker.ietf.org/meeting/82/materials/agenda-82-avtcore
DESCRIPTION:Afternoon Session I\n
 \n
 Agenda https://datatracker.ietf.org/meeting/82/materials/agenda-82-avtcore\n
 \n
 Session materials: https://datatracker.ietf.org/meeting/82/session/avtcore\n
 \n
 See in schedule: https://datatracker.ietf.org/meeting/82/agenda#row-82-2011-11-14-mon-1300-rai-avtcore\n
END:VEVENT
BEGIN:VEVENT
UID:ietf-82-2314-cuss
SUMMARY:cuss - Call Control UUI Service for SIP (CANCELED)
LOCATION:102
STATUS:CONFIRMED
CLASS:PUBLIC
DTSTART;TZID=Asia/Taipei:20111114T151000
DTEND;TZID=Asia/Taipei:20111114T161000
DTSTAMP:20161222T095707Z
DESCRIPTION:Afternoon Session II\n
 Note: CANCELED\n
 \n
 Session materials: https://datatracker.ietf.org/meeting/82/session/cuss\n
 \n
 See in schedule: https://datatracker.ietf.org/meeting/82/agenda#row-82-2011-11-14-mon-1510-rai-cuss\n
END:VEVENT
BEGIN:VEVENT
UID:ietf-82-2354-dcon
SUMMARY:dcon - Distributed Conferencing (Room changed FROM 3F Banquet)
LOCATION:102
STATUS:CONFIRMED
CLASS:PUBLIC
DTSTART;TZID=Asia/Taipei:20111114T151000
DTEND;TZID=Asia/Taipei:20111114T161000
DTSTAMP:20161222T095707Z
URL:https://datatracker.ietf.org/meeting/82/materials/agenda-82-dcon
DESCRIPTION:Afternoon Session II\n
 Note: Room changed FROM 3F Banquet\n
 \n
 Agenda https://datatracker.ietf.org/meeting/82/materials/agenda-82-dcon\n
 \n
 Session materials: https://datatracker.ietf.org/meeting/82/session/dcon\n
 \n
 See in schedule: https://datatracker.ietf.org/meeting/82/agenda#row-82-2011-11-14-mon-1510-rai-dcon\n
END:VEVENT
BEGIN:VEVENT
UID:ietf-82-2261-rtcweb
SUMMARY:rtcweb - Real-Time Communication in WEB-browsers
LOCATION:201 ABC
STATUS:CONFIRMED
CLASS:PUBLIC
DTSTART;TZID=Asia/Taipei:20111115T090000
DTEND;TZID=Asia/Taipei:20111115T113000
DTSTAMP:20161222T095707Z
URL:https://datatracker.ietf.org/meeting/82/materials/agenda-82-rtcweb
DESCRIPTION:Morning Session I\n
 \n
 Agenda https://datatracker.ietf.org/meeting/82/materials/agenda-82-rtcweb\n
 \n
 Session materials: https://datatracker.ietf.org/meeting/82/session/rtcweb\n
 \n
 See in schedule: https://datatracker.ietf.org/meeting/82/agenda#row-82-2011-11-15-tue-0900-rai-rtcweb\n
END:VEVENT
BEGIN:VEVENT
UID:ietf-82-2269-dispatch
SUMMARY:dispatch - Dispatch
LOCATION:201 DEF
STATUS:CONFIRMED
CLASS:PUBLIC
DTSTART;TZID=Asia/Taipei:20111115T130000
DTEND;TZID=Asia/Taipei:20111115T150000
DTSTAMP:20161222T095707Z
URL:https://datatracker.ietf.org/meeting/82/materials/agenda-82-dispatch
DESCRIPTION:Afternoon Session I\n
 \n
 Agenda https://datatracker.ietf.org/meeting/82/materials/agenda-82-dispatch\n
 \n
 Session materials: https://datatracker.ietf.org/meeting/82/session/dispatch\n
 \n
 See in schedule: https://datatracker.ietf.org/meeting/82/agenda#row-82-2011-11-15-tue-1300-rai-dispatch\n
END:VEVENT
BEGIN:VEVENT
UID:ietf-82-2276-xrblock
SUMMARY:xrblock - Metric Blocks for use with RTCP's Extended Report Framework
LOCATION:101B
STATUS:CONFIRMED
CLASS:PUBLIC
DTSTART;TZID=Asia/Taipei:20111115T152000
DTEND;TZID=Asia/Taipei:20111115T170000
DTSTAMP:20161222T095707Z
URL:https://datatracker.ietf.org/meeting/82/materials/agenda-82-xrblock
DESCRIPTION:Afternoon Session II\n
 \n
 Agenda https://datatracker.ietf.org/meeting/82/materials/agenda-82-xrblock\n
 \n
 Session materials: https://datatracker.ietf.org/meeting/82/session/xrblock\n
 \n
 See in schedule: https://datatracker.ietf.org/meeting/82/agenda#row-82-2011-11-15-tue-1520-rai-xrblock\n
END:VEVENT
BEGIN:VEVENT
UID:ietf-82-2279-geopriv
SUMMARY:geopriv - Geographic Location/Privacy
LOCATION:101C
STATUS:CONFIRMED
CLASS:PUBLIC
DTSTART;TZID=Asia/Taipei:20111115T152000
DTEND;TZID=Asia/Taipei:20111115T170000
DTSTAMP:20161222T095707Z
URL:https://datatracker.ietf.org/meeting/82/materials/agenda-82-geopriv
DESCRIPTION:Afternoon Session II\n
 \n
 Agenda https://datatracker.ietf.org/meeting/82/materials/agenda-82-geopriv\n
 \n
 Session materials: https://datatracker.ietf.org/meeting/82/session/geopriv\n
 \n
 See in schedule: https://datatracker.ietf.org/meeting/82/agenda#row-82-2011-11-15-tue-1520-rai-geopriv\n
END:VEVENT
BEGIN:VEVENT
UID:ietf-82-2255-sipcore
SUMMARY:sipcore - Session Initiation Protocol Core
LOCATION:102
STATUS:CONFIRMED
CLASS:PUBLIC
DTSTART;TZID=Asia/Taipei:20111115T171000
DTEND;TZID=Asia/Taipei:20111115T181000
DTSTAMP:20161222T095707Z
URL:https://datatracker.ietf.org/meeting/82/materials/agenda-82-sipcore
DESCRIPTION:Afternoon Session III\n
 \n
 Agenda https://datatracker.ietf.org/meeting/82/materials/agenda-82-sipcore\n
 \n
 Session materials: https://datatracker.ietf.org/meeting/82/session/sipcore\n
 \n
 See in schedule: https://datatracker.ietf.org/meeting/82/agenda#row-82-2011-11-15-tue-1710-rai-sipcore\n
END:VEVENT
BEGIN:VEVENT
UID:ietf-82-2358-bfcpbis
SUMMARY:bfcpbis - Binary Floor Control Protocol Bis  (Combined with ECRIT)
LOCATION:3F Banquet
STATUS:CONFIRMED
CLASS:PUBLIC
DTSTART;TZID=Asia/Taipei:20111116T090000
DTEND;TZID=Asia/Taipei:20111116T113000
DTSTAMP:20161222T095707Z
URL:https://datatracker.ietf.org/meeting/82/materials/agenda-82-bfcpbis
DESCRIPTION:Morning Session I\n
 Note: Combined with ECRIT\n
 \n
 Agenda https://datatracker.ietf.org/meeting/82/materials/agenda-82-bfcpbis\n
 \n
 Session materials: https://datatracker.ietf.org/meeting/82/session/bfcpbis\n
 \n
 See in schedule: https://datatracker.ietf.org/meeting/82/agenda#row-82-2011-11-16-wed-0900-rai-bfcpbis\n
END:VEVENT
BEGIN:VEVENT
UID:ietf-82-2280-ecrit
SUMMARY:ecrit - Emergency Context Resolution with Internet Technologies (Combined with BFCPBIS)
LOCATION:3F Banquet
STATUS:CONFIRMED
CLASS:PUBLIC
DTSTART;TZID=Asia/Taipei:20111116T090000
DTEND;TZID=Asia/Taipei:20111116T113000
DTSTAMP:20161222T095707Z
URL:https://datatracker.ietf.org/meeting/82/materials/agenda-82-ecrit
DESCRIPTION:Morning Session I\n
 Note: Combined with BFCPBIS\n
 \n
 Agenda https://datatracker.ietf.org/meeting/82/materials/agenda-82-ecrit\n
 \n
 Session materials: https://datatracker.ietf.org/meeting/82/session/ecrit\n
 \n
 See in schedule: https://datatracker.ietf.org/meeting/82/agenda#row-82-2011-11-16-wed-0900-rai-ecrit\n
END:VEVENT
BEGIN:VEVENT
UID:ietf-82-2306-codec
SUMMARY:codec - Internet Wideband Audio Codec
LOCATION:101C
STATUS:CONFIRMED
CLASS:PUBLIC
DTSTART;TZID=Asia/Taipei:20111116T130000
DTEND;TZID=Asia/Taipei:20111116T150000
DTSTAMP:20161222T095707Z
URL:https://datatracker.ietf.org/meeting/82/materials/agenda-82-codec
DESCRIPTION:Afternoon Session I\n
 \n
 Agenda https://datatracker.ietf.org/meeting/82/materials/agenda-82-codec\n
 \n
 Session materials: https://datatracker.ietf.org/meeting/82/session/codec\n
 \n
 See in schedule: https://datatracker.ietf.org/meeting/82/agenda#row-82-2011-11-16-wed-1300-rai-codec\n
END:VEVENT
BEGIN:VEVENT
UID:ietf-82-2294-avtext
SUMMARY:avtext - Audio/Video Transport Extensions
LOCATION:101C
STATUS:CONFIRMED
CLASS:PUBLIC
DTSTART;TZID=Asia/Taipei:20111116T151000
DTEND;TZID=Asia/Taipei:20111116T161000
DTSTAMP:20161222T095707Z
URL:https://datatracker.ietf.org/meeting/82/materials/agenda-82-avtext
DESCRIPTION:Afternoon Session II\n
 \n
 Agenda https://datatracker.ietf.org/meeting/82/materials/agenda-82-avtext\n
 \n
 Session materials: https://datatracker.ietf.org/meeting/82/session/avtext\n
 \n
 See in schedule: https://datatracker.ietf.org/meeting/82/agenda#row-82-2011-11-16-wed-1510-rai-avtext\n
END:VEVENT
BEGIN:VEVENT
UID:ietf-82-2262-rtcweb
SUMMARY:rtcweb - Real-Time Communication in WEB-browsers
LOCATION:201 ABC
STATUS:CONFIRMED
CLASS:PUBLIC
DTSTART;TZID=Asia/Taipei:20111117T090000
DTEND;TZID=Asia/Taipei:20111117T113000
DTSTAMP:20161222T095707Z
URL:https://datatracker.ietf.org/meeting/82/materials/agenda-82-rtcweb
DESCRIPTION:Morning Session I\n
 \n
 Agenda https://datatracker.ietf.org/meeting/82/materials/agenda-82-rtcweb\n
 \n
 Session materials: https://datatracker.ietf.org/meeting/82/session/rtcweb\n
 \n
 See in schedule: https://datatracker.ietf.org/meeting/82/agenda#row-82-2011-11-17-thu-0900-rai-rtcweb\n
END:VEVENT
BEGIN:VEVENT
UID:ietf-82-2302-p2psip
SUMMARY:p2psip - Peer-to-Peer Session Initiation Protocol
LOCATION:102
STATUS:CONFIRMED
CLASS:PUBLIC
DTSTART;TZID=Asia/Taipei:20111117T130000
DTEND;TZID=Asia/Taipei:20111117T150000
DTSTAMP:20161222T095707Z
URL:https://datatracker.ietf.org/meeting/82/materials/agenda-82-p2psip
DESCRIPTION:Afternoon Session I\n
 \n
 Agenda https://datatracker.ietf.org/meeting/82/materials/agenda-82-p2psip\n
 \n
 Session materials: https://datatracker.ietf.org/meeting/82/session/p2psip\n
 \n
 See in schedule: https://datatracker.ietf.org/meeting/82/agenda#row-82-2011-11-17-thu-1300-rai-p2psip\n
END:VEVENT
BEGIN:VEVENT
UID:ietf-82-2298-siprec
SUMMARY:siprec - SIP Recording
LOCATION:101C
STATUS:CONFIRMED
CLASS:PUBLIC
DTSTART;TZID=Asia/Taipei:20111117T152000
DTEND;TZID=Asia/Taipei:20111117T172000
DTSTAMP:20161222T095707Z
URL:https://datatracker.ietf.org/meeting/82/materials/agenda-82-siprec
DESCRIPTION:Afternoon Session II\n
 \n
 Agenda https://datatracker.ietf.org/meeting/82/materials/agenda-82-siprec\n
 \n
 Session materials: https://datatracker.ietf.org/meeting/82/session/siprec\n
 \n
 See in schedule: https://datatracker.ietf.org/meeting/82/agenda#row-82-2011-11-17-thu-1520-rai-siprec\n
END:VEVENT
BEGIN:VEVENT
UID:ietf-82-2339-vipr
SUMMARY:vipr - Verification Involving PSTN Reachability
LOCATION:101B
STATUS:CONFIRMED
CLASS:PUBLIC
DTSTART;TZID=Asia/Taipei:20111117T174000
DTEND;TZID=Asia/Taipei:20111117T194000
DTSTAMP:20161222T095707Z
URL:https://datatracker.ietf.org/meeting/82/materials/agenda-82-vipr
DESCRIPTION:Afternoon Session III\n
 \n
 Agenda https://datatracker.ietf.org/meeting/82/materials/agenda-82-vipr\n
 \n
 Session materials: https://datatracker.ietf.org/meeting/82/session/vipr\n
 \n
 See in schedule: https://datatracker.ietf.org/meeting/82/agenda#row-82-2011-11-17-thu-1740-rai-vipr\n
END:VEVENT
BEGIN:VEVENT
UID:ietf-82-2321-mmusic
SUMMARY:mmusic - Multiparty Multimedia Session Control
LOCATION:101C
STATUS:CONFIRMED
CLASS:PUBLIC
DTSTART;TZID=Asia/Taipei:20111118T090000
DTEND;TZID=Asia/Taipei:20111118T110000
DTSTAMP:20161222T095707Z
URL:https://datatracker.ietf.org/meeting/82/materials/agenda-82-mmusic
DESCRIPTION:Morning Session I\n
 \n
 Agenda https://datatracker.ietf.org/meeting/82/materials/agenda-82-mmusic\n
 \n
 Session materials: https://datatracker.ietf.org/meeting/82/session/mmusic\n
 \n
 See in schedule: https://datatracker.ietf.org/meeting/82/agenda#row-82-2011-11-18-fri-0900-rai-mmusic\n
END:VEVENT
BEGIN:VEVENT
UID:ietf-82-2330-drinks
SUMMARY:drinks - Data for Reachability of Inter/tra-NetworK SIP
LOCATION:101C
STATUS:CONFIRMED
CLASS:PUBLIC
DTSTART;TZID=Asia/Taipei:20111118T112000
DTEND;TZID=Asia/Taipei:20111118T122000
DTSTAMP:20161222T095707Z
URL:https://datatracker.ietf.org/meeting/82/materials/agenda-82-drinks
DESCRIPTION:Afternoon Session I\n
 \n
 Agenda https://datatracker.ietf.org/meeting/82/materials/agenda-82-drinks\n
 \n
 Session materials: https://datatracker.ietf.org/meeting/82/session/drinks\n
 \n
 See in schedule: https://datatracker.ietf.org/meeting/82/agenda#row-82-2011-11-18-fri-1120-rai-drinks\n
END:VEVENT
BEGIN:VEVENT
UID:ietf-82-2344-atoca
SUMMARY:atoca - Authority-to-Citizen Alert
LOCATION:102
STATUS:CONFIRMED
CLASS:PUBLIC
DTSTART;TZID=Asia/Taipei:20111118T112000
DTEND;TZID=Asia/Taipei:20111118T122000
DTSTAMP:20161222T095707Z
URL:https://datatracker.ietf.org/meeting/82/materials/agenda-82-atoca
DESCRIPTION:Afternoon Session I\n
 \n
 Agenda https://datatracker.ietf.org/meeting/82/materials/agenda-82-atoca\n
 \n
 Session materials: https://datatracker.ietf.org/meeting/82/session/atoca\n
 \n
 See in schedule: https://datatracker.ietf.org/meeting/82/agenda#row-82-2011-11-18-fri-1120-rai-atoca\n
END:VEVENT
BEGIN:VEVENT
UID:ietf-82-2331-drinks
SUMMARY:drinks - Data for Reachability of Inter/tra-NetworK SIP
LOCATION:101C
STATUS:CONFIRMED
CLASS:PUBLIC
DTSTART;TZID=Asia/Taipei:20111118T123000
DTEND;TZID=Asia/Taipei:20111118T133000
DTSTAMP:20161222T095707Z
URL:https://datatracker.ietf.org/meeting/82/materials/agenda-82-drinks
DESCRIPTION:Afternoon Session II\n
 \n
 Agenda https://datatracker.ietf.org/meeting/82/materials/agenda-82-drinks\n
 \n
 Session materials: https://datatracker.ietf.org/meeting/82/session/drinks\n
 \n
 See in schedule: https://datatracker.ietf.org/meeting/82/agenda#row-82-2011-11-18-fri-1230-rai-drinks\n
END:VEVENT
END:VCALENDAR
