BEGIN:VCALENDAR
VERSION:2.0
METHOD:PUBLISH
PRODID:-//IETF//datatracker.ietf.org ical agenda//EN
BEGIN:VTIMEZONE
TZID:Asia/Taipei
X-LIC-LOCATION:Asia/Taipei
BEGIN:STANDARD
TZOFFSETFROM:+0806
TZOFFSETTO:+0800
TZNAME:JWST
DTSTART:18960101T000000
RDATE:18960101T000000
END:STANDARD
BEGIN:STANDARD
TZOFFSETFROM:+0800
TZOFFSETTO:+0900
TZNAME:JST
DTSTART:19371001T000000
RDATE:19371001T000000
END:STANDARD
BEGIN:STANDARD
TZOFFSETFROM:+0900
TZOFFSETTO:+0800
TZNAME:CST
DTSTART:19450921T010000
RDATE:19450921T010000
RDATE:19461001T000000
RDATE:19471101T000000
RDATE:19481001T000000
RDATE:19491001T000000
RDATE:19501001T000000
RDATE:19511001T000000
RDATE:19521101T000000
RDATE:19531101T000000
RDATE:19541101T000000
RDATE:19551001T000000
RDATE:19561001T000000
RDATE:19571001T000000
RDATE:19581001T000000
RDATE:19591001T000000
RDATE:19601001T000000
RDATE:19611001T000000
RDATE:19741001T000000
RDATE:19751001T000000
RDATE:19791001T000000
END:STANDARD
BEGIN:DAYLIGHT
TZOFFSETFROM:+0800
TZOFFSETTO:+0900
TZNAME:CDT
DTSTART:19460515T000000
RDATE:19460515T000000
RDATE:19470415T000000
RDATE:19480501T000000
RDATE:19490501T000000
RDATE:19500501T000000
RDATE:19510501T000000
RDATE:19520301T000000
RDATE:19530401T000000
RDATE:19540401T000000
RDATE:19550401T000000
RDATE:19560401T000000
RDATE:19570401T000000
RDATE:19580401T000000
RDATE:19590401T000000
RDATE:19600601T000000
RDATE:19610601T000000
RDATE:19740401T000000
RDATE:19750401T000000
RDATE:19790701T000000
END:DAYLIGHT
END:VTIMEZONE
BEGIN:VEVENT
UID:ietf-82-2322-mpls
SUMMARY:mpls - Multiprotocol Label Switching
LOCATION:201 DEF
STATUS:CONFIRMED
CLASS:PUBLIC
DTSTART;TZID=Asia/Taipei:20111114T090000
DTEND;TZID=Asia/Taipei:20111114T113000
DTSTAMP:20161222T095707Z
URL:https://datatracker.ietf.org/meeting/82/materials/agenda-82-mpls
DESCRIPTION:Morning Session I\n
 \n
 Agenda https://datatracker.ietf.org/meeting/82/materials/agenda-82-mpls\n
 \n
 Session materials: https://datatracker.ietf.org/meeting/82/session/mpls\n
 \n
 See in schedule: https://datatracker.ietf.org/meeting/82/agenda#row-82-2011-11-14-mon-0900-rtg-mpls\n
END:VEVENT
BEGIN:VEVENT
UID:ietf-82-2361-l2vpn
SUMMARY:l2vpn - Layer 2 Virtual Private Networks
LOCATION:201 ABC
STATUS:CONFIRMED
CLASS:PUBLIC
DTSTART;TZID=Asia/Taipei:20111114T130000
DTEND;TZID=Asia/Taipei:20111114T150000
DTSTAMP:20161222T095707Z
URL:https://datatracker.ietf.org/meeting/82/materials/agenda-82-l2vpn
DESCRIPTION:Afternoon Session I\n
 \n
 Agenda https://datatracker.ietf.org/meeting/82/materials/agenda-82-l2vpn\n
 \n
 Session materials: https://datatracker.ietf.org/meeting/82/session/l2vpn\n
 \n
 See in schedule: https://datatracker.ietf.org/meeting/82/agenda#row-82-2011-11-14-mon-1300-rtg-l2vpn\n
END:VEVENT
BEGIN:VEVENT
UID:ietf-82-2259-roll
SUMMARY:roll - Routing Over Low power and Lossy networks
LOCATION:102
STATUS:CONFIRMED
CLASS:PUBLIC
DTSTART;TZID=Asia/Taipei:20111114T130000
DTEND;TZID=Asia/Taipei:20111114T150000
DTSTAMP:20161222T095707Z
URL:https://datatracker.ietf.org/meeting/82/materials/agenda-82-roll
DESCRIPTION:Afternoon Session I\n
 \n
 Agenda https://datatracker.ietf.org/meeting/82/materials/agenda-82-roll\n
 \n
 Session materials: https://datatracker.ietf.org/meeting/82/session/roll\n
 \n
 See in schedule: https://datatracker.ietf.org/meeting/82/agenda#row-82-2011-11-14-mon-1300-rtg-roll\n
END:VEVENT
BEGIN:VEVENT
UID:ietf-82-2288-forces
SUMMARY:forces - Forwarding and Control Element Separation
LOCATION:101D
STATUS:CONFIRMED
CLASS:PUBLIC
DTSTART;TZID=Asia/Taipei:20111114T151000
DTEND;TZID=Asia/Taipei:20111114T161000
DTSTAMP:20161222T095707Z
URL:https://datatracker.ietf.org/meeting/82/materials/agenda-82-forces
DESCRIPTION:Afternoon Session II\n
 \n
 Agenda https://datatracker.ietf.org/meeting/82/materials/agenda-82-forces\n
 \n
 Session materials: https://datatracker.ietf.org/meeting/82/session/forces\n
 \n
 See in schedule: https://datatracker.ietf.org/meeting/82/agenda#row-82-2011-11-14-mon-1510-rtg-forces\n
END:VEVENT
BEGIN:VEVENT
UID:ietf-82-2320-idr
SUMMARY:idr - Inter-Domain Routing
LOCATION:3F Banquet
STATUS:CONFIRMED
CLASS:PUBLIC
DTSTART;TZID=Asia/Taipei:20111115T090000
DTEND;TZID=Asia/Taipei:20111115T113000
DTSTAMP:20161222T095707Z
URL:https://datatracker.ietf.org/meeting/82/materials/agenda-82-idr
DESCRIPTION:Morning Session I\n
 \n
 Agenda https://datatracker.ietf.org/meeting/82/materials/agenda-82-idr\n
 \n
 Session materials: https://datatracker.ietf.org/meeting/82/session/idr\n
 \n
 See in schedule: https://datatracker.ietf.org/meeting/82/agenda#row-82-2011-11-15-tue-0900-rtg-idr\n
END:VEVENT
BEGIN:VEVENT
UID:ietf-82-2282-pim
SUMMARY:pim - Protocol Independent Multicast
LOCATION:101A
STATUS:CONFIRMED
CLASS:PUBLIC
DTSTART;TZID=Asia/Taipei:20111115T090000
DTEND;TZID=Asia/Taipei:20111115T113000
DTSTAMP:20161222T095707Z
URL:https://datatracker.ietf.org/meeting/82/materials/agenda-82-pim
DESCRIPTION:Morning Session I\n
 \n
 Agenda https://datatracker.ietf.org/meeting/82/materials/agenda-82-pim\n
 \n
 Session materials: https://datatracker.ietf.org/meeting/82/session/pim\n
 \n
 See in schedule: https://datatracker.ietf.org/meeting/82/agenda#row-82-2011-11-15-tue-0900-rtg-pim\n
END:VEVENT
BEGIN:VEVENT
UID:ietf-82-2253-ccamp
SUMMARY:ccamp - Common Control and Measurement Plane
LOCATION:3F Banquet
STATUS:CONFIRMED
CLASS:PUBLIC
DTSTART;TZID=Asia/Taipei:20111115T130000
DTEND;TZID=Asia/Taipei:20111115T150000
DTSTAMP:20161222T095707Z
URL:https://datatracker.ietf.org/meeting/82/materials/agenda-82-ccamp
DESCRIPTION:Afternoon Session I\n
 \n
 Agenda https://datatracker.ietf.org/meeting/82/materials/agenda-82-ccamp\n
 \n
 Session materials: https://datatracker.ietf.org/meeting/82/session/ccamp\n
 \n
 See in schedule: https://datatracker.ietf.org/meeting/82/agenda#row-82-2011-11-15-tue-1300-rtg-ccamp\n
END:VEVENT
BEGIN:VEVENT
UID:ietf-82-2301-sidr
SUMMARY:sidr - Secure Inter-Domain Routing (Moved FROM Friday Morning Session I 0900-1100)
LOCATION:101C
STATUS:CONFIRMED
CLASS:PUBLIC
DTSTART;TZID=Asia/Taipei:20111115T130000
DTEND;TZID=Asia/Taipei:20111115T150000
DTSTAMP:20161222T095707Z
URL:https://datatracker.ietf.org/meeting/82/materials/agenda-82-sidr
DESCRIPTION:Afternoon Session I\n
 Note: Moved FROM Friday Morning Session I 0900-1100\n
 \n
 Agenda https://datatracker.ietf.org/meeting/82/materials/agenda-82-sidr\n
 \n
 Session materials: https://datatracker.ietf.org/meeting/82/session/sidr\n
 \n
 See in schedule: https://datatracker.ietf.org/meeting/82/agenda#row-82-2011-11-15-tue-1300-rtg-sidr\n
END:VEVENT
BEGIN:VEVENT
UID:ietf-82-2251-rtgarea
SUMMARY:rtgarea - Routing Area Open Meeting
LOCATION:201 DEF
STATUS:CONFIRMED
CLASS:PUBLIC
DTSTART;TZID=Asia/Taipei:20111115T152000
DTEND;TZID=Asia/Taipei:20111115T170000
DTSTAMP:20161222T095707Z
URL:https://datatracker.ietf.org/meeting/82/materials/agenda-82-rtgarea
DESCRIPTION:Afternoon Session II\n
 \n
 Agenda https://datatracker.ietf.org/meeting/82/materials/agenda-82-rtgarea\n
 \n
 Session materials: https://datatracker.ietf.org/meeting/82/session/rtgarea\n
 \n
 See in schedule: https://datatracker.ietf.org/meeting/82/agenda#row-82-2011-11-15-tue-1520-rtg-rtgarea\n
END:VEVENT
BEGIN:VEVENT
UID:ietf-82-2252-rtgarea
SUMMARY:rtgarea - Routing Area Open Meeting
LOCATION:201 DEF
STATUS:CONFIRMED
CLASS:PUBLIC
DTSTART;TZID=Asia/Taipei:20111115T171000
DTEND;TZID=Asia/Taipei:20111115T181000
DTSTAMP:20161222T095707Z
URL:https://datatracker.ietf.org/meeting/82/materials/agenda-82-rtgarea
DESCRIPTION:Afternoon Session III\n
 \n
 Agenda https://datatracker.ietf.org/meeting/82/materials/agenda-82-rtgarea\n
 \n
 Session materials: https://datatracker.ietf.org/meeting/82/session/rtgarea\n
 \n
 See in schedule: https://datatracker.ietf.org/meeting/82/agenda#row-82-2011-11-15-tue-1710-rtg-rtgarea\n
END:VEVENT
BEGIN:VEVENT
UID:ietf-82-2267-pwe3
SUMMARY:pwe3 - Pseudowire Emulation Edge to Edge
LOCATION:201 ABC
STATUS:CONFIRMED
CLASS:PUBLIC
DTSTART;TZID=Asia/Taipei:20111116T090000
DTEND;TZID=Asia/Taipei:20111116T113000
DTSTAMP:20161222T095707Z
URL:https://datatracker.ietf.org/meeting/82/materials/agenda-82-pwe3
DESCRIPTION:Morning Session I\n
 \n
 Agenda https://datatracker.ietf.org/meeting/82/materials/agenda-82-pwe3\n
 \n
 Session materials: https://datatracker.ietf.org/meeting/82/session/pwe3\n
 \n
 See in schedule: https://datatracker.ietf.org/meeting/82/agenda#row-82-2011-11-16-wed-0900-rtg-pwe3\n
END:VEVENT
BEGIN:VEVENT
UID:ietf-82-2264-karp
SUMMARY:karp - Keying and Authentication for Routing Protocols
LOCATION:102
STATUS:CONFIRMED
CLASS:PUBLIC
DTSTART;TZID=Asia/Taipei:20111116T130000
DTEND;TZID=Asia/Taipei:20111116T150000
DTSTAMP:20161222T095707Z
URL:https://datatracker.ietf.org/meeting/82/materials/agenda-82-karp
DESCRIPTION:Afternoon Session I\n
 \n
 Agenda https://datatracker.ietf.org/meeting/82/materials/agenda-82-karp\n
 \n
 Session materials: https://datatracker.ietf.org/meeting/82/session/karp\n
 \n
 See in schedule: https://datatracker.ietf.org/meeting/82/agenda#row-82-2011-11-16-wed-1300-rtg-karp\n
END:VEVENT
BEGIN:VEVENT
UID:ietf-82-2324-manet
SUMMARY:manet - Mobile Ad-hoc Networks
LOCATION:101D
STATUS:CONFIRMED
CLASS:PUBLIC
DTSTART;TZID=Asia/Taipei:20111116T130000
DTEND;TZID=Asia/Taipei:20111116T150000
DTSTAMP:20161222T095707Z
URL:https://datatracker.ietf.org/meeting/82/materials/agenda-82-manet
DESCRIPTION:Afternoon Session I\n
 \n
 Agenda https://datatracker.ietf.org/meeting/82/materials/agenda-82-manet\n
 \n
 Session materials: https://datatracker.ietf.org/meeting/82/session/manet\n
 \n
 See in schedule: https://datatracker.ietf.org/meeting/82/agenda#row-82-2011-11-16-wed-1300-rtg-manet\n
END:VEVENT
BEGIN:VEVENT
UID:ietf-82-2349-l3vpn
SUMMARY:l3vpn - Layer 3 Virtual Private Networks
LOCATION:102
STATUS:CONFIRMED
CLASS:PUBLIC
DTSTART;TZID=Asia/Taipei:20111116T151000
DTEND;TZID=Asia/Taipei:20111116T161000
DTSTAMP:20161222T095707Z
URL:https://datatracker.ietf.org/meeting/82/materials/agenda-82-l3vpn
DESCRIPTION:Afternoon Session II\n
 \n
 Agenda https://datatracker.ietf.org/meeting/82/materials/agenda-82-l3vpn\n
 \n
 Session materials: https://datatracker.ietf.org/meeting/82/session/l3vpn\n
 \n
 See in schedule: https://datatracker.ietf.org/meeting/82/agenda#row-82-2011-11-16-wed-1510-rtg-l3vpn\n
END:VEVENT
BEGIN:VEVENT
UID:ietf-82-2362-l2vpn
SUMMARY:l2vpn - Layer 2 Virtual Private Networks
LOCATION:3F Banquet
STATUS:CONFIRMED
CLASS:PUBLIC
DTSTART;TZID=Asia/Taipei:20111117T090000
DTEND;TZID=Asia/Taipei:20111117T113000
DTSTAMP:20161222T095707Z
URL:https://datatracker.ietf.org/meeting/82/materials/agenda-82-l2vpn
DESCRIPTION:Morning Session I\n
 \n
 Agenda https://datatracker.ietf.org/meeting/82/materials/agenda-82-l2vpn\n
 \n
 Session materials: https://datatracker.ietf.org/meeting/82/session/l2vpn\n
 \n
 See in schedule: https://datatracker.ietf.org/meeting/82/agenda#row-82-2011-11-17-thu-0900-rtg-l2vpn\n
END:VEVENT
BEGIN:VEVENT
UID:ietf-82-2258-pce
SUMMARY:pce - Path Computation Element
LOCATION:3F Banquet
STATUS:CONFIRMED
CLASS:PUBLIC
DTSTART;TZID=Asia/Taipei:20111117T130000
DTEND;TZID=Asia/Taipei:20111117T150000
DTSTAMP:20161222T095707Z
URL:https://datatracker.ietf.org/meeting/82/materials/agenda-82-pce
DESCRIPTION:Afternoon Session I\n
 \n
 Agenda https://datatracker.ietf.org/meeting/82/materials/agenda-82-pce\n
 \n
 Session materials: https://datatracker.ietf.org/meeting/82/session/pce\n
 \n
 See in schedule: https://datatracker.ietf.org/meeting/82/agenda#row-82-2011-11-17-thu-1300-rtg-pce\n
END:VEVENT
BEGIN:VEVENT
UID:ietf-82-2336-rtgwg
SUMMARY:rtgwg - Routing Area Working Group
LOCATION:201 ABC
STATUS:CONFIRMED
CLASS:PUBLIC
DTSTART;TZID=Asia/Taipei:20111117T130000
DTEND;TZID=Asia/Taipei:20111117T150000
DTSTAMP:20161222T095707Z
URL:https://datatracker.ietf.org/meeting/82/materials/agenda-82-rtgwg
DESCRIPTION:Afternoon Session I\n
 \n
 Agenda https://datatracker.ietf.org/meeting/82/materials/agenda-82-rtgwg\n
 \n
 Session materials: https://datatracker.ietf.org/meeting/82/session/rtgwg\n
 \n
 See in schedule: https://datatracker.ietf.org/meeting/82/agenda#row-82-2011-11-17-thu-1300-rtg-rtgwg\n
END:VEVENT
BEGIN:VEVENT
UID:ietf-82-2323-mpls
SUMMARY:mpls - Multiprotocol Label Switching
LOCATION:201 DEF
STATUS:CONFIRMED
CLASS:PUBLIC
DTSTART;TZID=Asia/Taipei:20111117T152000
DTEND;TZID=Asia/Taipei:20111117T172000
DTSTAMP:20161222T095707Z
URL:https://datatracker.ietf.org/meeting/82/materials/agenda-82-mpls
DESCRIPTION:Afternoon Session II\n
 \n
 Agenda https://datatracker.ietf.org/meeting/82/materials/agenda-82-mpls\n
 \n
 Session materials: https://datatracker.ietf.org/meeting/82/session/mpls\n
 \n
 See in schedule: https://datatracker.ietf.org/meeting/82/agenda#row-82-2011-11-17-thu-1520-rtg-mpls\n
END:VEVENT
BEGIN:VEVENT
UID:ietf-82-2355-sdn
SUMMARY:sdn - Software Driven Networks 
LOCATION:201 DEF
STATUS:CONFIRMED
CLASS:PUBLIC
DTSTART;TZID=Asia/Taipei:20111117T174000
DTEND;TZID=Asia/Taipei:20111117T194000
DTSTAMP:20161222T095707Z
URL:https://datatracker.ietf.org/meeting/82/materials/agenda-82-sdn
DESCRIPTION:Afternoon Session III\n
 \n
 Agenda https://datatracker.ietf.org/meeting/82/materials/agenda-82-sdn\n
 \n
 Session materials: https://datatracker.ietf.org/meeting/82/session/sdn\n
 \n
 See in schedule: https://datatracker.ietf.org/meeting/82/agenda#row-82-2011-11-17-thu-1740-rtg-sdn\n
END:VEVENT
BEGIN:VEVENT
UID:ietf-82-2254-ccamp
SUMMARY:ccamp - Common Control and Measurement Plane
LOCATION:3F Banquet
STATUS:CONFIRMED
CLASS:PUBLIC
DTSTART;TZID=Asia/Taipei:20111118T090000
DTEND;TZID=Asia/Taipei:20111118T110000
DTSTAMP:20161222T095707Z
URL:https://datatracker.ietf.org/meeting/82/materials/agenda-82-ccamp
DESCRIPTION:Morning Session I\n
 \n
 Agenda https://datatracker.ietf.org/meeting/82/materials/agenda-82-ccamp\n
 \n
 Session materials: https://datatracker.ietf.org/meeting/82/session/ccamp\n
 \n
 See in schedule: https://datatracker.ietf.org/meeting/82/agenda#row-82-2011-11-18-fri-0900-rtg-ccamp\n
END:VEVENT
END:VCALENDAR
