BEGIN:VCALENDAR
VERSION:2.0
METHOD:PUBLISH
PRODID:-//IETF//datatracker.ietf.org ical agenda//EN
BEGIN:VTIMEZONE
TZID:Asia/Taipei
X-LIC-LOCATION:Asia/Taipei
BEGIN:STANDARD
TZOFFSETFROM:+0806
TZOFFSETTO:+0800
TZNAME:JWST
DTSTART:18960101T000000
RDATE:18960101T000000
END:STANDARD
BEGIN:STANDARD
TZOFFSETFROM:+0800
TZOFFSETTO:+0900
TZNAME:JST
DTSTART:19371001T000000
RDATE:19371001T000000
END:STANDARD
BEGIN:STANDARD
TZOFFSETFROM:+0900
TZOFFSETTO:+0800
TZNAME:CST
DTSTART:19450921T010000
RDATE:19450921T010000
RDATE:19461001T000000
RDATE:19471101T000000
RDATE:19481001T000000
RDATE:19491001T000000
RDATE:19501001T000000
RDATE:19511001T000000
RDATE:19521101T000000
RDATE:19531101T000000
RDATE:19541101T000000
RDATE:19551001T000000
RDATE:19561001T000000
RDATE:19571001T000000
RDATE:19581001T000000
RDATE:19591001T000000
RDATE:19601001T000000
RDATE:19611001T000000
RDATE:19741001T000000
RDATE:19751001T000000
RDATE:19791001T000000
END:STANDARD
BEGIN:DAYLIGHT
TZOFFSETFROM:+0800
TZOFFSETTO:+0900
TZNAME:CDT
DTSTART:19460515T000000
RDATE:19460515T000000
RDATE:19470415T000000
RDATE:19480501T000000
RDATE:19490501T000000
RDATE:19500501T000000
RDATE:19510501T000000
RDATE:19520301T000000
RDATE:19530401T000000
RDATE:19540401T000000
RDATE:19550401T000000
RDATE:19560401T000000
RDATE:19570401T000000
RDATE:19580401T000000
RDATE:19590401T000000
RDATE:19600601T000000
RDATE:19610601T000000
RDATE:19740401T000000
RDATE:19750401T000000
RDATE:19790701T000000
END:DAYLIGHT
END:VTIMEZONE
BEGIN:VEVENT
UID:ietf-82-2300-dane
SUMMARY:dane - DNS-based Authentication of Named Entities
LOCATION:101C
STATUS:CONFIRMED
CLASS:PUBLIC
DTSTART;TZID=Asia/Taipei:20111114T090000
DTEND;TZID=Asia/Taipei:20111114T113000
DTSTAMP:20161222T095707Z
URL:https://datatracker.ietf.org/meeting/82/materials/agenda-82-dane
DESCRIPTION:Morning Session I\n
 \n
 Agenda https://datatracker.ietf.org/meeting/82/materials/agenda-82-dane\n
 \n
 Session materials: https://datatracker.ietf.org/meeting/82/session/dane\n
 \n
 See in schedule: https://datatracker.ietf.org/meeting/82/agenda#row-82-2011-11-14-mon-0900-sec-dane\n
END:VEVENT
BEGIN:VEVENT
UID:ietf-82-2333-jose
SUMMARY:jose - Javascript Object Signing and Encryption
LOCATION:3F Banquet
STATUS:CONFIRMED
CLASS:PUBLIC
DTSTART;TZID=Asia/Taipei:20111114T130000
DTEND;TZID=Asia/Taipei:20111114T150000
DTSTAMP:20161222T095707Z
URL:https://datatracker.ietf.org/meeting/82/materials/agenda-82-jose
DESCRIPTION:Afternoon Session I\n
 \n
 Agenda https://datatracker.ietf.org/meeting/82/materials/agenda-82-jose\n
 \n
 Session materials: https://datatracker.ietf.org/meeting/82/session/jose\n
 \n
 See in schedule: https://datatracker.ietf.org/meeting/82/agenda#row-82-2011-11-14-mon-1300-sec-jose\n
END:VEVENT
BEGIN:VEVENT
UID:ietf-82-2317-emu
SUMMARY:emu - EAP Method Update
LOCATION:101B
STATUS:CONFIRMED
CLASS:PUBLIC
DTSTART;TZID=Asia/Taipei:20111115T090000
DTEND;TZID=Asia/Taipei:20111115T113000
DTSTAMP:20161222T095707Z
URL:https://datatracker.ietf.org/meeting/82/materials/agenda-82-emu
DESCRIPTION:Morning Session I\n
 \n
 Agenda https://datatracker.ietf.org/meeting/82/materials/agenda-82-emu\n
 \n
 Session materials: https://datatracker.ietf.org/meeting/82/session/emu\n
 \n
 See in schedule: https://datatracker.ietf.org/meeting/82/agenda#row-82-2011-11-15-tue-0900-sec-emu\n
END:VEVENT
BEGIN:VEVENT
UID:ietf-82-2256-pkix
SUMMARY:pkix - Public-Key Infrastructure (X.509) (CANCELED)
LOCATION:101A
STATUS:CONFIRMED
CLASS:PUBLIC
DTSTART;TZID=Asia/Taipei:20111115T130000
DTEND;TZID=Asia/Taipei:20111115T150000
DTSTAMP:20161222T095707Z
DESCRIPTION:Afternoon Session I\n
 Note: CANCELED\n
 \n
 Session materials: https://datatracker.ietf.org/meeting/82/session/pkix\n
 \n
 See in schedule: https://datatracker.ietf.org/meeting/82/agenda#row-82-2011-11-15-tue-1300-sec-pkix\n
END:VEVENT
BEGIN:VEVENT
UID:ietf-82-2332-kitten
SUMMARY:kitten - Common Authentication Technology Next Generation (Moved FROM Tuesday 1520-1700 Afternoon Session II)
LOCATION:101C
STATUS:CONFIRMED
CLASS:PUBLIC
DTSTART;TZID=Asia/Taipei:20111115T171000
DTEND;TZID=Asia/Taipei:20111115T181000
DTSTAMP:20161222T095707Z
URL:https://datatracker.ietf.org/meeting/82/materials/agenda-82-kitten
DESCRIPTION:Afternoon Session III\n
 Note: Moved FROM Tuesday 1520-1700 Afternoon Session II\n
 \n
 Agenda https://datatracker.ietf.org/meeting/82/materials/agenda-82-kitten\n
 \n
 Session materials: https://datatracker.ietf.org/meeting/82/session/kitten\n
 \n
 See in schedule: https://datatracker.ietf.org/meeting/82/agenda#row-82-2011-11-15-tue-1710-sec-kitten\n
END:VEVENT
BEGIN:VEVENT
UID:ietf-82-2356-mile
SUMMARY:mile - Managed Incident Lightweight Exchange
LOCATION:101D
STATUS:CONFIRMED
CLASS:PUBLIC
DTSTART;TZID=Asia/Taipei:20111116T151000
DTEND;TZID=Asia/Taipei:20111116T161000
DTSTAMP:20161222T095707Z
URL:https://datatracker.ietf.org/meeting/82/materials/agenda-82-mile
DESCRIPTION:Afternoon Session II\n
 \n
 Agenda https://datatracker.ietf.org/meeting/82/materials/agenda-82-mile\n
 \n
 Session materials: https://datatracker.ietf.org/meeting/82/session/mile\n
 \n
 See in schedule: https://datatracker.ietf.org/meeting/82/agenda#row-82-2011-11-16-wed-1510-sec-mile\n
END:VEVENT
BEGIN:VEVENT
UID:ietf-82-2266-nea
SUMMARY:nea - Network Endpoint Assessment
LOCATION:101A
STATUS:CONFIRMED
CLASS:PUBLIC
DTSTART;TZID=Asia/Taipei:20111117T090000
DTEND;TZID=Asia/Taipei:20111117T113000
DTSTAMP:20161222T095707Z
URL:https://datatracker.ietf.org/meeting/82/materials/agenda-82-nea
DESCRIPTION:Morning Session I\n
 \n
 Agenda https://datatracker.ietf.org/meeting/82/materials/agenda-82-nea\n
 \n
 Session materials: https://datatracker.ietf.org/meeting/82/session/nea\n
 \n
 See in schedule: https://datatracker.ietf.org/meeting/82/agenda#row-82-2011-11-17-thu-0900-sec-nea\n
END:VEVENT
BEGIN:VEVENT
UID:ietf-82-2285-oauth
SUMMARY:oauth - Web Authorization Protocol
LOCATION:101C
STATUS:CONFIRMED
CLASS:PUBLIC
DTSTART;TZID=Asia/Taipei:20111117T130000
DTEND;TZID=Asia/Taipei:20111117T150000
DTSTAMP:20161222T095707Z
URL:https://datatracker.ietf.org/meeting/82/materials/agenda-82-oauth
DESCRIPTION:Afternoon Session I\n
 \n
 Agenda https://datatracker.ietf.org/meeting/82/materials/agenda-82-oauth\n
 \n
 Session materials: https://datatracker.ietf.org/meeting/82/session/oauth\n
 \n
 See in schedule: https://datatracker.ietf.org/meeting/82/agenda#row-82-2011-11-17-thu-1300-sec-oauth\n
END:VEVENT
BEGIN:VEVENT
UID:ietf-82-2292-saag
SUMMARY:saag - Security Area Open Meeting
LOCATION:201 ABC
STATUS:CONFIRMED
CLASS:PUBLIC
DTSTART;TZID=Asia/Taipei:20111117T152000
DTEND;TZID=Asia/Taipei:20111117T172000
DTSTAMP:20161222T095707Z
URL:https://datatracker.ietf.org/meeting/82/materials/agenda-82-saag
DESCRIPTION:Afternoon Session II\n
 \n
 Agenda https://datatracker.ietf.org/meeting/82/materials/agenda-82-saag\n
 \n
 Session materials: https://datatracker.ietf.org/meeting/82/session/saag\n
 \n
 See in schedule: https://datatracker.ietf.org/meeting/82/agenda#row-82-2011-11-17-thu-1520-sec-saag\n
END:VEVENT
BEGIN:VEVENT
UID:ietf-82-2316-tls
SUMMARY:tls - Transport Layer Security
LOCATION:3F Banquet
STATUS:CONFIRMED
CLASS:PUBLIC
DTSTART;TZID=Asia/Taipei:20111117T174000
DTEND;TZID=Asia/Taipei:20111117T194000
DTSTAMP:20161222T095707Z
URL:https://datatracker.ietf.org/meeting/82/materials/agenda-82-tls
DESCRIPTION:Afternoon Session III\n
 \n
 Agenda https://datatracker.ietf.org/meeting/82/materials/agenda-82-tls\n
 \n
 Session materials: https://datatracker.ietf.org/meeting/82/session/tls\n
 \n
 See in schedule: https://datatracker.ietf.org/meeting/82/agenda#row-82-2011-11-17-thu-1740-sec-tls\n
END:VEVENT
BEGIN:VEVENT
UID:ietf-82-2315-krb-wg
SUMMARY:krb-wg - Kerberos
LOCATION:201 DEF
STATUS:CONFIRMED
CLASS:PUBLIC
DTSTART;TZID=Asia/Taipei:20111118T090000
DTEND;TZID=Asia/Taipei:20111118T110000
DTSTAMP:20161222T095707Z
URL:https://datatracker.ietf.org/meeting/82/materials/agenda-82-krb-wg
DESCRIPTION:Morning Session I\n
 \n
 Agenda https://datatracker.ietf.org/meeting/82/materials/agenda-82-krb-wg\n
 \n
 Session materials: https://datatracker.ietf.org/meeting/82/session/krb-wg\n
 \n
 See in schedule: https://datatracker.ietf.org/meeting/82/agenda#row-82-2011-11-18-fri-0900-sec-krb-wg\n
END:VEVENT
BEGIN:VEVENT
UID:ietf-82-2307-abfab
SUMMARY:abfab - Application Bridging for Federated Access Beyond web
LOCATION:3F Banquet
STATUS:CONFIRMED
CLASS:PUBLIC
DTSTART;TZID=Asia/Taipei:20111118T112000
DTEND;TZID=Asia/Taipei:20111118T122000
DTSTAMP:20161222T095707Z
URL:https://datatracker.ietf.org/meeting/82/materials/agenda-82-abfab
DESCRIPTION:Afternoon Session I\n
 \n
 Agenda https://datatracker.ietf.org/meeting/82/materials/agenda-82-abfab\n
 \n
 Session materials: https://datatracker.ietf.org/meeting/82/session/abfab\n
 \n
 See in schedule: https://datatracker.ietf.org/meeting/82/agenda#row-82-2011-11-18-fri-1120-sec-abfab\n
END:VEVENT
BEGIN:VEVENT
UID:ietf-82-2308-abfab
SUMMARY:abfab - Application Bridging for Federated Access Beyond web
LOCATION:3F Banquet
STATUS:CONFIRMED
CLASS:PUBLIC
DTSTART;TZID=Asia/Taipei:20111118T123000
DTEND;TZID=Asia/Taipei:20111118T133000
DTSTAMP:20161222T095707Z
URL:https://datatracker.ietf.org/meeting/82/materials/agenda-82-abfab
DESCRIPTION:Afternoon Session II\n
 \n
 Agenda https://datatracker.ietf.org/meeting/82/materials/agenda-82-abfab\n
 \n
 Session materials: https://datatracker.ietf.org/meeting/82/session/abfab\n
 \n
 See in schedule: https://datatracker.ietf.org/meeting/82/agenda#row-82-2011-11-18-fri-1230-sec-abfab\n
END:VEVENT
END:VCALENDAR
