BEGIN:VCALENDAR
VERSION:2.0
METHOD:PUBLISH
PRODID:-//IETF//datatracker.ietf.org ical agenda//EN
BEGIN:VTIMEZONE
TZID:America/Vancouver
X-LIC-LOCATION:America/Vancouver
BEGIN:DAYLIGHT
TZOFFSETFROM:-0800
TZOFFSETTO:-0700
TZNAME:PDT
DTSTART:20070311T020000
RRULE:FREQ=YEARLY;BYMONTH=3;BYDAY=2SU
END:DAYLIGHT
BEGIN:STANDARD
TZOFFSETFROM:-0700
TZOFFSETTO:-0800
TZNAME:PST
DTSTART:20071104T020000
RRULE:FREQ=YEARLY;BYMONTH=11;BYDAY=1SU
END:STANDARD
BEGIN:STANDARD
TZOFFSETFROM:-081228
TZOFFSETTO:-0800
TZNAME:PST
DTSTART:18840101T000000
RDATE:18840101T000000
END:STANDARD
BEGIN:DAYLIGHT
TZOFFSETFROM:-0800
TZOFFSETTO:-0700
TZNAME:PDT
DTSTART:19180414T020000
RDATE:19180414T020000
RDATE:19460428T020000
RDATE:19470427T020000
RDATE:19480425T020000
RDATE:19490424T020000
RDATE:19500430T020000
RDATE:19510429T020000
RDATE:19520427T020000
RDATE:19530426T020000
RDATE:19540425T020000
RDATE:19550424T020000
RDATE:19560429T020000
RDATE:19570428T020000
RDATE:19580427T020000
RDATE:19590426T020000
RDATE:19600424T020000
RDATE:19610430T020000
RDATE:19620429T020000
RDATE:19630428T020000
RDATE:19640426T020000
RDATE:19650425T020000
RDATE:19660424T020000
RDATE:19670430T020000
RDATE:19680428T020000
RDATE:19690427T020000
RDATE:19700426T020000
RDATE:19710425T020000
RDATE:19720430T020000
RDATE:19730429T020000
RDATE:19740428T020000
RDATE:19750427T020000
RDATE:19760425T020000
RDATE:19770424T020000
RDATE:19780430T020000
RDATE:19790429T020000
RDATE:19800427T020000
RDATE:19810426T020000
RDATE:19820425T020000
RDATE:19830424T020000
RDATE:19840429T020000
RDATE:19850428T020000
RDATE:19860427T020000
RDATE:19870405T020000
RDATE:19880403T020000
RDATE:19890402T020000
RDATE:19900401T020000
RDATE:19910407T020000
RDATE:19920405T020000
RDATE:19930404T020000
RDATE:19940403T020000
RDATE:19950402T020000
RDATE:19960407T020000
RDATE:19970406T020000
RDATE:19980405T020000
RDATE:19990404T020000
RDATE:20000402T020000
RDATE:20010401T020000
RDATE:20020407T020000
RDATE:20030406T020000
RDATE:20040404T020000
RDATE:20050403T020000
RDATE:20060402T020000
END:DAYLIGHT
BEGIN:STANDARD
TZOFFSETFROM:-0700
TZOFFSETTO:-0800
TZNAME:PST
DTSTART:19181027T020000
RDATE:19181027T020000
RDATE:19450930T020000
RDATE:19461013T020000
RDATE:19470928T020000
RDATE:19480926T020000
RDATE:19490925T020000
RDATE:19500924T020000
RDATE:19510930T020000
RDATE:19520928T020000
RDATE:19530927T020000
RDATE:19540926T020000
RDATE:19550925T020000
RDATE:19560930T020000
RDATE:19570929T020000
RDATE:19580928T020000
RDATE:19590927T020000
RDATE:19600925T020000
RDATE:19610924T020000
RDATE:19621028T020000
RDATE:19631027T020000
RDATE:19641025T020000
RDATE:19651031T020000
RDATE:19661030T020000
RDATE:19671029T020000
RDATE:19681027T020000
RDATE:19691026T020000
RDATE:19701025T020000
RDATE:19711031T020000
RDATE:19721029T020000
RDATE:19731028T020000
RDATE:19741027T020000
RDATE:19751026T020000
RDATE:19761031T020000
RDATE:19771030T020000
RDATE:19781029T020000
RDATE:19791028T020000
RDATE:19801026T020000
RDATE:19811025T020000
RDATE:19821031T020000
RDATE:19831030T020000
RDATE:19841028T020000
RDATE:19851027T020000
RDATE:19861026T020000
RDATE:19871025T020000
RDATE:19881030T020000
RDATE:19891029T020000
RDATE:19901028T020000
RDATE:19911027T020000
RDATE:19921025T020000
RDATE:19931031T020000
RDATE:19941030T020000
RDATE:19951029T020000
RDATE:19961027T020000
RDATE:19971026T020000
RDATE:19981025T020000
RDATE:19991031T020000
RDATE:20001029T020000
RDATE:20011028T020000
RDATE:20021027T020000
RDATE:20031026T020000
RDATE:20041031T020000
RDATE:20051030T020000
RDATE:20061029T020000
END:STANDARD
BEGIN:DAYLIGHT
TZOFFSETFROM:-0800
TZOFFSETTO:-0700
TZNAME:PWT
DTSTART:19420209T020000
RDATE:19420209T020000
END:DAYLIGHT
BEGIN:DAYLIGHT
TZOFFSETFROM:-0700
TZOFFSETTO:-0700
TZNAME:PPT
DTSTART:19450814T160000
RDATE:19450814T160000
END:DAYLIGHT
BEGIN:STANDARD
TZOFFSETFROM:-0800
TZOFFSETTO:-0800
TZNAME:PST
DTSTART:19870101T000000
RDATE:19870101T000000
END:STANDARD
END:VTIMEZONE
BEGIN:VEVENT
UID:ietf-84-2990-appsawg
SUMMARY:appsawg - Applications Area Working Group (Combined with APPAREA)
LOCATION:Georgia B
STATUS:CONFIRMED
CLASS:PUBLIC
DTSTART;TZID=America/Vancouver:20120730T090000
DTEND;TZID=America/Vancouver:20120730T113000
DTSTAMP:20161222T095706Z
URL:https://datatracker.ietf.org/meeting/84/materials/agenda-84-appsawg
DESCRIPTION:Morning Session I\n
 Note: Combined with APPAREA\n
 \n
 Agenda https://datatracker.ietf.org/meeting/84/materials/agenda-84-appsawg\n
 \n
 Session materials: https://datatracker.ietf.org/meeting/84/session/appsawg\n
 \n
 See in schedule: https://datatracker.ietf.org/meeting/84/agenda#row-84-2012-07-30-mon-0900-app-appsawg\n
END:VEVENT
BEGIN:VEVENT
UID:ietf-84-3139-paws
SUMMARY:paws - Protocol to Access WS database
LOCATION:Georgia A
STATUS:CONFIRMED
CLASS:PUBLIC
DTSTART;TZID=America/Vancouver:20120730T154000
DTEND;TZID=America/Vancouver:20120730T171000
DTSTAMP:20161222T095706Z
URL:https://datatracker.ietf.org/meeting/84/materials/agenda-84-paws
DESCRIPTION:Afternoon Session II\n
 \n
 Agenda https://datatracker.ietf.org/meeting/84/materials/agenda-84-paws\n
 \n
 Session materials: https://datatracker.ietf.org/meeting/84/session/paws\n
 \n
 See in schedule: https://datatracker.ietf.org/meeting/84/agenda#row-84-2012-07-30-mon-1540-app-paws\n
END:VEVENT
BEGIN:VEVENT
UID:ietf-84-3171-websec
SUMMARY:websec - Web Security
LOCATION:Georgia B
STATUS:CONFIRMED
CLASS:PUBLIC
DTSTART;TZID=America/Vancouver:20120731T090000
DTEND;TZID=America/Vancouver:20120731T102000
DTSTAMP:20161222T095706Z
URL:https://datatracker.ietf.org/meeting/84/materials/agenda-84-websec
DESCRIPTION:Morning Session I\n
 \n
 Agenda https://datatracker.ietf.org/meeting/84/materials/agenda-84-websec\n
 \n
 Session materials: https://datatracker.ietf.org/meeting/84/session/websec\n
 \n
 See in schedule: https://datatracker.ietf.org/meeting/84/agenda#row-84-2012-07-31-tue-0900-app-websec\n
END:VEVENT
BEGIN:VEVENT
UID:ietf-84-3187-httpbis
SUMMARY:httpbis - Hypertext Transfer Protocol Bis
LOCATION:Regency E
STATUS:CONFIRMED
CLASS:PUBLIC
DTSTART;TZID=America/Vancouver:20120731T130000
DTEND;TZID=America/Vancouver:20120731T150000
DTSTAMP:20161222T095706Z
URL:https://datatracker.ietf.org/meeting/84/materials/agenda-84-httpbis
DESCRIPTION:Afternoon Session I\n
 \n
 Agenda https://datatracker.ietf.org/meeting/84/materials/agenda-84-httpbis\n
 \n
 Session materials: https://datatracker.ietf.org/meeting/84/session/httpbis\n
 \n
 See in schedule: https://datatracker.ietf.org/meeting/84/agenda#row-84-2012-07-31-tue-1300-app-httpbis\n
END:VEVENT
BEGIN:VEVENT
UID:ietf-84-3199-dsii
SUMMARY:dsii - Data Set Identifier Interoperability
LOCATION:Regency C
STATUS:CONFIRMED
CLASS:PUBLIC
DTSTART;TZID=America/Vancouver:20120731T152000
DTEND;TZID=America/Vancouver:20120731T165000
DTSTAMP:20161222T095706Z
URL:https://datatracker.ietf.org/meeting/84/materials/agenda-84-dsii
DESCRIPTION:Afternoon Session II\n
 \n
 Agenda https://datatracker.ietf.org/meeting/84/materials/agenda-84-dsii\n
 \n
 Session materials: https://datatracker.ietf.org/meeting/84/session/dsii\n
 \n
 See in schedule: https://datatracker.ietf.org/meeting/84/agenda#row-84-2012-07-31-tue-1520-app-dsii\n
END:VEVENT
BEGIN:VEVENT
UID:ietf-84-2997-weirds
SUMMARY:weirds - Web Extensible Internet Registration Data Service
LOCATION:Regency F
STATUS:CONFIRMED
CLASS:PUBLIC
DTSTART;TZID=America/Vancouver:20120801T090000
DTEND;TZID=America/Vancouver:20120801T113000
DTSTAMP:20161222T095706Z
URL:https://datatracker.ietf.org/meeting/84/materials/agenda-84-weirds
DESCRIPTION:Morning Session I\n
 \n
 Agenda https://datatracker.ietf.org/meeting/84/materials/agenda-84-weirds\n
 \n
 Session materials: https://datatracker.ietf.org/meeting/84/session/weirds\n
 \n
 See in schedule: https://datatracker.ietf.org/meeting/84/agenda#row-84-2012-08-01-wed-0900-app-weirds\n
END:VEVENT
BEGIN:VEVENT
UID:ietf-84-3045-httpbis
SUMMARY:httpbis - Hypertext Transfer Protocol Bis
LOCATION:Regency F
STATUS:CONFIRMED
CLASS:PUBLIC
DTSTART;TZID=America/Vancouver:20120801T130000
DTEND;TZID=America/Vancouver:20120801T150000
DTSTAMP:20161222T095706Z
URL:https://datatracker.ietf.org/meeting/84/materials/agenda-84-httpbis
DESCRIPTION:Afternoon Session I\n
 \n
 Agenda https://datatracker.ietf.org/meeting/84/materials/agenda-84-httpbis\n
 \n
 Session materials: https://datatracker.ietf.org/meeting/84/session/httpbis\n
 \n
 See in schedule: https://datatracker.ietf.org/meeting/84/agenda#row-84-2012-08-01-wed-1300-app-httpbis\n
END:VEVENT
BEGIN:VEVENT
UID:ietf-84-3259-core
SUMMARY:core - Constrained RESTful Environments
LOCATION:Regency C
STATUS:CONFIRMED
CLASS:PUBLIC
DTSTART;TZID=America/Vancouver:20120801T151000
DTEND;TZID=America/Vancouver:20120801T171000
DTSTAMP:20161222T095706Z
URL:https://datatracker.ietf.org/meeting/84/materials/agenda-84-core
DESCRIPTION:Afternoon Session II\n
 \n
 Agenda https://datatracker.ietf.org/meeting/84/materials/agenda-84-core\n
 \n
 Session materials: https://datatracker.ietf.org/meeting/84/session/core\n
 \n
 See in schedule: https://datatracker.ietf.org/meeting/84/agenda#row-84-2012-08-01-wed-1510-app-core\n
END:VEVENT
BEGIN:VEVENT
UID:ietf-84-3320-precis
SUMMARY:precis - Preparation and Comparison of Internationalized Strings (Moved FROM Wednesday 1300-1500)
LOCATION:Regency A
STATUS:CONFIRMED
CLASS:PUBLIC
DTSTART;TZID=America/Vancouver:20120801T151000
DTEND;TZID=America/Vancouver:20120801T171000
DTSTAMP:20161222T095706Z
URL:https://datatracker.ietf.org/meeting/84/materials/agenda-84-precis
DESCRIPTION:Afternoon Session II\n
 Note: Moved FROM Wednesday 1300-1500\n
 \n
 Agenda https://datatracker.ietf.org/meeting/84/materials/agenda-84-precis\n
 \n
 Session materials: https://datatracker.ietf.org/meeting/84/session/precis\n
 \n
 See in schedule: https://datatracker.ietf.org/meeting/84/agenda#row-84-2012-08-01-wed-1510-app-precis\n
END:VEVENT
BEGIN:VEVENT
UID:ietf-84-3025-eai
SUMMARY:eai - Email Address Internationalization
LOCATION:Georgia A
STATUS:CONFIRMED
CLASS:PUBLIC
DTSTART;TZID=America/Vancouver:20120802T090000
DTEND;TZID=America/Vancouver:20120802T113000
DTSTAMP:20161222T095706Z
URL:https://datatracker.ietf.org/meeting/84/materials/agenda-84-eai
DESCRIPTION:Morning Session I\n
 \n
 Agenda https://datatracker.ietf.org/meeting/84/materials/agenda-84-eai\n
 \n
 Session materials: https://datatracker.ietf.org/meeting/84/session/eai\n
 \n
 See in schedule: https://datatracker.ietf.org/meeting/84/agenda#row-84-2012-08-02-thu-0900-app-eai\n
END:VEVENT
BEGIN:VEVENT
UID:ietf-84-3300-hybi
SUMMARY:hybi - BiDirectional or Server-Initiated HTTP
LOCATION:Regency B
STATUS:CONFIRMED
CLASS:PUBLIC
DTSTART;TZID=America/Vancouver:20120802T130000
DTEND;TZID=America/Vancouver:20120802T150000
DTSTAMP:20161222T095706Z
URL:https://datatracker.ietf.org/meeting/84/materials/agenda-84-hybi
DESCRIPTION:Afternoon Session I\n
 \n
 Agenda https://datatracker.ietf.org/meeting/84/materials/agenda-84-hybi\n
 \n
 Session materials: https://datatracker.ietf.org/meeting/84/session/hybi\n
 \n
 See in schedule: https://datatracker.ietf.org/meeting/84/agenda#row-84-2012-08-02-thu-1300-app-hybi\n
END:VEVENT
BEGIN:VEVENT
UID:ietf-84-3245-iri
SUMMARY:iri - Internationalized Resource Identifiers (CANCELED)
LOCATION:Regency B
STATUS:CONFIRMED
CLASS:PUBLIC
DTSTART;TZID=America/Vancouver:20120802T173000
DTEND;TZID=America/Vancouver:20120802T183000
DTSTAMP:20161222T095706Z
DESCRIPTION:Afternoon Session III\n
 Note: CANCELED\n
 \n
 Session materials: https://datatracker.ietf.org/meeting/84/session/iri\n
 \n
 See in schedule: https://datatracker.ietf.org/meeting/84/agenda#row-84-2012-08-02-thu-1730-app-iri\n
END:VEVENT
BEGIN:VEVENT
UID:ietf-84-3077-core
SUMMARY:core - Constrained RESTful Environments (Moved FROM Friday 1120-1220 and 1230-1330)
LOCATION:Regency F
STATUS:CONFIRMED
CLASS:PUBLIC
DTSTART;TZID=America/Vancouver:20120803T090000
DTEND;TZID=America/Vancouver:20120803T110000
DTSTAMP:20161222T095706Z
URL:https://datatracker.ietf.org/meeting/84/materials/agenda-84-core
DESCRIPTION:Morning Session I\n
 Note: Moved FROM Friday 1120-1220 and 1230-1330\n
 \n
 Agenda https://datatracker.ietf.org/meeting/84/materials/agenda-84-core\n
 \n
 Session materials: https://datatracker.ietf.org/meeting/84/session/core\n
 \n
 See in schedule: https://datatracker.ietf.org/meeting/84/agenda#row-84-2012-08-03-fri-0900-app-core\n
END:VEVENT
BEGIN:VEVENT
UID:ietf-84-3053-scim
SUMMARY:scim - System for Cross-domain Identity Management (Moved FROM Friday 0900-1100)
LOCATION:Regency F
STATUS:CONFIRMED
CLASS:PUBLIC
DTSTART;TZID=America/Vancouver:20120803T112000
DTEND;TZID=America/Vancouver:20120803T122000
DTSTAMP:20161222T095706Z
URL:https://datatracker.ietf.org/meeting/84/materials/agenda-84-scim
DESCRIPTION:Afternoon Session I\n
 Note: Moved FROM Friday 0900-1100\n
 \n
 Agenda https://datatracker.ietf.org/meeting/84/materials/agenda-84-scim\n
 \n
 Session materials: https://datatracker.ietf.org/meeting/84/session/scim\n
 \n
 See in schedule: https://datatracker.ietf.org/meeting/84/agenda#row-84-2012-08-03-fri-1120-app-scim\n
END:VEVENT
BEGIN:VEVENT
UID:ietf-84-3093-scim
SUMMARY:scim - System for Cross-domain Identity Management (Moved FROM Friday 0900-1100)
LOCATION:Regency F
STATUS:CONFIRMED
CLASS:PUBLIC
DTSTART;TZID=America/Vancouver:20120803T123000
DTEND;TZID=America/Vancouver:20120803T133000
DTSTAMP:20161222T095706Z
URL:https://datatracker.ietf.org/meeting/84/materials/agenda-84-scim
DESCRIPTION:Afternoon Session II\n
 Note: Moved FROM Friday 0900-1100\n
 \n
 Agenda https://datatracker.ietf.org/meeting/84/materials/agenda-84-scim\n
 \n
 Session materials: https://datatracker.ietf.org/meeting/84/session/scim\n
 \n
 See in schedule: https://datatracker.ietf.org/meeting/84/agenda#row-84-2012-08-03-fri-1230-app-scim\n
END:VEVENT
END:VCALENDAR
