BEGIN:VCALENDAR
VERSION:2.0
METHOD:PUBLISH
PRODID:-//IETF//datatracker.ietf.org ical agenda//EN
BEGIN:VTIMEZONE
TZID:America/Vancouver
X-LIC-LOCATION:America/Vancouver
BEGIN:DAYLIGHT
TZOFFSETFROM:-0800
TZOFFSETTO:-0700
TZNAME:PDT
DTSTART:20070311T020000
RRULE:FREQ=YEARLY;BYMONTH=3;BYDAY=2SU
END:DAYLIGHT
BEGIN:STANDARD
TZOFFSETFROM:-0700
TZOFFSETTO:-0800
TZNAME:PST
DTSTART:20071104T020000
RRULE:FREQ=YEARLY;BYMONTH=11;BYDAY=1SU
END:STANDARD
BEGIN:STANDARD
TZOFFSETFROM:-081228
TZOFFSETTO:-0800
TZNAME:PST
DTSTART:18840101T000000
RDATE:18840101T000000
END:STANDARD
BEGIN:DAYLIGHT
TZOFFSETFROM:-0800
TZOFFSETTO:-0700
TZNAME:PDT
DTSTART:19180414T020000
RDATE:19180414T020000
RDATE:19460428T020000
RDATE:19470427T020000
RDATE:19480425T020000
RDATE:19490424T020000
RDATE:19500430T020000
RDATE:19510429T020000
RDATE:19520427T020000
RDATE:19530426T020000
RDATE:19540425T020000
RDATE:19550424T020000
RDATE:19560429T020000
RDATE:19570428T020000
RDATE:19580427T020000
RDATE:19590426T020000
RDATE:19600424T020000
RDATE:19610430T020000
RDATE:19620429T020000
RDATE:19630428T020000
RDATE:19640426T020000
RDATE:19650425T020000
RDATE:19660424T020000
RDATE:19670430T020000
RDATE:19680428T020000
RDATE:19690427T020000
RDATE:19700426T020000
RDATE:19710425T020000
RDATE:19720430T020000
RDATE:19730429T020000
RDATE:19740428T020000
RDATE:19750427T020000
RDATE:19760425T020000
RDATE:19770424T020000
RDATE:19780430T020000
RDATE:19790429T020000
RDATE:19800427T020000
RDATE:19810426T020000
RDATE:19820425T020000
RDATE:19830424T020000
RDATE:19840429T020000
RDATE:19850428T020000
RDATE:19860427T020000
RDATE:19870405T020000
RDATE:19880403T020000
RDATE:19890402T020000
RDATE:19900401T020000
RDATE:19910407T020000
RDATE:19920405T020000
RDATE:19930404T020000
RDATE:19940403T020000
RDATE:19950402T020000
RDATE:19960407T020000
RDATE:19970406T020000
RDATE:19980405T020000
RDATE:19990404T020000
RDATE:20000402T020000
RDATE:20010401T020000
RDATE:20020407T020000
RDATE:20030406T020000
RDATE:20040404T020000
RDATE:20050403T020000
RDATE:20060402T020000
END:DAYLIGHT
BEGIN:STANDARD
TZOFFSETFROM:-0700
TZOFFSETTO:-0800
TZNAME:PST
DTSTART:19181027T020000
RDATE:19181027T020000
RDATE:19450930T020000
RDATE:19461013T020000
RDATE:19470928T020000
RDATE:19480926T020000
RDATE:19490925T020000
RDATE:19500924T020000
RDATE:19510930T020000
RDATE:19520928T020000
RDATE:19530927T020000
RDATE:19540926T020000
RDATE:19550925T020000
RDATE:19560930T020000
RDATE:19570929T020000
RDATE:19580928T020000
RDATE:19590927T020000
RDATE:19600925T020000
RDATE:19610924T020000
RDATE:19621028T020000
RDATE:19631027T020000
RDATE:19641025T020000
RDATE:19651031T020000
RDATE:19661030T020000
RDATE:19671029T020000
RDATE:19681027T020000
RDATE:19691026T020000
RDATE:19701025T020000
RDATE:19711031T020000
RDATE:19721029T020000
RDATE:19731028T020000
RDATE:19741027T020000
RDATE:19751026T020000
RDATE:19761031T020000
RDATE:19771030T020000
RDATE:19781029T020000
RDATE:19791028T020000
RDATE:19801026T020000
RDATE:19811025T020000
RDATE:19821031T020000
RDATE:19831030T020000
RDATE:19841028T020000
RDATE:19851027T020000
RDATE:19861026T020000
RDATE:19871025T020000
RDATE:19881030T020000
RDATE:19891029T020000
RDATE:19901028T020000
RDATE:19911027T020000
RDATE:19921025T020000
RDATE:19931031T020000
RDATE:19941030T020000
RDATE:19951029T020000
RDATE:19961027T020000
RDATE:19971026T020000
RDATE:19981025T020000
RDATE:19991031T020000
RDATE:20001029T020000
RDATE:20011028T020000
RDATE:20021027T020000
RDATE:20031026T020000
RDATE:20041031T020000
RDATE:20051030T020000
RDATE:20061029T020000
END:STANDARD
BEGIN:DAYLIGHT
TZOFFSETFROM:-0800
TZOFFSETTO:-0700
TZNAME:PWT
DTSTART:19420209T020000
RDATE:19420209T020000
END:DAYLIGHT
BEGIN:DAYLIGHT
TZOFFSETFROM:-0700
TZOFFSETTO:-0700
TZNAME:PPT
DTSTART:19450814T160000
RDATE:19450814T160000
END:DAYLIGHT
BEGIN:STANDARD
TZOFFSETFROM:-0800
TZOFFSETTO:-0800
TZNAME:PST
DTSTART:19870101T000000
RDATE:19870101T000000
END:STANDARD
END:VTIMEZONE
BEGIN:VEVENT
UID:ietf-84-3101-dhc
SUMMARY:dhc - Dynamic Host Configuration
LOCATION:Regency F
STATUS:CONFIRMED
CLASS:PUBLIC
DTSTART;TZID=America/Vancouver:20120730T090000
DTEND;TZID=America/Vancouver:20120730T113000
DTSTAMP:20161222T095706Z
URL:https://datatracker.ietf.org/meeting/84/materials/agenda-84-dhc
DESCRIPTION:Morning Session I\n
 \n
 Agenda https://datatracker.ietf.org/meeting/84/materials/agenda-84-dhc\n
 \n
 Session materials: https://datatracker.ietf.org/meeting/84/session/dhc\n
 \n
 See in schedule: https://datatracker.ietf.org/meeting/84/agenda#row-84-2012-07-30-mon-0900-int-dhc\n
END:VEVENT
BEGIN:VEVENT
UID:ietf-84-2979-multimob
SUMMARY:multimob - Multicast Mobility
LOCATION:Regency B
STATUS:CONFIRMED
CLASS:PUBLIC
DTSTART;TZID=America/Vancouver:20120730T130000
DTEND;TZID=America/Vancouver:20120730T153000
DTSTAMP:20161222T095706Z
URL:https://datatracker.ietf.org/meeting/84/materials/agenda-84-multimob
DESCRIPTION:Afternoon Session I\n
 \n
 Agenda https://datatracker.ietf.org/meeting/84/materials/agenda-84-multimob\n
 \n
 Session materials: https://datatracker.ietf.org/meeting/84/session/multimob\n
 \n
 See in schedule: https://datatracker.ietf.org/meeting/84/agenda#row-84-2012-07-30-mon-1300-int-multimob\n
END:VEVENT
BEGIN:VEVENT
UID:ietf-84-2984-sunset4
SUMMARY:sunset4 - Sunsetting IPv4
LOCATION:Regency D
STATUS:CONFIRMED
CLASS:PUBLIC
DTSTART;TZID=America/Vancouver:20120730T130000
DTEND;TZID=America/Vancouver:20120730T153000
DTSTAMP:20161222T095706Z
URL:https://datatracker.ietf.org/meeting/84/materials/agenda-84-sunset4
DESCRIPTION:Afternoon Session I\n
 \n
 Agenda https://datatracker.ietf.org/meeting/84/materials/agenda-84-sunset4\n
 \n
 Session materials: https://datatracker.ietf.org/meeting/84/session/sunset4\n
 \n
 See in schedule: https://datatracker.ietf.org/meeting/84/agenda#row-84-2012-07-30-mon-1300-int-sunset4\n
END:VEVENT
BEGIN:VEVENT
UID:ietf-84-3302-lisp
SUMMARY:lisp - Locator/ID Separation Protocol
LOCATION:Regency E
STATUS:CONFIRMED
CLASS:PUBLIC
DTSTART;TZID=America/Vancouver:20120730T154000
DTEND;TZID=America/Vancouver:20120730T171000
DTSTAMP:20161222T095706Z
URL:https://datatracker.ietf.org/meeting/84/materials/agenda-84-lisp
DESCRIPTION:Afternoon Session II\n
 \n
 Agenda https://datatracker.ietf.org/meeting/84/materials/agenda-84-lisp\n
 \n
 Session materials: https://datatracker.ietf.org/meeting/84/session/lisp\n
 \n
 See in schedule: https://datatracker.ietf.org/meeting/84/agenda#row-84-2012-07-30-mon-1540-int-lisp\n
END:VEVENT
BEGIN:VEVENT
UID:ietf-84-3169-dmm
SUMMARY:dmm - Distributed Mobility Management
LOCATION:Regency E
STATUS:CONFIRMED
CLASS:PUBLIC
DTSTART;TZID=America/Vancouver:20120731T090000
DTEND;TZID=America/Vancouver:20120731T102000
DTSTAMP:20161222T095706Z
URL:https://datatracker.ietf.org/meeting/84/materials/agenda-84-dmm
DESCRIPTION:Morning Session I\n
 \n
 Agenda https://datatracker.ietf.org/meeting/84/materials/agenda-84-dmm\n
 \n
 Session materials: https://datatracker.ietf.org/meeting/84/session/dmm\n
 \n
 See in schedule: https://datatracker.ietf.org/meeting/84/agenda#row-84-2012-07-31-tue-0900-int-dmm\n
END:VEVENT
BEGIN:VEVENT
UID:ietf-84-3178-dmm
SUMMARY:dmm - Distributed Mobility Management
LOCATION:Regency E
STATUS:CONFIRMED
CLASS:PUBLIC
DTSTART;TZID=America/Vancouver:20120731T103000
DTEND;TZID=America/Vancouver:20120731T113000
DTSTAMP:20161222T095706Z
URL:https://datatracker.ietf.org/meeting/84/materials/agenda-84-dmm
DESCRIPTION:Morning Session II\n
 \n
 Agenda https://datatracker.ietf.org/meeting/84/materials/agenda-84-dmm\n
 \n
 Session materials: https://datatracker.ietf.org/meeting/84/session/dmm\n
 \n
 See in schedule: https://datatracker.ietf.org/meeting/84/agenda#row-84-2012-07-31-tue-1030-int-dmm\n
END:VEVENT
BEGIN:VEVENT
UID:ietf-84-3185-ntp
SUMMARY:ntp - Network Time Protocol (Combined with TICTOC)
LOCATION:Regency A
STATUS:CONFIRMED
CLASS:PUBLIC
DTSTART;TZID=America/Vancouver:20120731T130000
DTEND;TZID=America/Vancouver:20120731T150000
DTSTAMP:20161222T095706Z
URL:https://datatracker.ietf.org/meeting/84/materials/agenda-84-ntp
DESCRIPTION:Afternoon Session I\n
 Note: Combined with TICTOC\n
 \n
 Agenda https://datatracker.ietf.org/meeting/84/materials/agenda-84-ntp\n
 \n
 Session materials: https://datatracker.ietf.org/meeting/84/session/ntp\n
 \n
 See in schedule: https://datatracker.ietf.org/meeting/84/agenda#row-84-2012-07-31-tue-1300-int-ntp\n
END:VEVENT
BEGIN:VEVENT
UID:ietf-84-3262-tictoc
SUMMARY:tictoc - Timing over IP Connection and Transfer of Clock (Combined with NTP)
LOCATION:Regency A
STATUS:CONFIRMED
CLASS:PUBLIC
DTSTART;TZID=America/Vancouver:20120731T130000
DTEND;TZID=America/Vancouver:20120731T150000
DTSTAMP:20161222T095706Z
URL:https://datatracker.ietf.org/meeting/84/materials/agenda-84-tictoc
DESCRIPTION:Afternoon Session I\n
 Note: Combined with NTP\n
 \n
 Agenda https://datatracker.ietf.org/meeting/84/materials/agenda-84-tictoc\n
 \n
 Session materials: https://datatracker.ietf.org/meeting/84/session/tictoc\n
 \n
 See in schedule: https://datatracker.ietf.org/meeting/84/agenda#row-84-2012-07-31-tue-1300-int-tictoc\n
END:VEVENT
BEGIN:VEVENT
UID:ietf-84-3200-homenet
SUMMARY:homenet - Home Networking
LOCATION:Regency D
STATUS:CONFIRMED
CLASS:PUBLIC
DTSTART;TZID=America/Vancouver:20120731T152000
DTEND;TZID=America/Vancouver:20120731T165000
DTSTAMP:20161222T095706Z
URL:https://datatracker.ietf.org/meeting/84/materials/agenda-84-homenet
DESCRIPTION:Afternoon Session II\n
 \n
 Agenda https://datatracker.ietf.org/meeting/84/materials/agenda-84-homenet\n
 \n
 Session materials: https://datatracker.ietf.org/meeting/84/session/homenet\n
 \n
 See in schedule: https://datatracker.ietf.org/meeting/84/agenda#row-84-2012-07-31-tue-1520-int-homenet\n
END:VEVENT
BEGIN:VEVENT
UID:ietf-84-3209-homenet
SUMMARY:homenet - Home Networking
LOCATION:Regency D
STATUS:CONFIRMED
CLASS:PUBLIC
DTSTART;TZID=America/Vancouver:20120731T170000
DTEND;TZID=America/Vancouver:20120731T183000
DTSTAMP:20161222T095706Z
URL:https://datatracker.ietf.org/meeting/84/materials/agenda-84-homenet
DESCRIPTION:Afternoon Session III\n
 \n
 Agenda https://datatracker.ietf.org/meeting/84/materials/agenda-84-homenet\n
 \n
 Session materials: https://datatracker.ietf.org/meeting/84/session/homenet\n
 \n
 See in schedule: https://datatracker.ietf.org/meeting/84/agenda#row-84-2012-07-31-tue-1700-int-homenet\n
END:VEVENT
BEGIN:VEVENT
UID:ietf-84-2999-6man
SUMMARY:6man - IPv6 Maintenance
LOCATION:Regency C
STATUS:CONFIRMED
CLASS:PUBLIC
DTSTART;TZID=America/Vancouver:20120801T090000
DTEND;TZID=America/Vancouver:20120801T113000
DTSTAMP:20161222T095706Z
URL:https://datatracker.ietf.org/meeting/84/materials/agenda-84-6man
DESCRIPTION:Morning Session I\n
 \n
 Agenda https://datatracker.ietf.org/meeting/84/materials/agenda-84-6man\n
 \n
 Session materials: https://datatracker.ietf.org/meeting/84/session/6man\n
 \n
 See in schedule: https://datatracker.ietf.org/meeting/84/agenda#row-84-2012-08-01-wed-0900-int-6man\n
END:VEVENT
BEGIN:VEVENT
UID:ietf-84-3044-mif
SUMMARY:mif - Multiple Interfaces
LOCATION:Regency E
STATUS:CONFIRMED
CLASS:PUBLIC
DTSTART;TZID=America/Vancouver:20120801T130000
DTEND;TZID=America/Vancouver:20120801T150000
DTSTAMP:20161222T095706Z
URL:https://datatracker.ietf.org/meeting/84/materials/agenda-84-mif
DESCRIPTION:Afternoon Session I\n
 \n
 Agenda https://datatracker.ietf.org/meeting/84/materials/agenda-84-mif\n
 \n
 Session materials: https://datatracker.ietf.org/meeting/84/session/mif\n
 \n
 See in schedule: https://datatracker.ietf.org/meeting/84/agenda#row-84-2012-08-01-wed-1300-int-mif\n
END:VEVENT
BEGIN:VEVENT
UID:ietf-84-3260-intarea
SUMMARY:intarea - Internet Area Working Group
LOCATION:Regency D
STATUS:CONFIRMED
CLASS:PUBLIC
DTSTART;TZID=America/Vancouver:20120801T151000
DTEND;TZID=America/Vancouver:20120801T171000
DTSTAMP:20161222T095706Z
URL:https://datatracker.ietf.org/meeting/84/materials/agenda-84-intarea
DESCRIPTION:Afternoon Session II\n
 \n
 Agenda https://datatracker.ietf.org/meeting/84/materials/agenda-84-intarea\n
 \n
 Session materials: https://datatracker.ietf.org/meeting/84/session/intarea\n
 \n
 See in schedule: https://datatracker.ietf.org/meeting/84/agenda#row-84-2012-08-01-wed-1510-int-intarea\n
END:VEVENT
BEGIN:VEVENT
UID:ietf-84-3027-softwire
SUMMARY:softwire - Softwires
LOCATION:Regency B
STATUS:CONFIRMED
CLASS:PUBLIC
DTSTART;TZID=America/Vancouver:20120802T090000
DTEND;TZID=America/Vancouver:20120802T113000
DTSTAMP:20161222T095706Z
URL:https://datatracker.ietf.org/meeting/84/materials/agenda-84-softwire
DESCRIPTION:Morning Session I\n
 \n
 Agenda https://datatracker.ietf.org/meeting/84/materials/agenda-84-softwire\n
 \n
 Session materials: https://datatracker.ietf.org/meeting/84/session/softwire\n
 \n
 See in schedule: https://datatracker.ietf.org/meeting/84/agenda#row-84-2012-08-02-thu-0900-int-softwire\n
END:VEVENT
BEGIN:VEVENT
UID:ietf-84-3068-netext
SUMMARY:netext - Network-Based Mobility Extensions
LOCATION:Regency E
STATUS:CONFIRMED
CLASS:PUBLIC
DTSTART;TZID=America/Vancouver:20120802T130000
DTEND;TZID=America/Vancouver:20120802T150000
DTSTAMP:20161222T095706Z
URL:https://datatracker.ietf.org/meeting/84/materials/agenda-84-netext
DESCRIPTION:Afternoon Session I\n
 \n
 Agenda https://datatracker.ietf.org/meeting/84/materials/agenda-84-netext\n
 \n
 Session materials: https://datatracker.ietf.org/meeting/84/session/netext\n
 \n
 See in schedule: https://datatracker.ietf.org/meeting/84/agenda#row-84-2012-08-02-thu-1300-int-netext\n
END:VEVENT
BEGIN:VEVENT
UID:ietf-84-3069-trill
SUMMARY:trill - Transparent Interconnection of Lots of Links
LOCATION:Regency F
STATUS:CONFIRMED
CLASS:PUBLIC
DTSTART;TZID=America/Vancouver:20120802T130000
DTEND;TZID=America/Vancouver:20120802T150000
DTSTAMP:20161222T095706Z
URL:https://datatracker.ietf.org/meeting/84/materials/agenda-84-trill
DESCRIPTION:Afternoon Session I\n
 \n
 Agenda https://datatracker.ietf.org/meeting/84/materials/agenda-84-trill\n
 \n
 Session materials: https://datatracker.ietf.org/meeting/84/session/trill\n
 \n
 See in schedule: https://datatracker.ietf.org/meeting/84/agenda#row-84-2012-08-02-thu-1300-int-trill\n
END:VEVENT
BEGIN:VEVENT
UID:ietf-84-3235-pcp
SUMMARY:pcp - Port Control Protocol
LOCATION:Regency A
STATUS:CONFIRMED
CLASS:PUBLIC
DTSTART;TZID=America/Vancouver:20120802T151000
DTEND;TZID=America/Vancouver:20120802T171000
DTSTAMP:20161222T095706Z
URL:https://datatracker.ietf.org/meeting/84/materials/agenda-84-pcp
DESCRIPTION:Afternoon Session II\n
 \n
 Agenda https://datatracker.ietf.org/meeting/84/materials/agenda-84-pcp\n
 \n
 Session materials: https://datatracker.ietf.org/meeting/84/session/pcp\n
 \n
 See in schedule: https://datatracker.ietf.org/meeting/84/agenda#row-84-2012-08-02-thu-1510-int-pcp\n
END:VEVENT
BEGIN:VEVENT
UID:ietf-84-3250-lwig
SUMMARY:lwig - Light-Weight Implementation Guidance
LOCATION:Regency D
STATUS:CONFIRMED
CLASS:PUBLIC
DTSTART;TZID=America/Vancouver:20120802T173000
DTEND;TZID=America/Vancouver:20120802T183000
DTSTAMP:20161222T095706Z
URL:https://datatracker.ietf.org/meeting/84/materials/agenda-84-lwig
DESCRIPTION:Afternoon Session III\n
 \n
 Agenda https://datatracker.ietf.org/meeting/84/materials/agenda-84-lwig\n
 \n
 Session materials: https://datatracker.ietf.org/meeting/84/session/lwig\n
 \n
 See in schedule: https://datatracker.ietf.org/meeting/84/agenda#row-84-2012-08-02-thu-1730-int-lwig\n
END:VEVENT
BEGIN:VEVENT
UID:ietf-84-3247-trill
SUMMARY:trill - Transparent Interconnection of Lots of Links
LOCATION:Regency F
STATUS:CONFIRMED
CLASS:PUBLIC
DTSTART;TZID=America/Vancouver:20120802T173000
DTEND;TZID=America/Vancouver:20120802T183000
DTSTAMP:20161222T095706Z
URL:https://datatracker.ietf.org/meeting/84/materials/agenda-84-trill
DESCRIPTION:Afternoon Session III\n
 \n
 Agenda https://datatracker.ietf.org/meeting/84/materials/agenda-84-trill\n
 \n
 Session materials: https://datatracker.ietf.org/meeting/84/session/trill\n
 \n
 See in schedule: https://datatracker.ietf.org/meeting/84/agenda#row-84-2012-08-02-thu-1730-int-trill\n
END:VEVENT
BEGIN:VEVENT
UID:ietf-84-3051-pcp
SUMMARY:pcp - Port Control Protocol
LOCATION:Regency B
STATUS:CONFIRMED
CLASS:PUBLIC
DTSTART;TZID=America/Vancouver:20120803T112000
DTEND;TZID=America/Vancouver:20120803T122000
DTSTAMP:20161222T095706Z
URL:https://datatracker.ietf.org/meeting/84/materials/agenda-84-pcp
DESCRIPTION:Afternoon Session I\n
 \n
 Agenda https://datatracker.ietf.org/meeting/84/materials/agenda-84-pcp\n
 \n
 Session materials: https://datatracker.ietf.org/meeting/84/session/pcp\n
 \n
 See in schedule: https://datatracker.ietf.org/meeting/84/agenda#row-84-2012-08-03-fri-1120-int-pcp\n
END:VEVENT
END:VCALENDAR
