BEGIN:VCALENDAR
VERSION:2.0
METHOD:PUBLISH
PRODID:-//IETF//datatracker.ietf.org ical agenda//EN
BEGIN:VTIMEZONE
TZID:America/Vancouver
X-LIC-LOCATION:America/Vancouver
BEGIN:DAYLIGHT
TZOFFSETFROM:-0800
TZOFFSETTO:-0700
TZNAME:PDT
DTSTART:20070311T020000
RRULE:FREQ=YEARLY;BYMONTH=3;BYDAY=2SU
END:DAYLIGHT
BEGIN:STANDARD
TZOFFSETFROM:-0700
TZOFFSETTO:-0800
TZNAME:PST
DTSTART:20071104T020000
RRULE:FREQ=YEARLY;BYMONTH=11;BYDAY=1SU
END:STANDARD
BEGIN:STANDARD
TZOFFSETFROM:-081228
TZOFFSETTO:-0800
TZNAME:PST
DTSTART:18840101T000000
RDATE:18840101T000000
END:STANDARD
BEGIN:DAYLIGHT
TZOFFSETFROM:-0800
TZOFFSETTO:-0700
TZNAME:PDT
DTSTART:19180414T020000
RDATE:19180414T020000
RDATE:19460428T020000
RDATE:19470427T020000
RDATE:19480425T020000
RDATE:19490424T020000
RDATE:19500430T020000
RDATE:19510429T020000
RDATE:19520427T020000
RDATE:19530426T020000
RDATE:19540425T020000
RDATE:19550424T020000
RDATE:19560429T020000
RDATE:19570428T020000
RDATE:19580427T020000
RDATE:19590426T020000
RDATE:19600424T020000
RDATE:19610430T020000
RDATE:19620429T020000
RDATE:19630428T020000
RDATE:19640426T020000
RDATE:19650425T020000
RDATE:19660424T020000
RDATE:19670430T020000
RDATE:19680428T020000
RDATE:19690427T020000
RDATE:19700426T020000
RDATE:19710425T020000
RDATE:19720430T020000
RDATE:19730429T020000
RDATE:19740428T020000
RDATE:19750427T020000
RDATE:19760425T020000
RDATE:19770424T020000
RDATE:19780430T020000
RDATE:19790429T020000
RDATE:19800427T020000
RDATE:19810426T020000
RDATE:19820425T020000
RDATE:19830424T020000
RDATE:19840429T020000
RDATE:19850428T020000
RDATE:19860427T020000
RDATE:19870405T020000
RDATE:19880403T020000
RDATE:19890402T020000
RDATE:19900401T020000
RDATE:19910407T020000
RDATE:19920405T020000
RDATE:19930404T020000
RDATE:19940403T020000
RDATE:19950402T020000
RDATE:19960407T020000
RDATE:19970406T020000
RDATE:19980405T020000
RDATE:19990404T020000
RDATE:20000402T020000
RDATE:20010401T020000
RDATE:20020407T020000
RDATE:20030406T020000
RDATE:20040404T020000
RDATE:20050403T020000
RDATE:20060402T020000
END:DAYLIGHT
BEGIN:STANDARD
TZOFFSETFROM:-0700
TZOFFSETTO:-0800
TZNAME:PST
DTSTART:19181027T020000
RDATE:19181027T020000
RDATE:19450930T020000
RDATE:19461013T020000
RDATE:19470928T020000
RDATE:19480926T020000
RDATE:19490925T020000
RDATE:19500924T020000
RDATE:19510930T020000
RDATE:19520928T020000
RDATE:19530927T020000
RDATE:19540926T020000
RDATE:19550925T020000
RDATE:19560930T020000
RDATE:19570929T020000
RDATE:19580928T020000
RDATE:19590927T020000
RDATE:19600925T020000
RDATE:19610924T020000
RDATE:19621028T020000
RDATE:19631027T020000
RDATE:19641025T020000
RDATE:19651031T020000
RDATE:19661030T020000
RDATE:19671029T020000
RDATE:19681027T020000
RDATE:19691026T020000
RDATE:19701025T020000
RDATE:19711031T020000
RDATE:19721029T020000
RDATE:19731028T020000
RDATE:19741027T020000
RDATE:19751026T020000
RDATE:19761031T020000
RDATE:19771030T020000
RDATE:19781029T020000
RDATE:19791028T020000
RDATE:19801026T020000
RDATE:19811025T020000
RDATE:19821031T020000
RDATE:19831030T020000
RDATE:19841028T020000
RDATE:19851027T020000
RDATE:19861026T020000
RDATE:19871025T020000
RDATE:19881030T020000
RDATE:19891029T020000
RDATE:19901028T020000
RDATE:19911027T020000
RDATE:19921025T020000
RDATE:19931031T020000
RDATE:19941030T020000
RDATE:19951029T020000
RDATE:19961027T020000
RDATE:19971026T020000
RDATE:19981025T020000
RDATE:19991031T020000
RDATE:20001029T020000
RDATE:20011028T020000
RDATE:20021027T020000
RDATE:20031026T020000
RDATE:20041031T020000
RDATE:20051030T020000
RDATE:20061029T020000
END:STANDARD
BEGIN:DAYLIGHT
TZOFFSETFROM:-0800
TZOFFSETTO:-0700
TZNAME:PWT
DTSTART:19420209T020000
RDATE:19420209T020000
END:DAYLIGHT
BEGIN:DAYLIGHT
TZOFFSETFROM:-0700
TZOFFSETTO:-0700
TZNAME:PPT
DTSTART:19450814T160000
RDATE:19450814T160000
END:DAYLIGHT
BEGIN:STANDARD
TZOFFSETFROM:-0800
TZOFFSETTO:-0800
TZNAME:PST
DTSTART:19870101T000000
RDATE:19870101T000000
END:STANDARD
END:VTIMEZONE
BEGIN:VEVENT
UID:ietf-84-2987-mboned
SUMMARY:mboned - MBONE Deployment
LOCATION:Regency B
STATUS:CONFIRMED
CLASS:PUBLIC
DTSTART;TZID=America/Vancouver:20120730T090000
DTEND;TZID=America/Vancouver:20120730T113000
DTSTAMP:20161222T095706Z
URL:https://datatracker.ietf.org/meeting/84/materials/agenda-84-mboned
DESCRIPTION:Morning Session I\n
 \n
 Agenda https://datatracker.ietf.org/meeting/84/materials/agenda-84-mboned\n
 \n
 Session materials: https://datatracker.ietf.org/meeting/84/session/mboned\n
 \n
 See in schedule: https://datatracker.ietf.org/meeting/84/agenda#row-84-2012-07-30-mon-0900-ops-mboned\n
END:VEVENT
BEGIN:VEVENT
UID:ietf-84-3140-netconf
SUMMARY:netconf - Network Configuration
LOCATION:Regency A
STATUS:CONFIRMED
CLASS:PUBLIC
DTSTART;TZID=America/Vancouver:20120730T154000
DTEND;TZID=America/Vancouver:20120730T171000
DTSTAMP:20161222T095706Z
URL:https://datatracker.ietf.org/meeting/84/materials/agenda-84-netconf
DESCRIPTION:Afternoon Session II\n
 \n
 Agenda https://datatracker.ietf.org/meeting/84/materials/agenda-84-netconf\n
 \n
 Session materials: https://datatracker.ietf.org/meeting/84/session/netconf\n
 \n
 See in schedule: https://datatracker.ietf.org/meeting/84/agenda#row-84-2012-07-30-mon-1540-ops-netconf\n
END:VEVENT
BEGIN:VEVENT
UID:ietf-84-3170-grow
SUMMARY:grow - Global Routing Operations
LOCATION:Regency F
STATUS:CONFIRMED
CLASS:PUBLIC
DTSTART;TZID=America/Vancouver:20120731T090000
DTEND;TZID=America/Vancouver:20120731T102000
DTSTAMP:20161222T095706Z
URL:https://datatracker.ietf.org/meeting/84/materials/agenda-84-grow
DESCRIPTION:Morning Session I\n
 \n
 Agenda https://datatracker.ietf.org/meeting/84/materials/agenda-84-grow\n
 \n
 Session materials: https://datatracker.ietf.org/meeting/84/session/grow\n
 \n
 See in schedule: https://datatracker.ietf.org/meeting/84/agenda#row-84-2012-07-31-tue-0900-ops-grow\n
END:VEVENT
BEGIN:VEVENT
UID:ietf-84-3180-6renum
SUMMARY:6renum - IPv6 Site Renumbering
LOCATION:Georgia B
STATUS:CONFIRMED
CLASS:PUBLIC
DTSTART;TZID=America/Vancouver:20120731T103000
DTEND;TZID=America/Vancouver:20120731T113000
DTSTAMP:20161222T095706Z
URL:https://datatracker.ietf.org/meeting/84/materials/agenda-84-6renum
DESCRIPTION:Morning Session II\n
 \n
 Agenda https://datatracker.ietf.org/meeting/84/materials/agenda-84-6renum\n
 \n
 Session materials: https://datatracker.ietf.org/meeting/84/session/6renum\n
 \n
 See in schedule: https://datatracker.ietf.org/meeting/84/agenda#row-84-2012-07-31-tue-1030-ops-6renum\n
END:VEVENT
BEGIN:VEVENT
UID:ietf-84-3184-dime
SUMMARY:dime - Diameter Maintenance and Extensions
LOCATION:Georgia A
STATUS:CONFIRMED
CLASS:PUBLIC
DTSTART;TZID=America/Vancouver:20120731T130000
DTEND;TZID=America/Vancouver:20120731T150000
DTSTAMP:20161222T095706Z
URL:https://datatracker.ietf.org/meeting/84/materials/agenda-84-dime
DESCRIPTION:Afternoon Session I\n
 \n
 Agenda https://datatracker.ietf.org/meeting/84/materials/agenda-84-dime\n
 \n
 Session materials: https://datatracker.ietf.org/meeting/84/session/dime\n
 \n
 See in schedule: https://datatracker.ietf.org/meeting/84/agenda#row-84-2012-07-31-tue-1300-ops-dime\n
END:VEVENT
BEGIN:VEVENT
UID:ietf-84-3204-netmod
SUMMARY:netmod - NETCONF Data Modeling Language
LOCATION:Regency B
STATUS:CONFIRMED
CLASS:PUBLIC
DTSTART;TZID=America/Vancouver:20120731T170000
DTEND;TZID=America/Vancouver:20120731T183000
DTSTAMP:20161222T095706Z
URL:https://datatracker.ietf.org/meeting/84/materials/agenda-84-netmod
DESCRIPTION:Afternoon Session III\n
 \n
 Agenda https://datatracker.ietf.org/meeting/84/materials/agenda-84-netmod\n
 \n
 Session materials: https://datatracker.ietf.org/meeting/84/session/netmod\n
 \n
 See in schedule: https://datatracker.ietf.org/meeting/84/agenda#row-84-2012-07-31-tue-1700-ops-netmod\n
END:VEVENT
BEGIN:VEVENT
UID:ietf-84-3311-opsec
SUMMARY:opsec - Operational Security Capabilities for IP Network Infrastructure
LOCATION:Georgia B
STATUS:CONFIRMED
CLASS:PUBLIC
DTSTART;TZID=America/Vancouver:20120801T130000
DTEND;TZID=America/Vancouver:20120801T150000
DTSTAMP:20161222T095706Z
URL:https://datatracker.ietf.org/meeting/84/materials/agenda-84-opsec
DESCRIPTION:Afternoon Session I\n
 \n
 Agenda https://datatracker.ietf.org/meeting/84/materials/agenda-84-opsec\n
 \n
 Session materials: https://datatracker.ietf.org/meeting/84/session/opsec\n
 \n
 See in schedule: https://datatracker.ietf.org/meeting/84/agenda#row-84-2012-08-01-wed-1300-ops-opsec\n
END:VEVENT
BEGIN:VEVENT
UID:ietf-84-3256-eman
SUMMARY:eman - Energy Management
LOCATION:Regency E
STATUS:CONFIRMED
CLASS:PUBLIC
DTSTART;TZID=America/Vancouver:20120801T151000
DTEND;TZID=America/Vancouver:20120801T171000
DTSTAMP:20161222T095706Z
URL:https://datatracker.ietf.org/meeting/84/materials/agenda-84-eman
DESCRIPTION:Afternoon Session II\n
 \n
 Agenda https://datatracker.ietf.org/meeting/84/materials/agenda-84-eman\n
 \n
 Session materials: https://datatracker.ietf.org/meeting/84/session/eman\n
 \n
 See in schedule: https://datatracker.ietf.org/meeting/84/agenda#row-84-2012-08-01-wed-1510-ops-eman\n
END:VEVENT
BEGIN:VEVENT
UID:ietf-84-3031-v6ops
SUMMARY:v6ops - IPv6 Operations
LOCATION:Regency C
STATUS:CONFIRMED
CLASS:PUBLIC
DTSTART;TZID=America/Vancouver:20120802T090000
DTEND;TZID=America/Vancouver:20120802T113000
DTSTAMP:20161222T095706Z
URL:https://datatracker.ietf.org/meeting/84/materials/agenda-84-v6ops
DESCRIPTION:Morning Session I\n
 \n
 Agenda https://datatracker.ietf.org/meeting/84/materials/agenda-84-v6ops\n
 \n
 Session materials: https://datatracker.ietf.org/meeting/84/session/v6ops\n
 \n
 See in schedule: https://datatracker.ietf.org/meeting/84/agenda#row-84-2012-08-02-thu-0900-ops-v6ops\n
END:VEVENT
BEGIN:VEVENT
UID:ietf-84-3066-ipfix
SUMMARY:ipfix - IP Flow Information Export
LOCATION:Regency A
STATUS:CONFIRMED
CLASS:PUBLIC
DTSTART;TZID=America/Vancouver:20120802T130000
DTEND;TZID=America/Vancouver:20120802T150000
DTSTAMP:20161222T095706Z
URL:https://datatracker.ietf.org/meeting/84/materials/agenda-84-ipfix
DESCRIPTION:Afternoon Session I\n
 \n
 Agenda https://datatracker.ietf.org/meeting/84/materials/agenda-84-ipfix\n
 \n
 Session materials: https://datatracker.ietf.org/meeting/84/session/ipfix\n
 \n
 See in schedule: https://datatracker.ietf.org/meeting/84/agenda#row-84-2012-08-02-thu-1300-ops-ipfix\n
END:VEVENT
BEGIN:VEVENT
UID:ietf-84-3239-opsawg
SUMMARY:opsawg - Operations and Management Area Working Group (Combined with OPSAREA)
LOCATION:Georgia B
STATUS:CONFIRMED
CLASS:PUBLIC
DTSTART;TZID=America/Vancouver:20120802T151000
DTEND;TZID=America/Vancouver:20120802T171000
DTSTAMP:20161222T095706Z
URL:https://datatracker.ietf.org/meeting/84/materials/agenda-84-opsawg
DESCRIPTION:Afternoon Session II\n
 Note: Combined with OPSAREA\n
 \n
 Agenda https://datatracker.ietf.org/meeting/84/materials/agenda-84-opsawg\n
 \n
 Session materials: https://datatracker.ietf.org/meeting/84/session/opsawg\n
 \n
 See in schedule: https://datatracker.ietf.org/meeting/84/agenda#row-84-2012-08-02-thu-1510-ops-opsawg\n
END:VEVENT
BEGIN:VEVENT
UID:ietf-84-3244-bmwg
SUMMARY:bmwg - Benchmarking Methodology
LOCATION:Regency A
STATUS:CONFIRMED
CLASS:PUBLIC
DTSTART;TZID=America/Vancouver:20120802T173000
DTEND;TZID=America/Vancouver:20120802T183000
DTSTAMP:20161222T095706Z
URL:https://datatracker.ietf.org/meeting/84/materials/agenda-84-bmwg
DESCRIPTION:Afternoon Session III\n
 \n
 Agenda https://datatracker.ietf.org/meeting/84/materials/agenda-84-bmwg\n
 \n
 Session materials: https://datatracker.ietf.org/meeting/84/session/bmwg\n
 \n
 See in schedule: https://datatracker.ietf.org/meeting/84/agenda#row-84-2012-08-02-thu-1730-ops-bmwg\n
END:VEVENT
BEGIN:VEVENT
UID:ietf-84-3248-dnsop
SUMMARY:dnsop - Domain Name System Operations
LOCATION:Georgia B
STATUS:CONFIRMED
CLASS:PUBLIC
DTSTART;TZID=America/Vancouver:20120802T173000
DTEND;TZID=America/Vancouver:20120802T183000
DTSTAMP:20161222T095706Z
URL:https://datatracker.ietf.org/meeting/84/materials/agenda-84-dnsop
DESCRIPTION:Afternoon Session III\n
 \n
 Agenda https://datatracker.ietf.org/meeting/84/materials/agenda-84-dnsop\n
 \n
 Session materials: https://datatracker.ietf.org/meeting/84/session/dnsop\n
 \n
 See in schedule: https://datatracker.ietf.org/meeting/84/agenda#row-84-2012-08-02-thu-1730-ops-dnsop\n
END:VEVENT
BEGIN:VEVENT
UID:ietf-84-3079-v6ops
SUMMARY:v6ops - IPv6 Operations
LOCATION:Regency C
STATUS:CONFIRMED
CLASS:PUBLIC
DTSTART;TZID=America/Vancouver:20120803T090000
DTEND;TZID=America/Vancouver:20120803T110000
DTSTAMP:20161222T095706Z
URL:https://datatracker.ietf.org/meeting/84/materials/agenda-84-v6ops
DESCRIPTION:Morning Session I\n
 \n
 Agenda https://datatracker.ietf.org/meeting/84/materials/agenda-84-v6ops\n
 \n
 Session materials: https://datatracker.ietf.org/meeting/84/session/v6ops\n
 \n
 See in schedule: https://datatracker.ietf.org/meeting/84/agenda#row-84-2012-08-03-fri-0900-ops-v6ops\n
END:VEVENT
BEGIN:VEVENT
UID:ietf-84-3055-radext
SUMMARY:radext - RADIUS EXTensions
LOCATION:Regency C
STATUS:CONFIRMED
CLASS:PUBLIC
DTSTART;TZID=America/Vancouver:20120803T112000
DTEND;TZID=America/Vancouver:20120803T122000
DTSTAMP:20161222T095706Z
URL:https://datatracker.ietf.org/meeting/84/materials/agenda-84-radext
DESCRIPTION:Afternoon Session I\n
 \n
 Agenda https://datatracker.ietf.org/meeting/84/materials/agenda-84-radext\n
 \n
 Session materials: https://datatracker.ietf.org/meeting/84/session/radext\n
 \n
 See in schedule: https://datatracker.ietf.org/meeting/84/agenda#row-84-2012-08-03-fri-1120-ops-radext\n
END:VEVENT
BEGIN:VEVENT
UID:ietf-84-3095-radext
SUMMARY:radext - RADIUS EXTensions
LOCATION:Regency C
STATUS:CONFIRMED
CLASS:PUBLIC
DTSTART;TZID=America/Vancouver:20120803T123000
DTEND;TZID=America/Vancouver:20120803T133000
DTSTAMP:20161222T095706Z
URL:https://datatracker.ietf.org/meeting/84/materials/agenda-84-radext
DESCRIPTION:Afternoon Session II\n
 \n
 Agenda https://datatracker.ietf.org/meeting/84/materials/agenda-84-radext\n
 \n
 Session materials: https://datatracker.ietf.org/meeting/84/session/radext\n
 \n
 See in schedule: https://datatracker.ietf.org/meeting/84/agenda#row-84-2012-08-03-fri-1230-ops-radext\n
END:VEVENT
END:VCALENDAR
