BEGIN:VCALENDAR
VERSION:2.0
METHOD:PUBLISH
PRODID:-//IETF//datatracker.ietf.org ical agenda//EN
BEGIN:VTIMEZONE
TZID:America/Vancouver
X-LIC-LOCATION:America/Vancouver
BEGIN:DAYLIGHT
TZOFFSETFROM:-0800
TZOFFSETTO:-0700
TZNAME:PDT
DTSTART:20070311T020000
RRULE:FREQ=YEARLY;BYMONTH=3;BYDAY=2SU
END:DAYLIGHT
BEGIN:STANDARD
TZOFFSETFROM:-0700
TZOFFSETTO:-0800
TZNAME:PST
DTSTART:20071104T020000
RRULE:FREQ=YEARLY;BYMONTH=11;BYDAY=1SU
END:STANDARD
BEGIN:STANDARD
TZOFFSETFROM:-081228
TZOFFSETTO:-0800
TZNAME:PST
DTSTART:18840101T000000
RDATE:18840101T000000
END:STANDARD
BEGIN:DAYLIGHT
TZOFFSETFROM:-0800
TZOFFSETTO:-0700
TZNAME:PDT
DTSTART:19180414T020000
RDATE:19180414T020000
RDATE:19460428T020000
RDATE:19470427T020000
RDATE:19480425T020000
RDATE:19490424T020000
RDATE:19500430T020000
RDATE:19510429T020000
RDATE:19520427T020000
RDATE:19530426T020000
RDATE:19540425T020000
RDATE:19550424T020000
RDATE:19560429T020000
RDATE:19570428T020000
RDATE:19580427T020000
RDATE:19590426T020000
RDATE:19600424T020000
RDATE:19610430T020000
RDATE:19620429T020000
RDATE:19630428T020000
RDATE:19640426T020000
RDATE:19650425T020000
RDATE:19660424T020000
RDATE:19670430T020000
RDATE:19680428T020000
RDATE:19690427T020000
RDATE:19700426T020000
RDATE:19710425T020000
RDATE:19720430T020000
RDATE:19730429T020000
RDATE:19740428T020000
RDATE:19750427T020000
RDATE:19760425T020000
RDATE:19770424T020000
RDATE:19780430T020000
RDATE:19790429T020000
RDATE:19800427T020000
RDATE:19810426T020000
RDATE:19820425T020000
RDATE:19830424T020000
RDATE:19840429T020000
RDATE:19850428T020000
RDATE:19860427T020000
RDATE:19870405T020000
RDATE:19880403T020000
RDATE:19890402T020000
RDATE:19900401T020000
RDATE:19910407T020000
RDATE:19920405T020000
RDATE:19930404T020000
RDATE:19940403T020000
RDATE:19950402T020000
RDATE:19960407T020000
RDATE:19970406T020000
RDATE:19980405T020000
RDATE:19990404T020000
RDATE:20000402T020000
RDATE:20010401T020000
RDATE:20020407T020000
RDATE:20030406T020000
RDATE:20040404T020000
RDATE:20050403T020000
RDATE:20060402T020000
END:DAYLIGHT
BEGIN:STANDARD
TZOFFSETFROM:-0700
TZOFFSETTO:-0800
TZNAME:PST
DTSTART:19181027T020000
RDATE:19181027T020000
RDATE:19450930T020000
RDATE:19461013T020000
RDATE:19470928T020000
RDATE:19480926T020000
RDATE:19490925T020000
RDATE:19500924T020000
RDATE:19510930T020000
RDATE:19520928T020000
RDATE:19530927T020000
RDATE:19540926T020000
RDATE:19550925T020000
RDATE:19560930T020000
RDATE:19570929T020000
RDATE:19580928T020000
RDATE:19590927T020000
RDATE:19600925T020000
RDATE:19610924T020000
RDATE:19621028T020000
RDATE:19631027T020000
RDATE:19641025T020000
RDATE:19651031T020000
RDATE:19661030T020000
RDATE:19671029T020000
RDATE:19681027T020000
RDATE:19691026T020000
RDATE:19701025T020000
RDATE:19711031T020000
RDATE:19721029T020000
RDATE:19731028T020000
RDATE:19741027T020000
RDATE:19751026T020000
RDATE:19761031T020000
RDATE:19771030T020000
RDATE:19781029T020000
RDATE:19791028T020000
RDATE:19801026T020000
RDATE:19811025T020000
RDATE:19821031T020000
RDATE:19831030T020000
RDATE:19841028T020000
RDATE:19851027T020000
RDATE:19861026T020000
RDATE:19871025T020000
RDATE:19881030T020000
RDATE:19891029T020000
RDATE:19901028T020000
RDATE:19911027T020000
RDATE:19921025T020000
RDATE:19931031T020000
RDATE:19941030T020000
RDATE:19951029T020000
RDATE:19961027T020000
RDATE:19971026T020000
RDATE:19981025T020000
RDATE:19991031T020000
RDATE:20001029T020000
RDATE:20011028T020000
RDATE:20021027T020000
RDATE:20031026T020000
RDATE:20041031T020000
RDATE:20051030T020000
RDATE:20061029T020000
END:STANDARD
BEGIN:DAYLIGHT
TZOFFSETFROM:-0800
TZOFFSETTO:-0700
TZNAME:PWT
DTSTART:19420209T020000
RDATE:19420209T020000
END:DAYLIGHT
BEGIN:DAYLIGHT
TZOFFSETFROM:-0700
TZOFFSETTO:-0700
TZNAME:PPT
DTSTART:19450814T160000
RDATE:19450814T160000
END:DAYLIGHT
BEGIN:STANDARD
TZOFFSETFROM:-0800
TZOFFSETTO:-0800
TZNAME:PST
DTSTART:19870101T000000
RDATE:19870101T000000
END:STANDARD
END:VTIMEZONE
BEGIN:VEVENT
UID:ietf-84-2991-mpls
SUMMARY:mpls - Multiprotocol Label Switching
LOCATION:Regency C
STATUS:CONFIRMED
CLASS:PUBLIC
DTSTART;TZID=America/Vancouver:20120730T090000
DTEND;TZID=America/Vancouver:20120730T113000
DTSTAMP:20161222T095706Z
URL:https://datatracker.ietf.org/meeting/84/materials/agenda-84-mpls
DESCRIPTION:Morning Session I\n
 \n
 Agenda https://datatracker.ietf.org/meeting/84/materials/agenda-84-mpls\n
 \n
 Session materials: https://datatracker.ietf.org/meeting/84/session/mpls\n
 \n
 See in schedule: https://datatracker.ietf.org/meeting/84/agenda#row-84-2012-07-30-mon-0900-rtg-mpls\n
END:VEVENT
BEGIN:VEVENT
UID:ietf-84-3135-idr
SUMMARY:idr - Inter-Domain Routing
LOCATION:Georgia B
STATUS:CONFIRMED
CLASS:PUBLIC
DTSTART;TZID=America/Vancouver:20120730T130000
DTEND;TZID=America/Vancouver:20120730T153000
DTSTAMP:20161222T095706Z
URL:https://datatracker.ietf.org/meeting/84/materials/agenda-84-idr
DESCRIPTION:Afternoon Session I\n
 \n
 Agenda https://datatracker.ietf.org/meeting/84/materials/agenda-84-idr\n
 \n
 Session materials: https://datatracker.ietf.org/meeting/84/session/idr\n
 \n
 See in schedule: https://datatracker.ietf.org/meeting/84/agenda#row-84-2012-07-30-mon-1300-rtg-idr\n
END:VEVENT
BEGIN:VEVENT
UID:ietf-84-2978-manet
SUMMARY:manet - Mobile Ad-hoc Networks
LOCATION:Regency A
STATUS:CONFIRMED
CLASS:PUBLIC
DTSTART;TZID=America/Vancouver:20120730T130000
DTEND;TZID=America/Vancouver:20120730T153000
DTSTAMP:20161222T095706Z
URL:https://datatracker.ietf.org/meeting/84/materials/agenda-84-manet
DESCRIPTION:Afternoon Session I\n
 \n
 Agenda https://datatracker.ietf.org/meeting/84/materials/agenda-84-manet\n
 \n
 Session materials: https://datatracker.ietf.org/meeting/84/session/manet\n
 \n
 See in schedule: https://datatracker.ietf.org/meeting/84/agenda#row-84-2012-07-30-mon-1300-rtg-manet\n
END:VEVENT
BEGIN:VEVENT
UID:ietf-84-3144-bfd
SUMMARY:bfd - Bidirectional Forwarding Detection
LOCATION:Georgia B
STATUS:CONFIRMED
CLASS:PUBLIC
DTSTART;TZID=America/Vancouver:20120730T154000
DTEND;TZID=America/Vancouver:20120730T171000
DTSTAMP:20161222T095706Z
URL:https://datatracker.ietf.org/meeting/84/materials/agenda-84-bfd
DESCRIPTION:Afternoon Session II\n
 \n
 Agenda https://datatracker.ietf.org/meeting/84/materials/agenda-84-bfd\n
 \n
 Session materials: https://datatracker.ietf.org/meeting/84/session/bfd\n
 \n
 See in schedule: https://datatracker.ietf.org/meeting/84/agenda#row-84-2012-07-30-mon-1540-rtg-bfd\n
END:VEVENT
BEGIN:VEVENT
UID:ietf-84-3313-l3vpn
SUMMARY:l3vpn - Layer 3 Virtual Private Networks
LOCATION:Regency C
STATUS:CONFIRMED
CLASS:PUBLIC
DTSTART;TZID=America/Vancouver:20120730T154000
DTEND;TZID=America/Vancouver:20120730T171000
DTSTAMP:20161222T095706Z
URL:https://datatracker.ietf.org/meeting/84/materials/agenda-84-l3vpn
DESCRIPTION:Afternoon Session II\n
 \n
 Agenda https://datatracker.ietf.org/meeting/84/materials/agenda-84-l3vpn\n
 \n
 Session materials: https://datatracker.ietf.org/meeting/84/session/l3vpn\n
 \n
 See in schedule: https://datatracker.ietf.org/meeting/84/agenda#row-84-2012-07-30-mon-1540-rtg-l3vpn\n
END:VEVENT
BEGIN:VEVENT
UID:ietf-84-3299-nvo3
SUMMARY:nvo3 - Network Virtualization Overlays
LOCATION:Regency C
STATUS:CONFIRMED
CLASS:PUBLIC
DTSTART;TZID=America/Vancouver:20120731T090000
DTEND;TZID=America/Vancouver:20120731T102000
DTSTAMP:20161222T095706Z
URL:https://datatracker.ietf.org/meeting/84/materials/agenda-84-nvo3
DESCRIPTION:Morning Session I\n
 \n
 Agenda https://datatracker.ietf.org/meeting/84/materials/agenda-84-nvo3\n
 \n
 Session materials: https://datatracker.ietf.org/meeting/84/session/nvo3\n
 \n
 See in schedule: https://datatracker.ietf.org/meeting/84/agenda#row-84-2012-07-31-tue-0900-rtg-nvo3\n
END:VEVENT
BEGIN:VEVENT
UID:ietf-84-3181-nvo3
SUMMARY:nvo3 - Network Virtualization Overlays
LOCATION:Regency C
STATUS:CONFIRMED
CLASS:PUBLIC
DTSTART;TZID=America/Vancouver:20120731T103000
DTEND;TZID=America/Vancouver:20120731T113000
DTSTAMP:20161222T095706Z
URL:https://datatracker.ietf.org/meeting/84/materials/agenda-84-nvo3
DESCRIPTION:Morning Session II\n
 \n
 Agenda https://datatracker.ietf.org/meeting/84/materials/agenda-84-nvo3\n
 \n
 Session materials: https://datatracker.ietf.org/meeting/84/session/nvo3\n
 \n
 See in schedule: https://datatracker.ietf.org/meeting/84/agenda#row-84-2012-07-31-tue-1030-rtg-nvo3\n
END:VEVENT
BEGIN:VEVENT
UID:ietf-84-3176-pim
SUMMARY:pim - Protocol Independent Multicast
LOCATION:Regency A
STATUS:CONFIRMED
CLASS:PUBLIC
DTSTART;TZID=America/Vancouver:20120731T103000
DTEND;TZID=America/Vancouver:20120731T113000
DTSTAMP:20161222T095706Z
URL:https://datatracker.ietf.org/meeting/84/materials/agenda-84-pim
DESCRIPTION:Morning Session II\n
 \n
 Agenda https://datatracker.ietf.org/meeting/84/materials/agenda-84-pim\n
 \n
 Session materials: https://datatracker.ietf.org/meeting/84/session/pim\n
 \n
 See in schedule: https://datatracker.ietf.org/meeting/84/agenda#row-84-2012-07-31-tue-1030-rtg-pim\n
END:VEVENT
BEGIN:VEVENT
UID:ietf-84-3188-karp
SUMMARY:karp - Keying and Authentication for Routing Protocols
LOCATION:Regency F
STATUS:CONFIRMED
CLASS:PUBLIC
DTSTART;TZID=America/Vancouver:20120731T130000
DTEND;TZID=America/Vancouver:20120731T150000
DTSTAMP:20161222T095706Z
URL:https://datatracker.ietf.org/meeting/84/materials/agenda-84-karp
DESCRIPTION:Afternoon Session I\n
 \n
 Agenda https://datatracker.ietf.org/meeting/84/materials/agenda-84-karp\n
 \n
 Session materials: https://datatracker.ietf.org/meeting/84/session/karp\n
 \n
 See in schedule: https://datatracker.ietf.org/meeting/84/agenda#row-84-2012-07-31-tue-1300-rtg-karp\n
END:VEVENT
BEGIN:VEVENT
UID:ietf-84-3195-pce
SUMMARY:pce - Path Computation Element
LOCATION:Regency B
STATUS:CONFIRMED
CLASS:PUBLIC
DTSTART;TZID=America/Vancouver:20120731T152000
DTEND;TZID=America/Vancouver:20120731T165000
DTSTAMP:20161222T095706Z
URL:https://datatracker.ietf.org/meeting/84/materials/agenda-84-pce
DESCRIPTION:Afternoon Session II\n
 \n
 Agenda https://datatracker.ietf.org/meeting/84/materials/agenda-84-pce\n
 \n
 Session materials: https://datatracker.ietf.org/meeting/84/session/pce\n
 \n
 See in schedule: https://datatracker.ietf.org/meeting/84/agenda#row-84-2012-07-31-tue-1520-rtg-pce\n
END:VEVENT
BEGIN:VEVENT
UID:ietf-84-3196-rtgwg
SUMMARY:rtgwg - Routing Area Working Group
LOCATION:Regency E
STATUS:CONFIRMED
CLASS:PUBLIC
DTSTART;TZID=America/Vancouver:20120731T152000
DTEND;TZID=America/Vancouver:20120731T165000
DTSTAMP:20161222T095706Z
URL:https://datatracker.ietf.org/meeting/84/materials/agenda-84-rtgwg
DESCRIPTION:Afternoon Session II\n
 \n
 Agenda https://datatracker.ietf.org/meeting/84/materials/agenda-84-rtgwg\n
 \n
 Session materials: https://datatracker.ietf.org/meeting/84/session/rtgwg\n
 \n
 See in schedule: https://datatracker.ietf.org/meeting/84/agenda#row-84-2012-07-31-tue-1520-rtg-rtgwg\n
END:VEVENT
BEGIN:VEVENT
UID:ietf-84-3314-forces
SUMMARY:forces - Forwarding and Control Element Separation (Moved FROM Thursday 1510-1710)
LOCATION:Georgia A
STATUS:CONFIRMED
CLASS:PUBLIC
DTSTART;TZID=America/Vancouver:20120731T170000
DTEND;TZID=America/Vancouver:20120731T183000
DTSTAMP:20161222T095706Z
URL:https://datatracker.ietf.org/meeting/84/materials/agenda-84-forces
DESCRIPTION:Afternoon Session III\n
 Note: Moved FROM Thursday 1510-1710\n
 \n
 Agenda https://datatracker.ietf.org/meeting/84/materials/agenda-84-forces\n
 \n
 Session materials: https://datatracker.ietf.org/meeting/84/session/forces\n
 \n
 See in schedule: https://datatracker.ietf.org/meeting/84/agenda#row-84-2012-07-31-tue-1700-rtg-forces\n
END:VEVENT
BEGIN:VEVENT
UID:ietf-84-3208-pwe3
SUMMARY:pwe3 - Pseudowire Emulation Edge to Edge
LOCATION:Regency C
STATUS:CONFIRMED
CLASS:PUBLIC
DTSTART;TZID=America/Vancouver:20120731T170000
DTEND;TZID=America/Vancouver:20120731T183000
DTSTAMP:20161222T095706Z
URL:https://datatracker.ietf.org/meeting/84/materials/agenda-84-pwe3
DESCRIPTION:Afternoon Session III\n
 \n
 Agenda https://datatracker.ietf.org/meeting/84/materials/agenda-84-pwe3\n
 \n
 Session materials: https://datatracker.ietf.org/meeting/84/session/pwe3\n
 \n
 See in schedule: https://datatracker.ietf.org/meeting/84/agenda#row-84-2012-07-31-tue-1700-rtg-pwe3\n
END:VEVENT
BEGIN:VEVENT
UID:ietf-84-3000-ccamp
SUMMARY:ccamp - Common Control and Measurement Plane
LOCATION:Regency D
STATUS:CONFIRMED
CLASS:PUBLIC
DTSTART;TZID=America/Vancouver:20120801T090000
DTEND;TZID=America/Vancouver:20120801T113000
DTSTAMP:20161222T095706Z
URL:https://datatracker.ietf.org/meeting/84/materials/agenda-84-ccamp
DESCRIPTION:Morning Session I\n
 \n
 Agenda https://datatracker.ietf.org/meeting/84/materials/agenda-84-ccamp\n
 \n
 Session materials: https://datatracker.ietf.org/meeting/84/session/ccamp\n
 \n
 See in schedule: https://datatracker.ietf.org/meeting/84/agenda#row-84-2012-08-01-wed-0900-rtg-ccamp\n
END:VEVENT
BEGIN:VEVENT
UID:ietf-84-2998-sidr
SUMMARY:sidr - Secure Inter-Domain Routing
LOCATION:Georgia B
STATUS:CONFIRMED
CLASS:PUBLIC
DTSTART;TZID=America/Vancouver:20120801T090000
DTEND;TZID=America/Vancouver:20120801T113000
DTSTAMP:20161222T095706Z
URL:https://datatracker.ietf.org/meeting/84/materials/agenda-84-sidr
DESCRIPTION:Morning Session I\n
 \n
 Agenda https://datatracker.ietf.org/meeting/84/materials/agenda-84-sidr\n
 \n
 Session materials: https://datatracker.ietf.org/meeting/84/session/sidr\n
 \n
 See in schedule: https://datatracker.ietf.org/meeting/84/agenda#row-84-2012-08-01-wed-0900-rtg-sidr\n
END:VEVENT
BEGIN:VEVENT
UID:ietf-84-3048-l2vpn
SUMMARY:l2vpn - Layer 2 Virtual Private Networks
LOCATION:Regency D
STATUS:CONFIRMED
CLASS:PUBLIC
DTSTART;TZID=America/Vancouver:20120801T130000
DTEND;TZID=America/Vancouver:20120801T150000
DTSTAMP:20161222T095706Z
URL:https://datatracker.ietf.org/meeting/84/materials/agenda-84-l2vpn
DESCRIPTION:Afternoon Session I\n
 \n
 Agenda https://datatracker.ietf.org/meeting/84/materials/agenda-84-l2vpn\n
 \n
 Session materials: https://datatracker.ietf.org/meeting/84/session/l2vpn\n
 \n
 See in schedule: https://datatracker.ietf.org/meeting/84/agenda#row-84-2012-08-01-wed-1300-rtg-l2vpn\n
END:VEVENT
BEGIN:VEVENT
UID:ietf-84-3032-rtgarea
SUMMARY:rtgarea - Routing Area Open Meeting (Room change FROM Regency E)
LOCATION:Regency D
STATUS:CONFIRMED
CLASS:PUBLIC
DTSTART;TZID=America/Vancouver:20120802T090000
DTEND;TZID=America/Vancouver:20120802T113000
DTSTAMP:20161222T095706Z
URL:https://datatracker.ietf.org/meeting/84/materials/agenda-84-rtgarea
DESCRIPTION:Morning Session I\n
 Note: Room change FROM Regency E\n
 \n
 Agenda https://datatracker.ietf.org/meeting/84/materials/agenda-84-rtgarea\n
 \n
 Session materials: https://datatracker.ietf.org/meeting/84/session/rtgarea\n
 \n
 See in schedule: https://datatracker.ietf.org/meeting/84/agenda#row-84-2012-08-02-thu-0900-rtg-rtgarea\n
END:VEVENT
BEGIN:VEVENT
UID:ietf-84-3071-ccamp
SUMMARY:ccamp - Common Control and Measurement Plane
LOCATION:Regency C
STATUS:CONFIRMED
CLASS:PUBLIC
DTSTART;TZID=America/Vancouver:20120802T130000
DTEND;TZID=America/Vancouver:20120802T150000
DTSTAMP:20161222T095706Z
URL:https://datatracker.ietf.org/meeting/84/materials/agenda-84-ccamp
DESCRIPTION:Afternoon Session I\n
 \n
 Agenda https://datatracker.ietf.org/meeting/84/materials/agenda-84-ccamp\n
 \n
 Session materials: https://datatracker.ietf.org/meeting/84/session/ccamp\n
 \n
 See in schedule: https://datatracker.ietf.org/meeting/84/agenda#row-84-2012-08-02-thu-1300-rtg-ccamp\n
END:VEVENT
BEGIN:VEVENT
UID:ietf-84-3236-ospf
SUMMARY:ospf - Open Shortest Path First IGP
LOCATION:Regency B
STATUS:CONFIRMED
CLASS:PUBLIC
DTSTART;TZID=America/Vancouver:20120802T151000
DTEND;TZID=America/Vancouver:20120802T171000
DTSTAMP:20161222T095706Z
URL:https://datatracker.ietf.org/meeting/84/materials/agenda-84-ospf
DESCRIPTION:Afternoon Session II\n
 \n
 Agenda https://datatracker.ietf.org/meeting/84/materials/agenda-84-ospf\n
 \n
 Session materials: https://datatracker.ietf.org/meeting/84/session/ospf\n
 \n
 See in schedule: https://datatracker.ietf.org/meeting/84/agenda#row-84-2012-08-02-thu-1510-rtg-ospf\n
END:VEVENT
BEGIN:VEVENT
UID:ietf-84-3078-mpls
SUMMARY:mpls - Multiprotocol Label Switching
LOCATION:Georgia B
STATUS:CONFIRMED
CLASS:PUBLIC
DTSTART;TZID=America/Vancouver:20120803T090000
DTEND;TZID=America/Vancouver:20120803T110000
DTSTAMP:20161222T095706Z
URL:https://datatracker.ietf.org/meeting/84/materials/agenda-84-mpls
DESCRIPTION:Morning Session I\n
 \n
 Agenda https://datatracker.ietf.org/meeting/84/materials/agenda-84-mpls\n
 \n
 Session materials: https://datatracker.ietf.org/meeting/84/session/mpls\n
 \n
 See in schedule: https://datatracker.ietf.org/meeting/84/agenda#row-84-2012-08-03-fri-0900-rtg-mpls\n
END:VEVENT
BEGIN:VEVENT
UID:ietf-84-3056-l3vpn
SUMMARY:l3vpn - Layer 3 Virtual Private Networks
LOCATION:Regency D
STATUS:CONFIRMED
CLASS:PUBLIC
DTSTART;TZID=America/Vancouver:20120803T112000
DTEND;TZID=America/Vancouver:20120803T122000
DTSTAMP:20161222T095706Z
URL:https://datatracker.ietf.org/meeting/84/materials/agenda-84-l3vpn
DESCRIPTION:Afternoon Session I\n
 \n
 Agenda https://datatracker.ietf.org/meeting/84/materials/agenda-84-l3vpn\n
 \n
 Session materials: https://datatracker.ietf.org/meeting/84/session/l3vpn\n
 \n
 See in schedule: https://datatracker.ietf.org/meeting/84/agenda#row-84-2012-08-03-fri-1120-rtg-l3vpn\n
END:VEVENT
BEGIN:VEVENT
UID:ietf-84-3054-roll
SUMMARY:roll - Routing Over Low power and Lossy networks
LOCATION:Georgia B
STATUS:CONFIRMED
CLASS:PUBLIC
DTSTART;TZID=America/Vancouver:20120803T112000
DTEND;TZID=America/Vancouver:20120803T122000
DTSTAMP:20161222T095706Z
URL:https://datatracker.ietf.org/meeting/84/materials/agenda-84-roll
DESCRIPTION:Afternoon Session I\n
 \n
 Agenda https://datatracker.ietf.org/meeting/84/materials/agenda-84-roll\n
 \n
 Session materials: https://datatracker.ietf.org/meeting/84/session/roll\n
 \n
 See in schedule: https://datatracker.ietf.org/meeting/84/agenda#row-84-2012-08-03-fri-1120-rtg-roll\n
END:VEVENT
BEGIN:VEVENT
UID:ietf-84-3094-roll
SUMMARY:roll - Routing Over Low power and Lossy networks
LOCATION:Georgia B
STATUS:CONFIRMED
CLASS:PUBLIC
DTSTART;TZID=America/Vancouver:20120803T123000
DTEND;TZID=America/Vancouver:20120803T133000
DTSTAMP:20161222T095706Z
URL:https://datatracker.ietf.org/meeting/84/materials/agenda-84-roll
DESCRIPTION:Afternoon Session II\n
 \n
 Agenda https://datatracker.ietf.org/meeting/84/materials/agenda-84-roll\n
 \n
 Session materials: https://datatracker.ietf.org/meeting/84/session/roll\n
 \n
 See in schedule: https://datatracker.ietf.org/meeting/84/agenda#row-84-2012-08-03-fri-1230-rtg-roll\n
END:VEVENT
END:VCALENDAR
