BEGIN:VCALENDAR
VERSION:2.0
METHOD:PUBLISH
PRODID:-//IETF//datatracker.ietf.org ical agenda//EN
BEGIN:VTIMEZONE
TZID:America/New_York
X-LIC-LOCATION:America/New_York
BEGIN:DAYLIGHT
TZOFFSETFROM:-0500
TZOFFSETTO:-0400
TZNAME:EDT
DTSTART:20070311T020000
RRULE:FREQ=YEARLY;BYMONTH=3;BYDAY=2SU
END:DAYLIGHT
BEGIN:STANDARD
TZOFFSETFROM:-0400
TZOFFSETTO:-0500
TZNAME:EST
DTSTART:20071104T020000
RRULE:FREQ=YEARLY;BYMONTH=11;BYDAY=1SU
END:STANDARD
BEGIN:STANDARD
TZOFFSETFROM:-045602
TZOFFSETTO:-0500
TZNAME:EST
DTSTART:18831118T120358
RDATE:18831118T120358
END:STANDARD
BEGIN:DAYLIGHT
TZOFFSETFROM:-0500
TZOFFSETTO:-0400
TZNAME:EDT
DTSTART:19180331T020000
RDATE:19180331T020000
RDATE:19190330T020000
RDATE:19200328T020000
RDATE:19210424T020000
RDATE:19220430T020000
RDATE:19230429T020000
RDATE:19240427T020000
RDATE:19250426T020000
RDATE:19260425T020000
RDATE:19270424T020000
RDATE:19280429T020000
RDATE:19290428T020000
RDATE:19300427T020000
RDATE:19310426T020000
RDATE:19320424T020000
RDATE:19330430T020000
RDATE:19340429T020000
RDATE:19350428T020000
RDATE:19360426T020000
RDATE:19370425T020000
RDATE:19380424T020000
RDATE:19390430T020000
RDATE:19400428T020000
RDATE:19410427T020000
RDATE:19460428T020000
RDATE:19470427T020000
RDATE:19480425T020000
RDATE:19490424T020000
RDATE:19500430T020000
RDATE:19510429T020000
RDATE:19520427T020000
RDATE:19530426T020000
RDATE:19540425T020000
RDATE:19550424T020000
RDATE:19560429T020000
RDATE:19570428T020000
RDATE:19580427T020000
RDATE:19590426T020000
RDATE:19600424T020000
RDATE:19610430T020000
RDATE:19620429T020000
RDATE:19630428T020000
RDATE:19640426T020000
RDATE:19650425T020000
RDATE:19660424T020000
RDATE:19670430T020000
RDATE:19680428T020000
RDATE:19690427T020000
RDATE:19700426T020000
RDATE:19710425T020000
RDATE:19720430T020000
RDATE:19730429T020000
RDATE:19740106T020000
RDATE:19750223T020000
RDATE:19760425T020000
RDATE:19770424T020000
RDATE:19780430T020000
RDATE:19790429T020000
RDATE:19800427T020000
RDATE:19810426T020000
RDATE:19820425T020000
RDATE:19830424T020000
RDATE:19840429T020000
RDATE:19850428T020000
RDATE:19860427T020000
RDATE:19870405T020000
RDATE:19880403T020000
RDATE:19890402T020000
RDATE:19900401T020000
RDATE:19910407T020000
RDATE:19920405T020000
RDATE:19930404T020000
RDATE:19940403T020000
RDATE:19950402T020000
RDATE:19960407T020000
RDATE:19970406T020000
RDATE:19980405T020000
RDATE:19990404T020000
RDATE:20000402T020000
RDATE:20010401T020000
RDATE:20020407T020000
RDATE:20030406T020000
RDATE:20040404T020000
RDATE:20050403T020000
RDATE:20060402T020000
END:DAYLIGHT
BEGIN:STANDARD
TZOFFSETFROM:-0400
TZOFFSETTO:-0500
TZNAME:EST
DTSTART:19181027T020000
RDATE:19181027T020000
RDATE:19191026T020000
RDATE:19201031T020000
RDATE:19210925T020000
RDATE:19220924T020000
RDATE:19230930T020000
RDATE:19240928T020000
RDATE:19250927T020000
RDATE:19260926T020000
RDATE:19270925T020000
RDATE:19280930T020000
RDATE:19290929T020000
RDATE:19300928T020000
RDATE:19310927T020000
RDATE:19320925T020000
RDATE:19330924T020000
RDATE:19340930T020000
RDATE:19350929T020000
RDATE:19360927T020000
RDATE:19370926T020000
RDATE:19380925T020000
RDATE:19390924T020000
RDATE:19400929T020000
RDATE:19410928T020000
RDATE:19450930T020000
RDATE:19460929T020000
RDATE:19470928T020000
RDATE:19480926T020000
RDATE:19490925T020000
RDATE:19500924T020000
RDATE:19510930T020000
RDATE:19520928T020000
RDATE:19530927T020000
RDATE:19540926T020000
RDATE:19551030T020000
RDATE:19561028T020000
RDATE:19571027T020000
RDATE:19581026T020000
RDATE:19591025T020000
RDATE:19601030T020000
RDATE:19611029T020000
RDATE:19621028T020000
RDATE:19631027T020000
RDATE:19641025T020000
RDATE:19651031T020000
RDATE:19661030T020000
RDATE:19671029T020000
RDATE:19681027T020000
RDATE:19691026T020000
RDATE:19701025T020000
RDATE:19711031T020000
RDATE:19721029T020000
RDATE:19731028T020000
RDATE:19741027T020000
RDATE:19751026T020000
RDATE:19761031T020000
RDATE:19771030T020000
RDATE:19781029T020000
RDATE:19791028T020000
RDATE:19801026T020000
RDATE:19811025T020000
RDATE:19821031T020000
RDATE:19831030T020000
RDATE:19841028T020000
RDATE:19851027T020000
RDATE:19861026T020000
RDATE:19871025T020000
RDATE:19881030T020000
RDATE:19891029T020000
RDATE:19901028T020000
RDATE:19911027T020000
RDATE:19921025T020000
RDATE:19931031T020000
RDATE:19941030T020000
RDATE:19951029T020000
RDATE:19961027T020000
RDATE:19971026T020000
RDATE:19981025T020000
RDATE:19991031T020000
RDATE:20001029T020000
RDATE:20011028T020000
RDATE:20021027T020000
RDATE:20031026T020000
RDATE:20041031T020000
RDATE:20051030T020000
RDATE:20061029T020000
END:STANDARD
BEGIN:STANDARD
TZOFFSETFROM:-0500
TZOFFSETTO:-0500
TZNAME:EST
DTSTART:19200101T000000
RDATE:19200101T000000
RDATE:19420101T000000
RDATE:19460101T000000
RDATE:19670101T000000
END:STANDARD
BEGIN:DAYLIGHT
TZOFFSETFROM:-0500
TZOFFSETTO:-0400
TZNAME:EWT
DTSTART:19420209T020000
RDATE:19420209T020000
END:DAYLIGHT
BEGIN:DAYLIGHT
TZOFFSETFROM:-0400
TZOFFSETTO:-0400
TZNAME:EPT
DTSTART:19450814T190000
RDATE:19450814T190000
END:DAYLIGHT
END:VTIMEZONE
BEGIN:VEVENT
UID:ietf-85-3418-6man
SUMMARY:6man - IPv6 Maintenance
LOCATION:Salon D
STATUS:CONFIRMED
CLASS:PUBLIC
DTSTART;TZID=America/New_York:20121105T090000
DTEND;TZID=America/New_York:20121105T113000
DTSTAMP:20161222T095706Z
URL:https://datatracker.ietf.org/meeting/85/materials/agenda-85-6man
DESCRIPTION:Morning Session I\n
 \n
 Agenda https://datatracker.ietf.org/meeting/85/materials/agenda-85-6man\n
 \n
 Session materials: https://datatracker.ietf.org/meeting/85/session/6man\n
 \n
 See in schedule: https://datatracker.ietf.org/meeting/85/agenda#row-85-2012-11-05-mon-0900-int-6man\n
END:VEVENT
BEGIN:VEVENT
UID:ietf-85-3557-intarea
SUMMARY:intarea - Internet Area Working Group
LOCATION:Grand Ballroom C
STATUS:CONFIRMED
CLASS:PUBLIC
DTSTART;TZID=America/New_York:20121105T130000
DTEND;TZID=America/New_York:20121105T150000
DTSTAMP:20161222T095706Z
URL:https://datatracker.ietf.org/meeting/85/materials/agenda-85-intarea
DESCRIPTION:Afternoon Session I\n
 \n
 Agenda https://datatracker.ietf.org/meeting/85/materials/agenda-85-intarea\n
 \n
 Session materials: https://datatracker.ietf.org/meeting/85/session/intarea\n
 \n
 See in schedule: https://datatracker.ietf.org/meeting/85/agenda#row-85-2012-11-05-mon-1300-int-intarea\n
END:VEVENT
BEGIN:VEVENT
UID:ietf-85-3563-netext
SUMMARY:netext - Network-Based Mobility Extensions
LOCATION:Salon B
STATUS:CONFIRMED
CLASS:PUBLIC
DTSTART;TZID=America/New_York:20121105T152000
DTEND;TZID=America/New_York:20121105T172000
DTSTAMP:20161222T095706Z
URL:https://datatracker.ietf.org/meeting/85/materials/agenda-85-netext
DESCRIPTION:Afternoon Session II\n
 \n
 Agenda https://datatracker.ietf.org/meeting/85/materials/agenda-85-netext\n
 \n
 Session materials: https://datatracker.ietf.org/meeting/85/session/netext\n
 \n
 See in schedule: https://datatracker.ietf.org/meeting/85/agenda#row-85-2012-11-05-mon-1520-int-netext\n
END:VEVENT
BEGIN:VEVENT
UID:ietf-85-3568-sunset4
SUMMARY:sunset4 - Sunsetting IPv4
LOCATION:Salon D
STATUS:CONFIRMED
CLASS:PUBLIC
DTSTART;TZID=America/New_York:20121105T152000
DTEND;TZID=America/New_York:20121105T172000
DTSTAMP:20161222T095706Z
URL:https://datatracker.ietf.org/meeting/85/materials/agenda-85-sunset4
DESCRIPTION:Afternoon Session II\n
 \n
 Agenda https://datatracker.ietf.org/meeting/85/materials/agenda-85-sunset4\n
 \n
 Session materials: https://datatracker.ietf.org/meeting/85/session/sunset4\n
 \n
 See in schedule: https://datatracker.ietf.org/meeting/85/agenda#row-85-2012-11-05-mon-1520-int-sunset4\n
END:VEVENT
BEGIN:VEVENT
UID:ietf-85-3576-lwig
SUMMARY:lwig - Light-Weight Implementation Guidance
LOCATION:Salon E
STATUS:CONFIRMED
CLASS:PUBLIC
DTSTART;TZID=America/New_York:20121105T174000
DTEND;TZID=America/New_York:20121105T194000
DTSTAMP:20161222T095706Z
URL:https://datatracker.ietf.org/meeting/85/materials/agenda-85-lwig
DESCRIPTION:Afternoon Session III\n
 \n
 Agenda https://datatracker.ietf.org/meeting/85/materials/agenda-85-lwig\n
 \n
 Session materials: https://datatracker.ietf.org/meeting/85/session/lwig\n
 \n
 See in schedule: https://datatracker.ietf.org/meeting/85/agenda#row-85-2012-11-05-mon-1740-int-lwig\n
END:VEVENT
BEGIN:VEVENT
UID:ietf-85-3666-trill
SUMMARY:trill - Transparent Interconnection of Lots of Links
LOCATION:Salon C
STATUS:CONFIRMED
CLASS:PUBLIC
DTSTART;TZID=America/New_York:20121106T090000
DTEND;TZID=America/New_York:20121106T113000
DTSTAMP:20161222T095706Z
URL:https://datatracker.ietf.org/meeting/85/materials/agenda-85-trill
DESCRIPTION:Morning Session I\n
 \n
 Agenda https://datatracker.ietf.org/meeting/85/materials/agenda-85-trill\n
 \n
 Session materials: https://datatracker.ietf.org/meeting/85/session/trill\n
 \n
 See in schedule: https://datatracker.ietf.org/meeting/85/agenda#row-85-2012-11-06-tue-0900-int-trill\n
END:VEVENT
BEGIN:VEVENT
UID:ietf-85-3595-softwire
SUMMARY:softwire - Softwires
LOCATION:Salon C
STATUS:CONFIRMED
CLASS:PUBLIC
DTSTART;TZID=America/New_York:20121106T130000
DTEND;TZID=America/New_York:20121106T150000
DTSTAMP:20161222T095706Z
URL:https://datatracker.ietf.org/meeting/85/materials/agenda-85-softwire
DESCRIPTION:Afternoon Session I\n
 \n
 Agenda https://datatracker.ietf.org/meeting/85/materials/agenda-85-softwire\n
 \n
 Session materials: https://datatracker.ietf.org/meeting/85/session/softwire\n
 \n
 See in schedule: https://datatracker.ietf.org/meeting/85/agenda#row-85-2012-11-06-tue-1300-int-softwire\n
END:VEVENT
BEGIN:VEVENT
UID:ietf-85-3593-lisp
SUMMARY:lisp - Locator/ID Separation Protocol
LOCATION:Salon B
STATUS:CONFIRMED
CLASS:PUBLIC
DTSTART;TZID=America/New_York:20121106T130000
DTEND;TZID=America/New_York:20121106T150000
DTSTAMP:20161222T095706Z
URL:https://datatracker.ietf.org/meeting/85/materials/agenda-85-lisp
DESCRIPTION:Afternoon Session I\n
 \n
 Agenda https://datatracker.ietf.org/meeting/85/materials/agenda-85-lisp\n
 \n
 Session materials: https://datatracker.ietf.org/meeting/85/session/lisp\n
 \n
 See in schedule: https://datatracker.ietf.org/meeting/85/agenda#row-85-2012-11-06-tue-1300-int-lisp\n
END:VEVENT
BEGIN:VEVENT
UID:ietf-85-3607-mdnsext
SUMMARY:mdnsext - Extensions to the Bonjour protocol suite
LOCATION:Grand Ballroom C
STATUS:CONFIRMED
CLASS:PUBLIC
DTSTART;TZID=America/New_York:20121106T152000
DTEND;TZID=America/New_York:20121106T165000
DTSTAMP:20161222T095706Z
URL:https://datatracker.ietf.org/meeting/85/materials/agenda-85-mdnsext
DESCRIPTION:Afternoon Session II\n
 \n
 Agenda https://datatracker.ietf.org/meeting/85/materials/agenda-85-mdnsext\n
 \n
 Session materials: https://datatracker.ietf.org/meeting/85/session/mdnsext\n
 \n
 See in schedule: https://datatracker.ietf.org/meeting/85/agenda#row-85-2012-11-06-tue-1520-int-mdnsext\n
END:VEVENT
BEGIN:VEVENT
UID:ietf-85-3616-fmc
SUMMARY:fmc - Fixed Mobile Convergence
LOCATION:Salon E
STATUS:CONFIRMED
CLASS:PUBLIC
DTSTART;TZID=America/New_York:20121106T170000
DTEND;TZID=America/New_York:20121106T183000
DTSTAMP:20161222T095706Z
URL:https://datatracker.ietf.org/meeting/85/materials/agenda-85-fmc
DESCRIPTION:Afternoon Session III\n
 \n
 Agenda https://datatracker.ietf.org/meeting/85/materials/agenda-85-fmc\n
 \n
 Session materials: https://datatracker.ietf.org/meeting/85/session/fmc\n
 \n
 See in schedule: https://datatracker.ietf.org/meeting/85/agenda#row-85-2012-11-06-tue-1700-int-fmc\n
END:VEVENT
BEGIN:VEVENT
UID:ietf-85-3448-homenet
SUMMARY:homenet - Home Networking
LOCATION:Salon D
STATUS:CONFIRMED
CLASS:PUBLIC
DTSTART;TZID=America/New_York:20121107T090000
DTEND;TZID=America/New_York:20121107T113000
DTSTAMP:20161222T095706Z
URL:https://datatracker.ietf.org/meeting/85/materials/agenda-85-homenet
DESCRIPTION:Morning Session I\n
 \n
 Agenda https://datatracker.ietf.org/meeting/85/materials/agenda-85-homenet\n
 \n
 Session materials: https://datatracker.ietf.org/meeting/85/session/homenet\n
 \n
 See in schedule: https://datatracker.ietf.org/meeting/85/agenda#row-85-2012-11-07-wed-0900-int-homenet\n
END:VEVENT
BEGIN:VEVENT
UID:ietf-85-3442-multimob
SUMMARY:multimob - Multicast Mobility
LOCATION:Room 209
STATUS:CONFIRMED
CLASS:PUBLIC
DTSTART;TZID=America/New_York:20121107T090000
DTEND;TZID=America/New_York:20121107T113000
DTSTAMP:20161222T095706Z
URL:https://datatracker.ietf.org/meeting/85/materials/agenda-85-multimob
DESCRIPTION:Morning Session I\n
 \n
 Agenda https://datatracker.ietf.org/meeting/85/materials/agenda-85-multimob\n
 \n
 Session materials: https://datatracker.ietf.org/meeting/85/session/multimob\n
 \n
 See in schedule: https://datatracker.ietf.org/meeting/85/agenda#row-85-2012-11-07-wed-0900-int-multimob\n
END:VEVENT
BEGIN:VEVENT
UID:ietf-85-3627-softwire
SUMMARY:softwire - Softwires
LOCATION:Grand Ballroom C
STATUS:CONFIRMED
CLASS:PUBLIC
DTSTART;TZID=America/New_York:20121107T130000
DTEND;TZID=America/New_York:20121107T143000
DTSTAMP:20161222T095706Z
URL:https://datatracker.ietf.org/meeting/85/materials/agenda-85-softwire
DESCRIPTION:Afternoon Session I\n
 \n
 Agenda https://datatracker.ietf.org/meeting/85/materials/agenda-85-softwire\n
 \n
 Session materials: https://datatracker.ietf.org/meeting/85/session/softwire\n
 \n
 See in schedule: https://datatracker.ietf.org/meeting/85/agenda#row-85-2012-11-07-wed-1300-int-softwire\n
END:VEVENT
BEGIN:VEVENT
UID:ietf-85-3426-dhc
SUMMARY:dhc - Dynamic Host Configuration
LOCATION:Salon E
STATUS:CONFIRMED
CLASS:PUBLIC
DTSTART;TZID=America/New_York:20121108T090000
DTEND;TZID=America/New_York:20121108T113000
DTSTAMP:20161222T095706Z
URL:https://datatracker.ietf.org/meeting/85/materials/agenda-85-dhc
DESCRIPTION:Morning Session I\n
 \n
 Agenda https://datatracker.ietf.org/meeting/85/materials/agenda-85-dhc\n
 \n
 Session materials: https://datatracker.ietf.org/meeting/85/session/dhc\n
 \n
 See in schedule: https://datatracker.ietf.org/meeting/85/agenda#row-85-2012-11-08-thu-0900-int-dhc\n
END:VEVENT
BEGIN:VEVENT
UID:ietf-85-3425-dmm
SUMMARY:dmm - Distributed Mobility Management
LOCATION:Salon C
STATUS:CONFIRMED
CLASS:PUBLIC
DTSTART;TZID=America/New_York:20121108T090000
DTEND;TZID=America/New_York:20121108T113000
DTSTAMP:20161222T095706Z
URL:https://datatracker.ietf.org/meeting/85/materials/agenda-85-dmm
DESCRIPTION:Morning Session I\n
 \n
 Agenda https://datatracker.ietf.org/meeting/85/materials/agenda-85-dmm\n
 \n
 Session materials: https://datatracker.ietf.org/meeting/85/session/dmm\n
 \n
 See in schedule: https://datatracker.ietf.org/meeting/85/agenda#row-85-2012-11-08-thu-0900-int-dmm\n
END:VEVENT
BEGIN:VEVENT
UID:ietf-85-3522-ntp
SUMMARY:ntp - Network Time Protocol (Combined with TICTOC)
LOCATION:Room 209
STATUS:CONFIRMED
CLASS:PUBLIC
DTSTART;TZID=America/New_York:20121108T130000
DTEND;TZID=America/New_York:20121108T150000
DTSTAMP:20161222T095706Z
URL:https://datatracker.ietf.org/meeting/85/materials/agenda-85-ntp
DESCRIPTION:Afternoon Session I\n
 Note: Combined with TICTOC\n
 \n
 Agenda https://datatracker.ietf.org/meeting/85/materials/agenda-85-ntp\n
 \n
 Session materials: https://datatracker.ietf.org/meeting/85/session/ntp\n
 \n
 See in schedule: https://datatracker.ietf.org/meeting/85/agenda#row-85-2012-11-08-thu-1300-int-ntp\n
END:VEVENT
BEGIN:VEVENT
UID:ietf-85-3662-tictoc
SUMMARY:tictoc - Timing over IP Connection and Transfer of Clock (Combined with NTP)
LOCATION:Room 209
STATUS:CONFIRMED
CLASS:PUBLIC
DTSTART;TZID=America/New_York:20121108T130000
DTEND;TZID=America/New_York:20121108T150000
DTSTAMP:20161222T095706Z
URL:https://datatracker.ietf.org/meeting/85/materials/agenda-85-tictoc
DESCRIPTION:Afternoon Session I\n
 Note: Combined with NTP\n
 \n
 Agenda https://datatracker.ietf.org/meeting/85/materials/agenda-85-tictoc\n
 \n
 Session materials: https://datatracker.ietf.org/meeting/85/session/tictoc\n
 \n
 See in schedule: https://datatracker.ietf.org/meeting/85/agenda#row-85-2012-11-08-thu-1300-int-tictoc\n
END:VEVENT
BEGIN:VEVENT
UID:ietf-85-3373-pcp
SUMMARY:pcp - Port Control Protocol
LOCATION:Salon B
STATUS:CONFIRMED
CLASS:PUBLIC
DTSTART;TZID=America/New_York:20121108T151000
DTEND;TZID=America/New_York:20121108T171000
DTSTAMP:20161222T095706Z
URL:https://datatracker.ietf.org/meeting/85/materials/agenda-85-pcp
DESCRIPTION:Afternoon Session II\n
 \n
 Agenda https://datatracker.ietf.org/meeting/85/materials/agenda-85-pcp\n
 \n
 Session materials: https://datatracker.ietf.org/meeting/85/session/pcp\n
 \n
 See in schedule: https://datatracker.ietf.org/meeting/85/agenda#row-85-2012-11-08-thu-1510-int-pcp\n
END:VEVENT
BEGIN:VEVENT
UID:ietf-85-3533-mif
SUMMARY:mif - Multiple Interfaces
LOCATION:Salon B
STATUS:CONFIRMED
CLASS:PUBLIC
DTSTART;TZID=America/New_York:20121109T090000
DTEND;TZID=America/New_York:20121109T110000
DTSTAMP:20161222T095706Z
URL:https://datatracker.ietf.org/meeting/85/materials/agenda-85-mif
DESCRIPTION:Morning Session I\n
 \n
 Agenda https://datatracker.ietf.org/meeting/85/materials/agenda-85-mif\n
 \n
 Session materials: https://datatracker.ietf.org/meeting/85/session/mif\n
 \n
 See in schedule: https://datatracker.ietf.org/meeting/85/agenda#row-85-2012-11-09-fri-0900-int-mif\n
END:VEVENT
BEGIN:VEVENT
UID:ietf-85-3505-pcp
SUMMARY:pcp - Port Control Protocol (Room change FROM Salon B)
LOCATION:Salon C
STATUS:CONFIRMED
CLASS:PUBLIC
DTSTART;TZID=America/New_York:20121109T112000
DTEND;TZID=America/New_York:20121109T122000
DTSTAMP:20161222T095706Z
URL:https://datatracker.ietf.org/meeting/85/materials/agenda-85-pcp
DESCRIPTION:Afternoon Session I\n
 Note: Room change FROM Salon B\n
 \n
 Agenda https://datatracker.ietf.org/meeting/85/materials/agenda-85-pcp\n
 \n
 Session materials: https://datatracker.ietf.org/meeting/85/session/pcp\n
 \n
 See in schedule: https://datatracker.ietf.org/meeting/85/agenda#row-85-2012-11-09-fri-1120-int-pcp\n
END:VEVENT
BEGIN:VEVENT
UID:ietf-85-3545-pcp
SUMMARY:pcp - Port Control Protocol (Room change FROM Salon B)
LOCATION:Salon C
STATUS:CONFIRMED
CLASS:PUBLIC
DTSTART;TZID=America/New_York:20121109T123000
DTEND;TZID=America/New_York:20121109T133000
DTSTAMP:20161222T095706Z
URL:https://datatracker.ietf.org/meeting/85/materials/agenda-85-pcp
DESCRIPTION:Afternoon Session II\n
 Note: Room change FROM Salon B\n
 \n
 Agenda https://datatracker.ietf.org/meeting/85/materials/agenda-85-pcp\n
 \n
 Session materials: https://datatracker.ietf.org/meeting/85/session/pcp\n
 \n
 See in schedule: https://datatracker.ietf.org/meeting/85/agenda#row-85-2012-11-09-fri-1230-int-pcp\n
END:VEVENT
END:VCALENDAR
