BEGIN:VCALENDAR
VERSION:2.0
METHOD:PUBLISH
PRODID:-//IETF//datatracker.ietf.org ical agenda//EN
BEGIN:VTIMEZONE
TZID:Europe/Berlin
X-LIC-LOCATION:Europe/Berlin
BEGIN:DAYLIGHT
TZOFFSETFROM:+0100
TZOFFSETTO:+0200
TZNAME:CEST
DTSTART:19810329T020000
RRULE:FREQ=YEARLY;BYMONTH=3;BYDAY=-1SU
END:DAYLIGHT
BEGIN:STANDARD
TZOFFSETFROM:+0200
TZOFFSETTO:+0100
TZNAME:CET
DTSTART:19961027T030000
RRULE:FREQ=YEARLY;BYMONTH=10;BYDAY=-1SU
END:STANDARD
BEGIN:STANDARD
TZOFFSETFROM:+005328
TZOFFSETTO:+0100
TZNAME:CET
DTSTART:18930401T000000
RDATE:18930401T000000
END:STANDARD
BEGIN:DAYLIGHT
TZOFFSETFROM:+0100
TZOFFSETTO:+0200
TZNAME:CEST
DTSTART:19160430T230000
RDATE:19160430T230000
RDATE:19170416T020000
RDATE:19180415T020000
RDATE:19400401T020000
RDATE:19430329T020000
RDATE:19440403T020000
RDATE:19450402T020000
RDATE:19460414T020000
RDATE:19470406T030000
RDATE:19480418T020000
RDATE:19490410T020000
RDATE:19800406T020000
END:DAYLIGHT
BEGIN:STANDARD
TZOFFSETFROM:+0200
TZOFFSETTO:+0100
TZNAME:CET
DTSTART:19161001T010000
RDATE:19161001T010000
RDATE:19170917T030000
RDATE:19180916T030000
RDATE:19421102T030000
RDATE:19431004T030000
RDATE:19441002T030000
RDATE:19451118T030000
RDATE:19461007T030000
RDATE:19471005T030000
RDATE:19481003T030000
RDATE:19491002T030000
RDATE:19800928T030000
RDATE:19810927T030000
RDATE:19820926T030000
RDATE:19830925T030000
RDATE:19840930T030000
RDATE:19850929T030000
RDATE:19860928T030000
RDATE:19870927T030000
RDATE:19880925T030000
RDATE:19890924T030000
RDATE:19900930T030000
RDATE:19910929T030000
RDATE:19920927T030000
RDATE:19930926T030000
RDATE:19940925T030000
RDATE:19950924T030000
END:STANDARD
BEGIN:DAYLIGHT
TZOFFSETFROM:+0200
TZOFFSETTO:+0300
TZNAME:CEMT
DTSTART:19450524T020000
RDATE:19450524T020000
RDATE:19470511T030000
END:DAYLIGHT
BEGIN:DAYLIGHT
TZOFFSETFROM:+0300
TZOFFSETTO:+0200
TZNAME:CEST
DTSTART:19450924T030000
RDATE:19450924T030000
RDATE:19470629T030000
END:DAYLIGHT
BEGIN:STANDARD
TZOFFSETFROM:+0100
TZOFFSETTO:+0100
TZNAME:CET
DTSTART:19460101T000000
RDATE:19460101T000000
RDATE:19800101T000000
END:STANDARD
END:VTIMEZONE
BEGIN:VEVENT
UID:ietf-87-4172-appsawg
SUMMARY:appsawg - Applications Area Working Group (Combined with APPAREA)
LOCATION:Charlottenburg 2/3
STATUS:CONFIRMED
CLASS:PUBLIC
DTSTART;TZID=Europe/Berlin:20130729T090000
DTEND;TZID=Europe/Berlin:20130729T113000
DTSTAMP:20161222T095705Z
URL:https://datatracker.ietf.org/meeting/87/materials/agenda-87-appsawg
DESCRIPTION:Morning Session I\n
 Note: Combined with APPAREA\n
 \n
 Agenda https://datatracker.ietf.org/meeting/87/materials/agenda-87-appsawg\n
 \n
 Session materials: https://datatracker.ietf.org/meeting/87/session/appsawg\n
 \n
 See in schedule: https://datatracker.ietf.org/meeting/87/agenda#row-87-2013-07-29-mon-0900-app-appsawg\n
END:VEVENT
BEGIN:VEVENT
UID:ietf-87-4343-core
SUMMARY:core - Constrained RESTful Environments
LOCATION:Potsdam 3
STATUS:CONFIRMED
CLASS:PUBLIC
DTSTART;TZID=Europe/Berlin:20130729T130000
DTEND;TZID=Europe/Berlin:20130729T150000
DTSTAMP:20161222T095705Z
URL:https://datatracker.ietf.org/meeting/87/materials/agenda-87-core
DESCRIPTION:Afternoon Session I\n
 \n
 Agenda https://datatracker.ietf.org/meeting/87/materials/agenda-87-core\n
 \n
 Session materials: https://datatracker.ietf.org/meeting/87/session/core\n
 \n
 See in schedule: https://datatracker.ietf.org/meeting/87/agenda#row-87-2013-07-29-mon-1300-app-core\n
END:VEVENT
BEGIN:VEVENT
UID:ietf-87-4351-paws
SUMMARY:paws - Protocol to Access WS database
LOCATION:Charlottenburg 1
STATUS:CONFIRMED
CLASS:PUBLIC
DTSTART;TZID=Europe/Berlin:20130729T151000
DTEND;TZID=Europe/Berlin:20130729T161000
DTSTAMP:20161222T095705Z
URL:https://datatracker.ietf.org/meeting/87/materials/agenda-87-paws
DESCRIPTION:Afternoon Session II\n
 \n
 Agenda https://datatracker.ietf.org/meeting/87/materials/agenda-87-paws\n
 \n
 Session materials: https://datatracker.ietf.org/meeting/87/session/paws\n
 \n
 See in schedule: https://datatracker.ietf.org/meeting/87/agenda#row-87-2013-07-29-mon-1510-app-paws\n
END:VEVENT
BEGIN:VEVENT
UID:ietf-87-4353-websec
SUMMARY:websec - Web Security
LOCATION:Potsdam 2
STATUS:CONFIRMED
CLASS:PUBLIC
DTSTART;TZID=Europe/Berlin:20130729T151000
DTEND;TZID=Europe/Berlin:20130729T161000
DTSTAMP:20161222T095705Z
URL:https://datatracker.ietf.org/meeting/87/materials/agenda-87-websec
DESCRIPTION:Afternoon Session II\n
 \n
 Agenda https://datatracker.ietf.org/meeting/87/materials/agenda-87-websec\n
 \n
 Session materials: https://datatracker.ietf.org/meeting/87/session/websec\n
 \n
 See in schedule: https://datatracker.ietf.org/meeting/87/agenda#row-87-2013-07-29-mon-1510-app-websec\n
END:VEVENT
BEGIN:VEVENT
UID:ietf-87-4364-paws
SUMMARY:paws - Protocol to Access WS database
LOCATION:Charlottenburg 1
STATUS:CONFIRMED
CLASS:PUBLIC
DTSTART;TZID=Europe/Berlin:20130729T162000
DTEND;TZID=Europe/Berlin:20130729T172000
DTSTAMP:20161222T095705Z
URL:https://datatracker.ietf.org/meeting/87/materials/agenda-87-paws
DESCRIPTION:Afternoon Session III\n
 \n
 Agenda https://datatracker.ietf.org/meeting/87/materials/agenda-87-paws\n
 \n
 Session materials: https://datatracker.ietf.org/meeting/87/session/paws\n
 \n
 See in schedule: https://datatracker.ietf.org/meeting/87/agenda#row-87-2013-07-29-mon-1620-app-paws\n
END:VEVENT
BEGIN:VEVENT
UID:ietf-87-4214-dmarc
SUMMARY:dmarc - Domain-based Message Authentication, Reporting & Conformance
LOCATION:Potsdam 1
STATUS:CONFIRMED
CLASS:PUBLIC
DTSTART;TZID=Europe/Berlin:20130730T152000
DTEND;TZID=Europe/Berlin:20130730T165000
DTSTAMP:20161222T095705Z
URL:https://datatracker.ietf.org/meeting/87/materials/agenda-87-dmarc
DESCRIPTION:Afternoon Session II\n
 \n
 Agenda https://datatracker.ietf.org/meeting/87/materials/agenda-87-dmarc\n
 \n
 Session materials: https://datatracker.ietf.org/meeting/87/session/dmarc\n
 \n
 See in schedule: https://datatracker.ietf.org/meeting/87/agenda#row-87-2013-07-30-tue-1520-app-dmarc\n
END:VEVENT
BEGIN:VEVENT
UID:ietf-87-4392-httpbis
SUMMARY:httpbis - Hypertext Transfer Protocol Bis
LOCATION:Potsdam 2
STATUS:CONFIRMED
CLASS:PUBLIC
DTSTART;TZID=Europe/Berlin:20130731T151000
DTEND;TZID=Europe/Berlin:20130731T161000
DTSTAMP:20161222T095705Z
URL:https://datatracker.ietf.org/meeting/87/materials/agenda-87-httpbis
DESCRIPTION:Afternoon Session II\n
 \n
 Agenda https://datatracker.ietf.org/meeting/87/materials/agenda-87-httpbis\n
 \n
 Session materials: https://datatracker.ietf.org/meeting/87/session/httpbis\n
 \n
 See in schedule: https://datatracker.ietf.org/meeting/87/agenda#row-87-2013-07-31-wed-1510-app-httpbis\n
END:VEVENT
BEGIN:VEVENT
UID:ietf-87-4405-httpbis
SUMMARY:httpbis - Hypertext Transfer Protocol Bis
LOCATION:Potsdam 2
STATUS:CONFIRMED
CLASS:PUBLIC
DTSTART;TZID=Europe/Berlin:20130731T162000
DTEND;TZID=Europe/Berlin:20130731T172000
DTSTAMP:20161222T095705Z
URL:https://datatracker.ietf.org/meeting/87/materials/agenda-87-httpbis
DESCRIPTION:Afternoon Session III\n
 \n
 Agenda https://datatracker.ietf.org/meeting/87/materials/agenda-87-httpbis\n
 \n
 Session materials: https://datatracker.ietf.org/meeting/87/session/httpbis\n
 \n
 See in schedule: https://datatracker.ietf.org/meeting/87/agenda#row-87-2013-07-31-wed-1620-app-httpbis\n
END:VEVENT
BEGIN:VEVENT
UID:ietf-87-4418-json
SUMMARY:json - JavaScript Object Notation
LOCATION:Potsdam 2
STATUS:CONFIRMED
CLASS:PUBLIC
DTSTART;TZID=Europe/Berlin:20130801T090000
DTEND;TZID=Europe/Berlin:20130801T102000
DTSTAMP:20161222T095705Z
URL:https://datatracker.ietf.org/meeting/87/materials/agenda-87-json
DESCRIPTION:Morning Session I\n
 \n
 Agenda https://datatracker.ietf.org/meeting/87/materials/agenda-87-json\n
 \n
 Session materials: https://datatracker.ietf.org/meeting/87/session/json\n
 \n
 See in schedule: https://datatracker.ietf.org/meeting/87/agenda#row-87-2013-08-01-thu-0900-app-json\n
END:VEVENT
BEGIN:VEVENT
UID:ietf-87-4431-weirds
SUMMARY:weirds - Web Extensible Internet Registration Data Service
LOCATION:Potsdam 2
STATUS:CONFIRMED
CLASS:PUBLIC
DTSTART;TZID=Europe/Berlin:20130801T103000
DTEND;TZID=Europe/Berlin:20130801T113000
DTSTAMP:20161222T095705Z
URL:https://datatracker.ietf.org/meeting/87/materials/agenda-87-weirds
DESCRIPTION:Morning Session II\n
 \n
 Agenda https://datatracker.ietf.org/meeting/87/materials/agenda-87-weirds\n
 \n
 Session materials: https://datatracker.ietf.org/meeting/87/session/weirds\n
 \n
 See in schedule: https://datatracker.ietf.org/meeting/87/agenda#row-87-2013-08-01-thu-1030-app-weirds\n
END:VEVENT
BEGIN:VEVENT
UID:ietf-87-4303-core
SUMMARY:core - Constrained RESTful Environments
LOCATION:Bellevue
STATUS:CONFIRMED
CLASS:PUBLIC
DTSTART;TZID=Europe/Berlin:20130801T130000
DTEND;TZID=Europe/Berlin:20130801T150000
DTSTAMP:20161222T095705Z
URL:https://datatracker.ietf.org/meeting/87/materials/agenda-87-core
DESCRIPTION:Afternoon Session I\n
 \n
 Agenda https://datatracker.ietf.org/meeting/87/materials/agenda-87-core\n
 \n
 Session materials: https://datatracker.ietf.org/meeting/87/session/core\n
 \n
 See in schedule: https://datatracker.ietf.org/meeting/87/agenda#row-87-2013-08-01-thu-1300-app-core\n
END:VEVENT
BEGIN:VEVENT
UID:ietf-87-4454-scim
SUMMARY:scim - System for Cross-domain Identity Management
LOCATION:Schoeneberg 1/2
STATUS:CONFIRMED
CLASS:PUBLIC
DTSTART;TZID=Europe/Berlin:20130801T170000
DTEND;TZID=Europe/Berlin:20130801T183000
DTSTAMP:20161222T095705Z
URL:https://datatracker.ietf.org/meeting/87/materials/agenda-87-scim
DESCRIPTION:Afternoon Session III\n
 \n
 Agenda https://datatracker.ietf.org/meeting/87/materials/agenda-87-scim\n
 \n
 Session materials: https://datatracker.ietf.org/meeting/87/session/scim\n
 \n
 See in schedule: https://datatracker.ietf.org/meeting/87/agenda#row-87-2013-08-01-thu-1700-app-scim\n
END:VEVENT
BEGIN:VEVENT
UID:ietf-87-4316-httpbis
SUMMARY:httpbis - Hypertext Transfer Protocol Bis
LOCATION:Bellevue
STATUS:CONFIRMED
CLASS:PUBLIC
DTSTART;TZID=Europe/Berlin:20130802T090000
DTEND;TZID=Europe/Berlin:20130802T110000
DTSTAMP:20161222T095705Z
URL:https://datatracker.ietf.org/meeting/87/materials/agenda-87-httpbis
DESCRIPTION:Morning Session I\n
 \n
 Agenda https://datatracker.ietf.org/meeting/87/materials/agenda-87-httpbis\n
 \n
 Session materials: https://datatracker.ietf.org/meeting/87/session/httpbis\n
 \n
 See in schedule: https://datatracker.ietf.org/meeting/87/agenda#row-87-2013-08-02-fri-0900-app-httpbis\n
END:VEVENT
BEGIN:VEVENT
UID:ietf-87-4311-precis
SUMMARY:precis - Preparation and Comparison of Internationalized Strings
LOCATION:Schoeneberg 1/2
STATUS:CONFIRMED
CLASS:PUBLIC
DTSTART;TZID=Europe/Berlin:20130802T090000
DTEND;TZID=Europe/Berlin:20130802T110000
DTSTAMP:20161222T095705Z
URL:https://datatracker.ietf.org/meeting/87/materials/agenda-87-precis
DESCRIPTION:Morning Session I\n
 \n
 Agenda https://datatracker.ietf.org/meeting/87/materials/agenda-87-precis\n
 \n
 Session materials: https://datatracker.ietf.org/meeting/87/session/precis\n
 \n
 See in schedule: https://datatracker.ietf.org/meeting/87/agenda#row-87-2013-08-02-fri-0900-app-precis\n
END:VEVENT
BEGIN:VEVENT
UID:ietf-87-4273-urnbis
SUMMARY:urnbis - Uniform Resource Names, Revised
LOCATION:Charlottenburg 1
STATUS:CONFIRMED
CLASS:PUBLIC
DTSTART;TZID=Europe/Berlin:20130802T112000
DTEND;TZID=Europe/Berlin:20130802T122000
DTSTAMP:20161222T095705Z
URL:https://datatracker.ietf.org/meeting/87/materials/agenda-87-urnbis
DESCRIPTION:Afternoon Session I\n
 \n
 Agenda https://datatracker.ietf.org/meeting/87/materials/agenda-87-urnbis\n
 \n
 Session materials: https://datatracker.ietf.org/meeting/87/session/urnbis\n
 \n
 See in schedule: https://datatracker.ietf.org/meeting/87/agenda#row-87-2013-08-02-fri-1120-app-urnbis\n
END:VEVENT
END:VCALENDAR
