BEGIN:VCALENDAR
VERSION:2.0
METHOD:PUBLISH
PRODID:-//IETF//datatracker.ietf.org ical agenda//EN
BEGIN:VTIMEZONE
TZID:Europe/Berlin
X-LIC-LOCATION:Europe/Berlin
BEGIN:DAYLIGHT
TZOFFSETFROM:+0100
TZOFFSETTO:+0200
TZNAME:CEST
DTSTART:19810329T020000
RRULE:FREQ=YEARLY;BYMONTH=3;BYDAY=-1SU
END:DAYLIGHT
BEGIN:STANDARD
TZOFFSETFROM:+0200
TZOFFSETTO:+0100
TZNAME:CET
DTSTART:19961027T030000
RRULE:FREQ=YEARLY;BYMONTH=10;BYDAY=-1SU
END:STANDARD
BEGIN:STANDARD
TZOFFSETFROM:+005328
TZOFFSETTO:+0100
TZNAME:CET
DTSTART:18930401T000000
RDATE:18930401T000000
END:STANDARD
BEGIN:DAYLIGHT
TZOFFSETFROM:+0100
TZOFFSETTO:+0200
TZNAME:CEST
DTSTART:19160430T230000
RDATE:19160430T230000
RDATE:19170416T020000
RDATE:19180415T020000
RDATE:19400401T020000
RDATE:19430329T020000
RDATE:19440403T020000
RDATE:19450402T020000
RDATE:19460414T020000
RDATE:19470406T030000
RDATE:19480418T020000
RDATE:19490410T020000
RDATE:19800406T020000
END:DAYLIGHT
BEGIN:STANDARD
TZOFFSETFROM:+0200
TZOFFSETTO:+0100
TZNAME:CET
DTSTART:19161001T010000
RDATE:19161001T010000
RDATE:19170917T030000
RDATE:19180916T030000
RDATE:19421102T030000
RDATE:19431004T030000
RDATE:19441002T030000
RDATE:19451118T030000
RDATE:19461007T030000
RDATE:19471005T030000
RDATE:19481003T030000
RDATE:19491002T030000
RDATE:19800928T030000
RDATE:19810927T030000
RDATE:19820926T030000
RDATE:19830925T030000
RDATE:19840930T030000
RDATE:19850929T030000
RDATE:19860928T030000
RDATE:19870927T030000
RDATE:19880925T030000
RDATE:19890924T030000
RDATE:19900930T030000
RDATE:19910929T030000
RDATE:19920927T030000
RDATE:19930926T030000
RDATE:19940925T030000
RDATE:19950924T030000
END:STANDARD
BEGIN:DAYLIGHT
TZOFFSETFROM:+0200
TZOFFSETTO:+0300
TZNAME:CEMT
DTSTART:19450524T020000
RDATE:19450524T020000
RDATE:19470511T030000
END:DAYLIGHT
BEGIN:DAYLIGHT
TZOFFSETFROM:+0300
TZOFFSETTO:+0200
TZNAME:CEST
DTSTART:19450924T030000
RDATE:19450924T030000
RDATE:19470629T030000
END:DAYLIGHT
BEGIN:STANDARD
TZOFFSETFROM:+0100
TZOFFSETTO:+0100
TZNAME:CET
DTSTART:19460101T000000
RDATE:19460101T000000
RDATE:19800101T000000
END:STANDARD
END:VTIMEZONE
BEGIN:VEVENT
UID:ietf-87-4091-tools
SUMMARY:Code Sprint
LOCATION:Koepenick 1/2
STATUS:CONFIRMED
CLASS:PUBLIC
DTSTART;TZID=Europe/Berlin:20130727T093000
DTEND;TZID=Europe/Berlin:20130727T180000
DTSTAMP:20161222T095705Z
DESCRIPTION:Code Sprint\n
 \n
 Session materials: https://datatracker.ietf.org/meeting/87/session/tools\n
 \n
 See in schedule: https://datatracker.ietf.org/meeting/87/agenda#row-87-2013-07-27-sat-0930-tools-code-sprint\n
END:VEVENT
BEGIN:VEVENT
UID:ietf-87-4072-iepg
SUMMARY:IEPG Meeting
LOCATION:Bellevue
STATUS:CONFIRMED
CLASS:PUBLIC
DTSTART;TZID=Europe/Berlin:20130728T100000
DTEND;TZID=Europe/Berlin:20130728T120000
DTSTAMP:20161222T095705Z
DESCRIPTION:IEPG Meeting\n
 \n
 Session materials: https://datatracker.ietf.org/meeting/87/session/iepg\n
 \n
 See in schedule: https://datatracker.ietf.org/meeting/87/agenda#row-87-2013-07-28-sun-1000-iepg-iepg-meeting\n
END:VEVENT
BEGIN:VEVENT
UID:ietf-87-4529-edu
SUMMARY:German Students Orientation Session
LOCATION:Hugos South
STATUS:CONFIRMED
CLASS:PUBLIC
DTSTART;TZID=Europe/Berlin:20130728T130000
DTEND;TZID=Europe/Berlin:20130728T150000
DTSTAMP:20161222T095705Z
DESCRIPTION:German Students Orientation Session\n
 \n
 Session materials: https://datatracker.ietf.org/meeting/87/session/edu\n
 \n
 See in schedule: https://datatracker.ietf.org/meeting/87/agenda#row-87-2013-07-28-sun-1300-edu-german-students-orientation-session\n
END:VEVENT
BEGIN:VEVENT
UID:ietf-87-4528-edu
SUMMARY:IAOC Overview Session
LOCATION:Potsdam 1
STATUS:CONFIRMED
CLASS:PUBLIC
DTSTART;TZID=Europe/Berlin:20130728T130000
DTEND;TZID=Europe/Berlin:20130728T145000
DTSTAMP:20161222T095705Z
DESCRIPTION:IAOC Overview Session\n
 \n
 Session materials: https://datatracker.ietf.org/meeting/87/session/edu\n
 \n
 See in schedule: https://datatracker.ietf.org/meeting/87/agenda#row-87-2013-07-28-sun-1300-edu-iaoc-overview-session\n
END:VEVENT
BEGIN:VEVENT
UID:ietf-87-4068-edu
SUMMARY:Newcomers' Orientation
LOCATION:Potsdam 3
STATUS:CONFIRMED
CLASS:PUBLIC
DTSTART;TZID=Europe/Berlin:20130728T130000
DTEND;TZID=Europe/Berlin:20130728T145000
DTSTAMP:20161222T095705Z
DESCRIPTION:Newcomers' Orientation\n
 \n
 Session materials: https://datatracker.ietf.org/meeting/87/session/edu\n
 \n
 See in schedule: https://datatracker.ietf.org/meeting/87/agenda#row-87-2013-07-28-sun-1300-edu-newcomers-orientation\n
END:VEVENT
BEGIN:VEVENT
UID:ietf-87-4520-edu
SUMMARY:Tools for Creating I-Ds and RFCs
LOCATION:Bellevue
STATUS:CONFIRMED
CLASS:PUBLIC
DTSTART;TZID=Europe/Berlin:20130728T130000
DTEND;TZID=Europe/Berlin:20130728T145000
DTSTAMP:20161222T095705Z
DESCRIPTION:Tools for Creating I-Ds and RFCs\n
 \n
 Session materials: https://datatracker.ietf.org/meeting/87/session/edu\n
 \n
 See in schedule: https://datatracker.ietf.org/meeting/87/agenda#row-87-2013-07-28-sun-1300-edu-tools-for-creating-i-ds-and-rfcs\n
END:VEVENT
BEGIN:VEVENT
UID:ietf-87-4465-edu
SUMMARY:Applying IP Flow Information Export (IPFIX) to Network Measurement and Management
LOCATION:Bellevue
STATUS:CONFIRMED
CLASS:PUBLIC
DTSTART;TZID=Europe/Berlin:20130728T150000
DTEND;TZID=Europe/Berlin:20130728T165000
DTSTAMP:20161222T095705Z
DESCRIPTION:Applying IP Flow Information Export (IPFIX) to Network Measurement and Management\n
 \n
 Session materials: https://datatracker.ietf.org/meeting/87/session/edu\n
 \n
 See in schedule: https://datatracker.ietf.org/meeting/87/agenda#row-87-2013-07-28-sun-1500-edu-applying-ip-flow-information-export-ipfix-to-network-measurement-and-management\n
END:VEVENT
BEGIN:VEVENT
UID:ietf-87-4466-edu
SUMMARY:Multipath TCP
LOCATION:Potsdam 3
STATUS:CONFIRMED
CLASS:PUBLIC
DTSTART;TZID=Europe/Berlin:20130728T150000
DTEND;TZID=Europe/Berlin:20130728T165000
DTSTAMP:20161222T095705Z
DESCRIPTION:Multipath TCP\n
 \n
 Session materials: https://datatracker.ietf.org/meeting/87/session/edu\n
 \n
 See in schedule: https://datatracker.ietf.org/meeting/87/agenda#row-87-2013-07-28-sun-1500-edu-multipath-tcp\n
END:VEVENT
BEGIN:VEVENT
UID:ietf-87-4344-status
SUMMARY:status - Stacked Tunnels for Source Routing
LOCATION:Potsdam 1
STATUS:CONFIRMED
CLASS:PUBLIC
DTSTART;TZID=Europe/Berlin:20130729T130000
DTEND;TZID=Europe/Berlin:20130729T150000
DTSTAMP:20161222T095705Z
URL:https://datatracker.ietf.org/meeting/87/materials/agenda-87-status
DESCRIPTION:Afternoon Session I\n
 \n
 Agenda https://datatracker.ietf.org/meeting/87/materials/agenda-87-status\n
 \n
 Session materials: https://datatracker.ietf.org/meeting/87/session/status\n
 \n
 See in schedule: https://datatracker.ietf.org/meeting/87/agenda#row-87-2013-07-29-mon-1300-rtg-status\n
END:VEVENT
BEGIN:VEVENT
UID:ietf-87-4356-iprbis
SUMMARY:iprbis - Proposed Update IPR Policy
LOCATION:Potsdam 3
STATUS:CONFIRMED
CLASS:PUBLIC
DTSTART;TZID=Europe/Berlin:20130729T151000
DTEND;TZID=Europe/Berlin:20130729T161000
DTSTAMP:20161222T095705Z
URL:https://datatracker.ietf.org/meeting/87/materials/agenda-87-iprbis
DESCRIPTION:Afternoon Session II\n
 \n
 Agenda https://datatracker.ietf.org/meeting/87/materials/agenda-87-iprbis\n
 \n
 Session materials: https://datatracker.ietf.org/meeting/87/session/iprbis\n
 \n
 See in schedule: https://datatracker.ietf.org/meeting/87/agenda#row-87-2013-07-29-mon-1510-gen-iprbis\n
END:VEVENT
BEGIN:VEVENT
UID:ietf-87-4357-nsc
SUMMARY:nsc - Network Service Chaining
LOCATION:Potsdam 1
STATUS:CONFIRMED
CLASS:PUBLIC
DTSTART;TZID=Europe/Berlin:20130729T151000
DTEND;TZID=Europe/Berlin:20130729T161000
DTSTAMP:20161222T095705Z
URL:https://datatracker.ietf.org/meeting/87/materials/agenda-87-nsc
DESCRIPTION:Afternoon Session II\n
 \n
 Agenda https://datatracker.ietf.org/meeting/87/materials/agenda-87-nsc\n
 \n
 Session materials: https://datatracker.ietf.org/meeting/87/session/nsc\n
 \n
 See in schedule: https://datatracker.ietf.org/meeting/87/agenda#row-87-2013-07-29-mon-1510-rtg-nsc\n
END:VEVENT
BEGIN:VEVENT
UID:ietf-87-4367-posh
SUMMARY:posh - PKIX over Secure HTTP
LOCATION:Charlottenburg 2/3
STATUS:CONFIRMED
CLASS:PUBLIC
DTSTART;TZID=Europe/Berlin:20130729T162000
DTEND;TZID=Europe/Berlin:20130729T172000
DTSTAMP:20161222T095705Z
URL:https://datatracker.ietf.org/meeting/87/materials/agenda-87-posh
DESCRIPTION:Afternoon Session III\n
 \n
 Agenda https://datatracker.ietf.org/meeting/87/materials/agenda-87-posh\n
 \n
 Session materials: https://datatracker.ietf.org/meeting/87/session/posh\n
 \n
 See in schedule: https://datatracker.ietf.org/meeting/87/agenda#row-87-2013-07-29-mon-1620-sec-posh\n
END:VEVENT
BEGIN:VEVENT
UID:ietf-87-4096-iab
SUMMARY:Technical Plenary
LOCATION:Potsdam 1/3
STATUS:CONFIRMED
CLASS:PUBLIC
DTSTART;TZID=Europe/Berlin:20130729T174000
DTEND;TZID=Europe/Berlin:20130729T194000
DTSTAMP:20161222T095705Z
URL:https://datatracker.ietf.org/meeting/87/materials/agenda-87-iab-techplenary
DESCRIPTION:Technical Plenary\n
 \n
 Agenda https://datatracker.ietf.org/meeting/87/materials/agenda-87-iab-techplenary\n
 \n
 Session materials: https://datatracker.ietf.org/meeting/87/session/iab\n
 \n
 See in schedule: https://datatracker.ietf.org/meeting/87/agenda#row-87-2013-07-29-mon-1740-1plenary-iab\n
END:VEVENT
BEGIN:VEVENT
UID:ietf-87-4383-stir
SUMMARY:stir - Secure Telephone Identity Revisited
LOCATION:Potsdam 1
STATUS:CONFIRMED
CLASS:PUBLIC
DTSTART;TZID=Europe/Berlin:20130730T090000
DTEND;TZID=Europe/Berlin:20130730T113000
DTSTAMP:20161222T095705Z
URL:https://datatracker.ietf.org/meeting/87/materials/agenda-87-stir
DESCRIPTION:Morning Session I\n
 \n
 Agenda https://datatracker.ietf.org/meeting/87/materials/agenda-87-stir\n
 \n
 Session materials: https://datatracker.ietf.org/meeting/87/session/stir\n
 \n
 See in schedule: https://datatracker.ietf.org/meeting/87/agenda#row-87-2013-07-30-tue-0900-rai-stir\n
END:VEVENT
BEGIN:VEVENT
UID:ietf-87-4214-dmarc
SUMMARY:dmarc - Domain-based Message Authentication, Reporting & Conformance
LOCATION:Potsdam 1
STATUS:CONFIRMED
CLASS:PUBLIC
DTSTART;TZID=Europe/Berlin:20130730T152000
DTEND;TZID=Europe/Berlin:20130730T165000
DTSTAMP:20161222T095705Z
URL:https://datatracker.ietf.org/meeting/87/materials/agenda-87-dmarc
DESCRIPTION:Afternoon Session II\n
 \n
 Agenda https://datatracker.ietf.org/meeting/87/materials/agenda-87-dmarc\n
 \n
 Session materials: https://datatracker.ietf.org/meeting/87/session/dmarc\n
 \n
 See in schedule: https://datatracker.ietf.org/meeting/87/agenda#row-87-2013-07-30-tue-1520-app-dmarc\n
END:VEVENT
BEGIN:VEVENT
UID:ietf-87-4212-6tsch
SUMMARY:6tsch - Deterministic IPv6 over IEEE802.15.4e Timeslotted Channel Hopping 
LOCATION:Bellevue
STATUS:CONFIRMED
CLASS:PUBLIC
DTSTART;TZID=Europe/Berlin:20130730T152000
DTEND;TZID=Europe/Berlin:20130730T165000
DTSTAMP:20161222T095705Z
URL:https://datatracker.ietf.org/meeting/87/materials/agenda-87-6tsch
DESCRIPTION:Afternoon Session II\n
 \n
 Agenda https://datatracker.ietf.org/meeting/87/materials/agenda-87-6tsch\n
 \n
 Session materials: https://datatracker.ietf.org/meeting/87/session/6tsch\n
 \n
 See in schedule: https://datatracker.ietf.org/meeting/87/agenda#row-87-2013-07-30-tue-1520-int-6tsch\n
END:VEVENT
BEGIN:VEVENT
UID:ietf-87-4266-aqm
SUMMARY:aqm - Active Queue Management and Packet Scheduling
LOCATION:Potsdam 1
STATUS:CONFIRMED
CLASS:PUBLIC
DTSTART;TZID=Europe/Berlin:20130730T170000
DTEND;TZID=Europe/Berlin:20130730T183000
DTSTAMP:20161222T095705Z
URL:https://datatracker.ietf.org/meeting/87/materials/agenda-87-aqm
DESCRIPTION:Afternoon Session III\n
 \n
 Agenda https://datatracker.ietf.org/meeting/87/materials/agenda-87-aqm\n
 \n
 Session materials: https://datatracker.ietf.org/meeting/87/session/aqm\n
 \n
 See in schedule: https://datatracker.ietf.org/meeting/87/agenda#row-87-2013-07-30-tue-1700-tsv-aqm\n
END:VEVENT
BEGIN:VEVENT
UID:ietf-87-4516-dnssd
SUMMARY:dnssdext - DNS-SD Extensions
LOCATION:Potsdam 3
STATUS:CONFIRMED
CLASS:PUBLIC
DTSTART;TZID=Europe/Berlin:20130731T090000
DTEND;TZID=Europe/Berlin:20130731T113000
DTSTAMP:20161222T095705Z
URL:https://datatracker.ietf.org/meeting/87/materials/agenda-87-dnssdext
DESCRIPTION:Morning Session I\n
 \n
 Agenda https://datatracker.ietf.org/meeting/87/materials/agenda-87-dnssdext\n
 \n
 Session materials: https://datatracker.ietf.org/meeting/87/session/dnssd\n
 \n
 See in schedule: https://datatracker.ietf.org/meeting/87/agenda#row-87-2013-07-31-wed-0900-int-dnssdext\n
END:VEVENT
BEGIN:VEVENT
UID:ietf-87-4395-dice
SUMMARY:dice - DTLS In Constrained Environments
LOCATION:Potsdam 3
STATUS:CONFIRMED
CLASS:PUBLIC
DTSTART;TZID=Europe/Berlin:20130731T151000
DTEND;TZID=Europe/Berlin:20130731T161000
DTSTAMP:20161222T095705Z
URL:https://datatracker.ietf.org/meeting/87/materials/agenda-87-dice
DESCRIPTION:Afternoon Session II\n
 \n
 Agenda https://datatracker.ietf.org/meeting/87/materials/agenda-87-dice\n
 \n
 Session materials: https://datatracker.ietf.org/meeting/87/session/dice\n
 \n
 See in schedule: https://datatracker.ietf.org/meeting/87/agenda#row-87-2013-07-31-wed-1510-sec-dice\n
END:VEVENT
BEGIN:VEVENT
UID:ietf-87-4097-iesg
SUMMARY:IETF Operations and Administration Plenary
LOCATION:Potsdam 1/3
STATUS:CONFIRMED
CLASS:PUBLIC
DTSTART;TZID=Europe/Berlin:20130731T174000
DTEND;TZID=Europe/Berlin:20130731T201000
DTSTAMP:20161222T095705Z
URL:https://datatracker.ietf.org/meeting/87/materials/agenda-87-iesg-opsplenary
DESCRIPTION:IETF Operations and Administration Plenary\n
 \n
 Agenda https://datatracker.ietf.org/meeting/87/materials/agenda-87-iesg-opsplenary\n
 \n
 Session materials: https://datatracker.ietf.org/meeting/87/session/iesg\n
 \n
 See in schedule: https://datatracker.ietf.org/meeting/87/agenda#row-87-2013-07-31-wed-1740-1plenary-iesg\n
END:VEVENT
BEGIN:VEVENT
UID:ietf-87-4447-tcmtf
SUMMARY:tcmtf - Tunneling Compressed Multiplexed Traffic Flows
LOCATION:Potsdam 3
STATUS:CONFIRMED
CLASS:PUBLIC
DTSTART;TZID=Europe/Berlin:20130801T152000
DTEND;TZID=Europe/Berlin:20130801T165000
DTSTAMP:20161222T095705Z
URL:https://datatracker.ietf.org/meeting/87/materials/agenda-87-tcmtf
DESCRIPTION:Afternoon Session II\n
 \n
 Agenda https://datatracker.ietf.org/meeting/87/materials/agenda-87-tcmtf\n
 \n
 Session materials: https://datatracker.ietf.org/meeting/87/session/tcmtf\n
 \n
 See in schedule: https://datatracker.ietf.org/meeting/87/agenda#row-87-2013-08-01-thu-1520-tsv-tcmtf\n
END:VEVENT
BEGIN:VEVENT
UID:ietf-87-4459-6lo
SUMMARY:6lo - IPv6 over networks of resource-constrained nodes
LOCATION:Bellevue
STATUS:CONFIRMED
CLASS:PUBLIC
DTSTART;TZID=Europe/Berlin:20130801T170000
DTEND;TZID=Europe/Berlin:20130801T183000
DTSTAMP:20161222T095705Z
URL:https://datatracker.ietf.org/meeting/87/materials/agenda-87-6lo
DESCRIPTION:Afternoon Session III\n
 \n
 Agenda https://datatracker.ietf.org/meeting/87/materials/agenda-87-6lo\n
 \n
 Session materials: https://datatracker.ietf.org/meeting/87/session/6lo\n
 \n
 See in schedule: https://datatracker.ietf.org/meeting/87/agenda#row-87-2013-08-01-thu-1700-int-6lo\n
END:VEVENT
END:VCALENDAR
