BEGIN:VCALENDAR
VERSION:2.0
METHOD:PUBLISH
PRODID:-//IETF//datatracker.ietf.org ical agenda//EN
BEGIN:VTIMEZONE
TZID:Europe/Berlin
X-LIC-LOCATION:Europe/Berlin
BEGIN:DAYLIGHT
TZOFFSETFROM:+0100
TZOFFSETTO:+0200
TZNAME:CEST
DTSTART:19810329T020000
RRULE:FREQ=YEARLY;BYMONTH=3;BYDAY=-1SU
END:DAYLIGHT
BEGIN:STANDARD
TZOFFSETFROM:+0200
TZOFFSETTO:+0100
TZNAME:CET
DTSTART:19961027T030000
RRULE:FREQ=YEARLY;BYMONTH=10;BYDAY=-1SU
END:STANDARD
BEGIN:STANDARD
TZOFFSETFROM:+005328
TZOFFSETTO:+0100
TZNAME:CET
DTSTART:18930401T000000
RDATE:18930401T000000
END:STANDARD
BEGIN:DAYLIGHT
TZOFFSETFROM:+0100
TZOFFSETTO:+0200
TZNAME:CEST
DTSTART:19160430T230000
RDATE:19160430T230000
RDATE:19170416T020000
RDATE:19180415T020000
RDATE:19400401T020000
RDATE:19430329T020000
RDATE:19440403T020000
RDATE:19450402T020000
RDATE:19460414T020000
RDATE:19470406T030000
RDATE:19480418T020000
RDATE:19490410T020000
RDATE:19800406T020000
END:DAYLIGHT
BEGIN:STANDARD
TZOFFSETFROM:+0200
TZOFFSETTO:+0100
TZNAME:CET
DTSTART:19161001T010000
RDATE:19161001T010000
RDATE:19170917T030000
RDATE:19180916T030000
RDATE:19421102T030000
RDATE:19431004T030000
RDATE:19441002T030000
RDATE:19451118T030000
RDATE:19461007T030000
RDATE:19471005T030000
RDATE:19481003T030000
RDATE:19491002T030000
RDATE:19800928T030000
RDATE:19810927T030000
RDATE:19820926T030000
RDATE:19830925T030000
RDATE:19840930T030000
RDATE:19850929T030000
RDATE:19860928T030000
RDATE:19870927T030000
RDATE:19880925T030000
RDATE:19890924T030000
RDATE:19900930T030000
RDATE:19910929T030000
RDATE:19920927T030000
RDATE:19930926T030000
RDATE:19940925T030000
RDATE:19950924T030000
END:STANDARD
BEGIN:DAYLIGHT
TZOFFSETFROM:+0200
TZOFFSETTO:+0300
TZNAME:CEMT
DTSTART:19450524T020000
RDATE:19450524T020000
RDATE:19470511T030000
END:DAYLIGHT
BEGIN:DAYLIGHT
TZOFFSETFROM:+0300
TZOFFSETTO:+0200
TZNAME:CEST
DTSTART:19450924T030000
RDATE:19450924T030000
RDATE:19470629T030000
END:DAYLIGHT
BEGIN:STANDARD
TZOFFSETFROM:+0100
TZOFFSETTO:+0100
TZNAME:CET
DTSTART:19460101T000000
RDATE:19460101T000000
RDATE:19800101T000000
END:STANDARD
END:VTIMEZONE
BEGIN:VEVENT
UID:ietf-87-4175-homenet
SUMMARY:homenet - Home Networking
LOCATION:Potsdam 1
STATUS:CONFIRMED
CLASS:PUBLIC
DTSTART;TZID=Europe/Berlin:20130729T090000
DTEND;TZID=Europe/Berlin:20130729T113000
DTSTAMP:20161222T095705Z
URL:https://datatracker.ietf.org/meeting/87/materials/agenda-87-homenet
DESCRIPTION:Morning Session I\n
 \n
 Agenda https://datatracker.ietf.org/meeting/87/materials/agenda-87-homenet\n
 \n
 Session materials: https://datatracker.ietf.org/meeting/87/session/homenet\n
 \n
 See in schedule: https://datatracker.ietf.org/meeting/87/agenda#row-87-2013-07-29-mon-0900-int-homenet\n
END:VEVENT
BEGIN:VEVENT
UID:ietf-87-4355-6man
SUMMARY:6man - IPv6 Maintenance
LOCATION:Bellevue
STATUS:CONFIRMED
CLASS:PUBLIC
DTSTART;TZID=Europe/Berlin:20130729T151000
DTEND;TZID=Europe/Berlin:20130729T161000
DTSTAMP:20161222T095705Z
URL:https://datatracker.ietf.org/meeting/87/materials/agenda-87-6man
DESCRIPTION:Afternoon Session II\n
 \n
 Agenda https://datatracker.ietf.org/meeting/87/materials/agenda-87-6man\n
 \n
 Session materials: https://datatracker.ietf.org/meeting/87/session/6man\n
 \n
 See in schedule: https://datatracker.ietf.org/meeting/87/agenda#row-87-2013-07-29-mon-1510-int-6man\n
END:VEVENT
BEGIN:VEVENT
UID:ietf-87-4368-6man
SUMMARY:6man - IPv6 Maintenance
LOCATION:Bellevue
STATUS:CONFIRMED
CLASS:PUBLIC
DTSTART;TZID=Europe/Berlin:20130729T162000
DTEND;TZID=Europe/Berlin:20130729T172000
DTSTAMP:20161222T095705Z
URL:https://datatracker.ietf.org/meeting/87/materials/agenda-87-6man
DESCRIPTION:Afternoon Session III\n
 \n
 Agenda https://datatracker.ietf.org/meeting/87/materials/agenda-87-6man\n
 \n
 Session materials: https://datatracker.ietf.org/meeting/87/session/6man\n
 \n
 See in schedule: https://datatracker.ietf.org/meeting/87/agenda#row-87-2013-07-29-mon-1620-int-6man\n
END:VEVENT
BEGIN:VEVENT
UID:ietf-87-4381-softwire
SUMMARY:softwire - Softwires
LOCATION:Bellevue
STATUS:CONFIRMED
CLASS:PUBLIC
DTSTART;TZID=Europe/Berlin:20130730T090000
DTEND;TZID=Europe/Berlin:20130730T113000
DTSTAMP:20161222T095705Z
URL:https://datatracker.ietf.org/meeting/87/materials/agenda-87-softwire
DESCRIPTION:Morning Session I\n
 \n
 Agenda https://datatracker.ietf.org/meeting/87/materials/agenda-87-softwire\n
 \n
 Session materials: https://datatracker.ietf.org/meeting/87/session/softwire\n
 \n
 See in schedule: https://datatracker.ietf.org/meeting/87/agenda#row-87-2013-07-30-tue-0900-int-softwire\n
END:VEVENT
BEGIN:VEVENT
UID:ietf-87-4377-tictoc
SUMMARY:tictoc - Timing over IP Connection and Transfer of Clock (Joint Session with NTP)
LOCATION:Charlottenburg 1
STATUS:CONFIRMED
CLASS:PUBLIC
DTSTART;TZID=Europe/Berlin:20130730T090000
DTEND;TZID=Europe/Berlin:20130730T113000
DTSTAMP:20161222T095705Z
URL:https://datatracker.ietf.org/meeting/87/materials/agenda-87-tictoc
DESCRIPTION:Morning Session I\n
 Note: Joint Session with NTP\n
 \n
 Agenda https://datatracker.ietf.org/meeting/87/materials/agenda-87-tictoc\n
 \n
 Session materials: https://datatracker.ietf.org/meeting/87/session/tictoc\n
 \n
 See in schedule: https://datatracker.ietf.org/meeting/87/agenda#row-87-2013-07-30-tue-0900-int-tictoc\n
END:VEVENT
BEGIN:VEVENT
UID:ietf-87-4222-netext
SUMMARY:netext - Network-Based Mobility Extensions
LOCATION:Tiergarten 1/2
STATUS:CONFIRMED
CLASS:PUBLIC
DTSTART;TZID=Europe/Berlin:20130730T130000
DTEND;TZID=Europe/Berlin:20130730T150000
DTSTAMP:20161222T095705Z
URL:https://datatracker.ietf.org/meeting/87/materials/agenda-87-netext
DESCRIPTION:Afternoon Session I\n
 \n
 Agenda https://datatracker.ietf.org/meeting/87/materials/agenda-87-netext\n
 \n
 Session materials: https://datatracker.ietf.org/meeting/87/session/netext\n
 \n
 See in schedule: https://datatracker.ietf.org/meeting/87/agenda#row-87-2013-07-30-tue-1300-int-netext\n
END:VEVENT
BEGIN:VEVENT
UID:ietf-87-4221-pcp
SUMMARY:pcp - Port Control Protocol
LOCATION:Charlottenburg 1
STATUS:CONFIRMED
CLASS:PUBLIC
DTSTART;TZID=Europe/Berlin:20130730T130000
DTEND;TZID=Europe/Berlin:20130730T150000
DTSTAMP:20161222T095705Z
URL:https://datatracker.ietf.org/meeting/87/materials/agenda-87-pcp
DESCRIPTION:Afternoon Session I\n
 \n
 Agenda https://datatracker.ietf.org/meeting/87/materials/agenda-87-pcp\n
 \n
 Session materials: https://datatracker.ietf.org/meeting/87/session/pcp\n
 \n
 See in schedule: https://datatracker.ietf.org/meeting/87/agenda#row-87-2013-07-30-tue-1300-int-pcp\n
END:VEVENT
BEGIN:VEVENT
UID:ietf-87-4212-6tsch
SUMMARY:6tsch - Deterministic IPv6 over IEEE802.15.4e Timeslotted Channel Hopping 
LOCATION:Bellevue
STATUS:CONFIRMED
CLASS:PUBLIC
DTSTART;TZID=Europe/Berlin:20130730T152000
DTEND;TZID=Europe/Berlin:20130730T165000
DTSTAMP:20161222T095705Z
URL:https://datatracker.ietf.org/meeting/87/materials/agenda-87-6tsch
DESCRIPTION:Afternoon Session II\n
 \n
 Agenda https://datatracker.ietf.org/meeting/87/materials/agenda-87-6tsch\n
 \n
 Session materials: https://datatracker.ietf.org/meeting/87/session/6tsch\n
 \n
 See in schedule: https://datatracker.ietf.org/meeting/87/agenda#row-87-2013-07-30-tue-1520-int-6tsch\n
END:VEVENT
BEGIN:VEVENT
UID:ietf-87-4263-trill
SUMMARY:trill - Transparent Interconnection of Lots of Links
LOCATION:Charlottenburg 2/3
STATUS:CONFIRMED
CLASS:PUBLIC
DTSTART;TZID=Europe/Berlin:20130730T170000
DTEND;TZID=Europe/Berlin:20130730T183000
DTSTAMP:20161222T095705Z
URL:https://datatracker.ietf.org/meeting/87/materials/agenda-87-trill
DESCRIPTION:Afternoon Session III\n
 \n
 Agenda https://datatracker.ietf.org/meeting/87/materials/agenda-87-trill\n
 \n
 Session materials: https://datatracker.ietf.org/meeting/87/session/trill\n
 \n
 See in schedule: https://datatracker.ietf.org/meeting/87/agenda#row-87-2013-07-30-tue-1700-int-trill\n
END:VEVENT
BEGIN:VEVENT
UID:ietf-87-4516-dnssd
SUMMARY:dnssdext - DNS-SD Extensions
LOCATION:Potsdam 3
STATUS:CONFIRMED
CLASS:PUBLIC
DTSTART;TZID=Europe/Berlin:20130731T090000
DTEND;TZID=Europe/Berlin:20130731T113000
DTSTAMP:20161222T095705Z
URL:https://datatracker.ietf.org/meeting/87/materials/agenda-87-dnssdext
DESCRIPTION:Morning Session I\n
 \n
 Agenda https://datatracker.ietf.org/meeting/87/materials/agenda-87-dnssdext\n
 \n
 Session materials: https://datatracker.ietf.org/meeting/87/session/dnssd\n
 \n
 See in schedule: https://datatracker.ietf.org/meeting/87/agenda#row-87-2013-07-31-wed-0900-int-dnssdext\n
END:VEVENT
BEGIN:VEVENT
UID:ietf-87-4148-lwig
SUMMARY:lwig - Light-Weight Implementation Guidance
LOCATION:Potsdam 3
STATUS:CONFIRMED
CLASS:PUBLIC
DTSTART;TZID=Europe/Berlin:20130731T130000
DTEND;TZID=Europe/Berlin:20130731T150000
DTSTAMP:20161222T095705Z
URL:https://datatracker.ietf.org/meeting/87/materials/agenda-87-lwig
DESCRIPTION:Afternoon Session I\n
 \n
 Agenda https://datatracker.ietf.org/meeting/87/materials/agenda-87-lwig\n
 \n
 Session materials: https://datatracker.ietf.org/meeting/87/session/lwig\n
 \n
 See in schedule: https://datatracker.ietf.org/meeting/87/agenda#row-87-2013-07-31-wed-1300-int-lwig\n
END:VEVENT
BEGIN:VEVENT
UID:ietf-87-4142-pcp
SUMMARY:pcp - Port Control Protocol
LOCATION:Schoeneberg 1/2
STATUS:CONFIRMED
CLASS:PUBLIC
DTSTART;TZID=Europe/Berlin:20130731T130000
DTEND;TZID=Europe/Berlin:20130731T150000
DTSTAMP:20161222T095705Z
URL:https://datatracker.ietf.org/meeting/87/materials/agenda-87-pcp
DESCRIPTION:Afternoon Session I\n
 \n
 Agenda https://datatracker.ietf.org/meeting/87/materials/agenda-87-pcp\n
 \n
 Session materials: https://datatracker.ietf.org/meeting/87/session/pcp\n
 \n
 See in schedule: https://datatracker.ietf.org/meeting/87/agenda#row-87-2013-07-31-wed-1300-int-pcp\n
END:VEVENT
BEGIN:VEVENT
UID:ietf-87-4394-sunset4
SUMMARY:sunset4 - Sunsetting IPv4
LOCATION:Bellevue
STATUS:CONFIRMED
CLASS:PUBLIC
DTSTART;TZID=Europe/Berlin:20130731T151000
DTEND;TZID=Europe/Berlin:20130731T161000
DTSTAMP:20161222T095705Z
URL:https://datatracker.ietf.org/meeting/87/materials/agenda-87-sunset4
DESCRIPTION:Afternoon Session II\n
 \n
 Agenda https://datatracker.ietf.org/meeting/87/materials/agenda-87-sunset4\n
 \n
 Session materials: https://datatracker.ietf.org/meeting/87/session/sunset4\n
 \n
 See in schedule: https://datatracker.ietf.org/meeting/87/agenda#row-87-2013-07-31-wed-1510-int-sunset4\n
END:VEVENT
BEGIN:VEVENT
UID:ietf-87-4498-dhc
SUMMARY:dhc - Dynamic Host Configuration (Joint Session with SUNSET4)
LOCATION:Bellevue
STATUS:CONFIRMED
CLASS:PUBLIC
DTSTART;TZID=Europe/Berlin:20130731T162000
DTEND;TZID=Europe/Berlin:20130731T172000
DTSTAMP:20161222T095705Z
URL:https://datatracker.ietf.org/meeting/87/materials/agenda-87-dhc
DESCRIPTION:Afternoon Session III\n
 Note: Joint Session with SUNSET4\n
 \n
 Agenda https://datatracker.ietf.org/meeting/87/materials/agenda-87-dhc\n
 \n
 Session materials: https://datatracker.ietf.org/meeting/87/session/dhc\n
 \n
 See in schedule: https://datatracker.ietf.org/meeting/87/agenda#row-87-2013-07-31-wed-1620-int-dhc\n
END:VEVENT
BEGIN:VEVENT
UID:ietf-87-4407-sunset4
SUMMARY:sunset4 - Sunsetting IPv4 (Joint Session with DHC)
LOCATION:Bellevue
STATUS:CONFIRMED
CLASS:PUBLIC
DTSTART;TZID=Europe/Berlin:20130731T162000
DTEND;TZID=Europe/Berlin:20130731T172000
DTSTAMP:20161222T095705Z
URL:https://datatracker.ietf.org/meeting/87/materials/agenda-87-sunset4
DESCRIPTION:Afternoon Session III\n
 Note: Joint Session with DHC\n
 \n
 Agenda https://datatracker.ietf.org/meeting/87/materials/agenda-87-sunset4\n
 \n
 Session materials: https://datatracker.ietf.org/meeting/87/session/sunset4\n
 \n
 See in schedule: https://datatracker.ietf.org/meeting/87/agenda#row-87-2013-07-31-wed-1620-int-sunset4\n
END:VEVENT
BEGIN:VEVENT
UID:ietf-87-4417-dhc
SUMMARY:dhc - Dynamic Host Configuration
LOCATION:Tiergarten 1/2
STATUS:CONFIRMED
CLASS:PUBLIC
DTSTART;TZID=Europe/Berlin:20130801T090000
DTEND;TZID=Europe/Berlin:20130801T102000
DTSTAMP:20161222T095705Z
URL:https://datatracker.ietf.org/meeting/87/materials/agenda-87-dhc
DESCRIPTION:Morning Session I\n
 \n
 Agenda https://datatracker.ietf.org/meeting/87/materials/agenda-87-dhc\n
 \n
 Session materials: https://datatracker.ietf.org/meeting/87/session/dhc\n
 \n
 See in schedule: https://datatracker.ietf.org/meeting/87/agenda#row-87-2013-08-01-thu-0900-int-dhc\n
END:VEVENT
BEGIN:VEVENT
UID:ietf-87-4416-dmm
SUMMARY:dmm - Distributed Mobility Management
LOCATION:Charlottenburg 1
STATUS:CONFIRMED
CLASS:PUBLIC
DTSTART;TZID=Europe/Berlin:20130801T090000
DTEND;TZID=Europe/Berlin:20130801T102000
DTSTAMP:20161222T095705Z
URL:https://datatracker.ietf.org/meeting/87/materials/agenda-87-dmm
DESCRIPTION:Morning Session I\n
 \n
 Agenda https://datatracker.ietf.org/meeting/87/materials/agenda-87-dmm\n
 \n
 Session materials: https://datatracker.ietf.org/meeting/87/session/dmm\n
 \n
 See in schedule: https://datatracker.ietf.org/meeting/87/agenda#row-87-2013-08-01-thu-0900-int-dmm\n
END:VEVENT
BEGIN:VEVENT
UID:ietf-87-4430-dhc
SUMMARY:dhc - Dynamic Host Configuration
LOCATION:Tiergarten 1/2
STATUS:CONFIRMED
CLASS:PUBLIC
DTSTART;TZID=Europe/Berlin:20130801T103000
DTEND;TZID=Europe/Berlin:20130801T113000
DTSTAMP:20161222T095705Z
URL:https://datatracker.ietf.org/meeting/87/materials/agenda-87-dhc
DESCRIPTION:Morning Session II\n
 \n
 Agenda https://datatracker.ietf.org/meeting/87/materials/agenda-87-dhc\n
 \n
 Session materials: https://datatracker.ietf.org/meeting/87/session/dhc\n
 \n
 See in schedule: https://datatracker.ietf.org/meeting/87/agenda#row-87-2013-08-01-thu-1030-int-dhc\n
END:VEVENT
BEGIN:VEVENT
UID:ietf-87-4429-dmm
SUMMARY:dmm - Distributed Mobility Management
LOCATION:Charlottenburg 1
STATUS:CONFIRMED
CLASS:PUBLIC
DTSTART;TZID=Europe/Berlin:20130801T103000
DTEND;TZID=Europe/Berlin:20130801T113000
DTSTAMP:20161222T095705Z
URL:https://datatracker.ietf.org/meeting/87/materials/agenda-87-dmm
DESCRIPTION:Morning Session II\n
 \n
 Agenda https://datatracker.ietf.org/meeting/87/materials/agenda-87-dmm\n
 \n
 Session materials: https://datatracker.ietf.org/meeting/87/session/dmm\n
 \n
 See in schedule: https://datatracker.ietf.org/meeting/87/agenda#row-87-2013-08-01-thu-1030-int-dmm\n
END:VEVENT
BEGIN:VEVENT
UID:ietf-87-4301-mif
SUMMARY:mif - Multiple Interfaces
LOCATION:Potsdam 2
STATUS:CONFIRMED
CLASS:PUBLIC
DTSTART;TZID=Europe/Berlin:20130801T130000
DTEND;TZID=Europe/Berlin:20130801T150000
DTSTAMP:20161222T095705Z
URL:https://datatracker.ietf.org/meeting/87/materials/agenda-87-mif
DESCRIPTION:Afternoon Session I\n
 \n
 Agenda https://datatracker.ietf.org/meeting/87/materials/agenda-87-mif\n
 \n
 Session materials: https://datatracker.ietf.org/meeting/87/session/mif\n
 \n
 See in schedule: https://datatracker.ietf.org/meeting/87/agenda#row-87-2013-08-01-thu-1300-int-mif\n
END:VEVENT
BEGIN:VEVENT
UID:ietf-87-4444-multimob
SUMMARY:multimob - Multicast Mobility
LOCATION:Potsdam 2
STATUS:CONFIRMED
CLASS:PUBLIC
DTSTART;TZID=Europe/Berlin:20130801T152000
DTEND;TZID=Europe/Berlin:20130801T165000
DTSTAMP:20161222T095705Z
URL:https://datatracker.ietf.org/meeting/87/materials/agenda-87-multimob
DESCRIPTION:Afternoon Session II\n
 \n
 Agenda https://datatracker.ietf.org/meeting/87/materials/agenda-87-multimob\n
 \n
 Session materials: https://datatracker.ietf.org/meeting/87/session/multimob\n
 \n
 See in schedule: https://datatracker.ietf.org/meeting/87/agenda#row-87-2013-08-01-thu-1520-int-multimob\n
END:VEVENT
BEGIN:VEVENT
UID:ietf-87-4459-6lo
SUMMARY:6lo - IPv6 over networks of resource-constrained nodes
LOCATION:Bellevue
STATUS:CONFIRMED
CLASS:PUBLIC
DTSTART;TZID=Europe/Berlin:20130801T170000
DTEND;TZID=Europe/Berlin:20130801T183000
DTSTAMP:20161222T095705Z
URL:https://datatracker.ietf.org/meeting/87/materials/agenda-87-6lo
DESCRIPTION:Afternoon Session III\n
 \n
 Agenda https://datatracker.ietf.org/meeting/87/materials/agenda-87-6lo\n
 \n
 Session materials: https://datatracker.ietf.org/meeting/87/session/6lo\n
 \n
 See in schedule: https://datatracker.ietf.org/meeting/87/agenda#row-87-2013-08-01-thu-1700-int-6lo\n
END:VEVENT
BEGIN:VEVENT
UID:ietf-87-4278-intarea
SUMMARY:intarea - Internet Area Working Group
LOCATION:Potsdam 3
STATUS:CONFIRMED
CLASS:PUBLIC
DTSTART;TZID=Europe/Berlin:20130802T112000
DTEND;TZID=Europe/Berlin:20130802T122000
DTSTAMP:20161222T095705Z
URL:https://datatracker.ietf.org/meeting/87/materials/agenda-87-intarea
DESCRIPTION:Afternoon Session I\n
 \n
 Agenda https://datatracker.ietf.org/meeting/87/materials/agenda-87-intarea\n
 \n
 Session materials: https://datatracker.ietf.org/meeting/87/session/intarea\n
 \n
 See in schedule: https://datatracker.ietf.org/meeting/87/agenda#row-87-2013-08-02-fri-1120-int-intarea\n
END:VEVENT
BEGIN:VEVENT
UID:ietf-87-4330-intarea
SUMMARY:intarea - Internet Area Working Group
LOCATION:Potsdam 3
STATUS:CONFIRMED
CLASS:PUBLIC
DTSTART;TZID=Europe/Berlin:20130802T123000
DTEND;TZID=Europe/Berlin:20130802T133000
DTSTAMP:20161222T095705Z
URL:https://datatracker.ietf.org/meeting/87/materials/agenda-87-intarea
DESCRIPTION:Afternoon Session II\n
 \n
 Agenda https://datatracker.ietf.org/meeting/87/materials/agenda-87-intarea\n
 \n
 Session materials: https://datatracker.ietf.org/meeting/87/session/intarea\n
 \n
 See in schedule: https://datatracker.ietf.org/meeting/87/agenda#row-87-2013-08-02-fri-1230-int-intarea\n
END:VEVENT
END:VCALENDAR
