BEGIN:VCALENDAR
VERSION:2.0
METHOD:PUBLISH
PRODID:-//IETF//datatracker.ietf.org ical agenda//EN
BEGIN:VTIMEZONE
TZID:Europe/Berlin
X-LIC-LOCATION:Europe/Berlin
BEGIN:DAYLIGHT
TZOFFSETFROM:+0100
TZOFFSETTO:+0200
TZNAME:CEST
DTSTART:19810329T020000
RRULE:FREQ=YEARLY;BYMONTH=3;BYDAY=-1SU
END:DAYLIGHT
BEGIN:STANDARD
TZOFFSETFROM:+0200
TZOFFSETTO:+0100
TZNAME:CET
DTSTART:19961027T030000
RRULE:FREQ=YEARLY;BYMONTH=10;BYDAY=-1SU
END:STANDARD
BEGIN:STANDARD
TZOFFSETFROM:+005328
TZOFFSETTO:+0100
TZNAME:CET
DTSTART:18930401T000000
RDATE:18930401T000000
END:STANDARD
BEGIN:DAYLIGHT
TZOFFSETFROM:+0100
TZOFFSETTO:+0200
TZNAME:CEST
DTSTART:19160430T230000
RDATE:19160430T230000
RDATE:19170416T020000
RDATE:19180415T020000
RDATE:19400401T020000
RDATE:19430329T020000
RDATE:19440403T020000
RDATE:19450402T020000
RDATE:19460414T020000
RDATE:19470406T030000
RDATE:19480418T020000
RDATE:19490410T020000
RDATE:19800406T020000
END:DAYLIGHT
BEGIN:STANDARD
TZOFFSETFROM:+0200
TZOFFSETTO:+0100
TZNAME:CET
DTSTART:19161001T010000
RDATE:19161001T010000
RDATE:19170917T030000
RDATE:19180916T030000
RDATE:19421102T030000
RDATE:19431004T030000
RDATE:19441002T030000
RDATE:19451118T030000
RDATE:19461007T030000
RDATE:19471005T030000
RDATE:19481003T030000
RDATE:19491002T030000
RDATE:19800928T030000
RDATE:19810927T030000
RDATE:19820926T030000
RDATE:19830925T030000
RDATE:19840930T030000
RDATE:19850929T030000
RDATE:19860928T030000
RDATE:19870927T030000
RDATE:19880925T030000
RDATE:19890924T030000
RDATE:19900930T030000
RDATE:19910929T030000
RDATE:19920927T030000
RDATE:19930926T030000
RDATE:19940925T030000
RDATE:19950924T030000
END:STANDARD
BEGIN:DAYLIGHT
TZOFFSETFROM:+0200
TZOFFSETTO:+0300
TZNAME:CEMT
DTSTART:19450524T020000
RDATE:19450524T020000
RDATE:19470511T030000
END:DAYLIGHT
BEGIN:DAYLIGHT
TZOFFSETFROM:+0300
TZOFFSETTO:+0200
TZNAME:CEST
DTSTART:19450924T030000
RDATE:19450924T030000
RDATE:19470629T030000
END:DAYLIGHT
BEGIN:STANDARD
TZOFFSETFROM:+0100
TZOFFSETTO:+0100
TZNAME:CET
DTSTART:19460101T000000
RDATE:19460101T000000
RDATE:19800101T000000
END:STANDARD
END:VTIMEZONE
BEGIN:VEVENT
UID:ietf-87-4174-sdnrg
SUMMARY:sdnrg - Software Defined Networking Research Group
LOCATION:Potsdam 3
STATUS:CONFIRMED
CLASS:PUBLIC
DTSTART;TZID=Europe/Berlin:20130729T090000
DTEND;TZID=Europe/Berlin:20130729T113000
DTSTAMP:20161222T095705Z
URL:https://datatracker.ietf.org/meeting/87/materials/agenda-87-sdnrg
DESCRIPTION:Morning Session I\n
 \n
 Agenda https://datatracker.ietf.org/meeting/87/materials/agenda-87-sdnrg\n
 \n
 Session materials: https://datatracker.ietf.org/meeting/87/session/sdnrg\n
 \n
 See in schedule: https://datatracker.ietf.org/meeting/87/agenda#row-87-2013-07-29-mon-0900-irtf-sdnrg\n
END:VEVENT
BEGIN:VEVENT
UID:ietf-87-4342-ncrg
SUMMARY:ncrg - Network Complexity Research Group
LOCATION:Bellevue
STATUS:CONFIRMED
CLASS:PUBLIC
DTSTART;TZID=Europe/Berlin:20130729T130000
DTEND;TZID=Europe/Berlin:20130729T150000
DTSTAMP:20161222T095705Z
URL:https://datatracker.ietf.org/meeting/87/materials/agenda-87-ncrg
DESCRIPTION:Afternoon Session I\n
 \n
 Agenda https://datatracker.ietf.org/meeting/87/materials/agenda-87-ncrg\n
 \n
 Session materials: https://datatracker.ietf.org/meeting/87/session/ncrg\n
 \n
 See in schedule: https://datatracker.ietf.org/meeting/87/agenda#row-87-2013-07-29-mon-1300-irtf-ncrg\n
END:VEVENT
BEGIN:VEVENT
UID:ietf-87-4352-cfrg
SUMMARY:cfrg - Crypto Forum Research Group
LOCATION:Tiergarten 1/2
STATUS:CONFIRMED
CLASS:PUBLIC
DTSTART;TZID=Europe/Berlin:20130729T151000
DTEND;TZID=Europe/Berlin:20130729T161000
DTSTAMP:20161222T095705Z
URL:https://datatracker.ietf.org/meeting/87/materials/agenda-87-cfrg
DESCRIPTION:Afternoon Session II\n
 \n
 Agenda https://datatracker.ietf.org/meeting/87/materials/agenda-87-cfrg\n
 \n
 Session materials: https://datatracker.ietf.org/meeting/87/session/cfrg\n
 \n
 See in schedule: https://datatracker.ietf.org/meeting/87/agenda#row-87-2013-07-29-mon-1510-irtf-cfrg\n
END:VEVENT
BEGIN:VEVENT
UID:ietf-87-4365-iccrg
SUMMARY:iccrg - Internet Congestion Control Research Group
LOCATION:Tiergarten 1/2
STATUS:CONFIRMED
CLASS:PUBLIC
DTSTART;TZID=Europe/Berlin:20130729T162000
DTEND;TZID=Europe/Berlin:20130729T172000
DTSTAMP:20161222T095705Z
URL:https://datatracker.ietf.org/meeting/87/materials/agenda-87-iccrg
DESCRIPTION:Afternoon Session III\n
 \n
 Agenda https://datatracker.ietf.org/meeting/87/materials/agenda-87-iccrg\n
 \n
 Session materials: https://datatracker.ietf.org/meeting/87/session/iccrg\n
 \n
 See in schedule: https://datatracker.ietf.org/meeting/87/agenda#row-87-2013-07-29-mon-1620-irtf-iccrg\n
END:VEVENT
BEGIN:VEVENT
UID:ietf-87-4382-irtfopen
SUMMARY:irtfopen - IRTF Open Meeting
LOCATION:Potsdam 3
STATUS:CONFIRMED
CLASS:PUBLIC
DTSTART;TZID=Europe/Berlin:20130730T090000
DTEND;TZID=Europe/Berlin:20130730T113000
DTSTAMP:20161222T095705Z
URL:https://datatracker.ietf.org/meeting/87/materials/agenda-87-irtfopen
DESCRIPTION:Morning Session I\n
 \n
 Agenda https://datatracker.ietf.org/meeting/87/materials/agenda-87-irtfopen\n
 \n
 Session materials: https://datatracker.ietf.org/meeting/87/session/irtfopen\n
 \n
 See in schedule: https://datatracker.ietf.org/meeting/87/agenda#row-87-2013-07-30-tue-0900-irtf-irtfopen\n
END:VEVENT
BEGIN:VEVENT
UID:ietf-87-4220-nmrg
SUMMARY:nmrg - Network Management Research Group
LOCATION:Schoeneberg 1/2
STATUS:CONFIRMED
CLASS:PUBLIC
DTSTART;TZID=Europe/Berlin:20130730T130000
DTEND;TZID=Europe/Berlin:20130730T150000
DTSTAMP:20161222T095705Z
URL:https://datatracker.ietf.org/meeting/87/materials/agenda-87-nmrg
DESCRIPTION:Afternoon Session I\n
 \n
 Agenda https://datatracker.ietf.org/meeting/87/materials/agenda-87-nmrg\n
 \n
 Session materials: https://datatracker.ietf.org/meeting/87/session/nmrg\n
 \n
 See in schedule: https://datatracker.ietf.org/meeting/87/agenda#row-87-2013-07-30-tue-1300-irtf-nmrg\n
END:VEVENT
BEGIN:VEVENT
UID:ietf-87-4207-nmrg
SUMMARY:nmrg - Network Management Research Group
LOCATION:Schoeneberg 1/2
STATUS:CONFIRMED
CLASS:PUBLIC
DTSTART;TZID=Europe/Berlin:20130730T152000
DTEND;TZID=Europe/Berlin:20130730T165000
DTSTAMP:20161222T095705Z
URL:https://datatracker.ietf.org/meeting/87/materials/agenda-87-nmrg
DESCRIPTION:Afternoon Session II\n
 \n
 Agenda https://datatracker.ietf.org/meeting/87/materials/agenda-87-nmrg\n
 \n
 Session materials: https://datatracker.ietf.org/meeting/87/session/nmrg\n
 \n
 See in schedule: https://datatracker.ietf.org/meeting/87/agenda#row-87-2013-07-30-tue-1520-irtf-nmrg\n
END:VEVENT
BEGIN:VEVENT
UID:ietf-87-4237-icnrg
SUMMARY:icnrg - Information-Centric Networking
LOCATION:Charlottenburg 2/3
STATUS:CONFIRMED
CLASS:PUBLIC
DTSTART;TZID=Europe/Berlin:20130731T090000
DTEND;TZID=Europe/Berlin:20130731T113000
DTSTAMP:20161222T095705Z
URL:https://datatracker.ietf.org/meeting/87/materials/agenda-87-icnrg
DESCRIPTION:Morning Session I\n
 \n
 Agenda https://datatracker.ietf.org/meeting/87/materials/agenda-87-icnrg\n
 \n
 Session materials: https://datatracker.ietf.org/meeting/87/session/icnrg\n
 \n
 See in schedule: https://datatracker.ietf.org/meeting/87/agenda#row-87-2013-07-31-wed-0900-irtf-icnrg\n
END:VEVENT
BEGIN:VEVENT
UID:ietf-87-4234-nwcrg
SUMMARY:nwcrg - Network Coding Research Group
LOCATION:Charlottenburg 1
STATUS:CONFIRMED
CLASS:PUBLIC
DTSTART;TZID=Europe/Berlin:20130731T090000
DTEND;TZID=Europe/Berlin:20130731T113000
DTSTAMP:20161222T095705Z
URL:https://datatracker.ietf.org/meeting/87/materials/agenda-87-nwcrg
DESCRIPTION:Morning Session I\n
 \n
 Agenda https://datatracker.ietf.org/meeting/87/materials/agenda-87-nwcrg\n
 \n
 Session materials: https://datatracker.ietf.org/meeting/87/session/nwcrg\n
 \n
 See in schedule: https://datatracker.ietf.org/meeting/87/agenda#row-87-2013-07-31-wed-0900-irtf-nwcrg\n
END:VEVENT
BEGIN:VEVENT
UID:ietf-87-4144-iccrg
SUMMARY:iccrg - Internet Congestion Control Research Group
LOCATION:Tiergarten 1/2
STATUS:CONFIRMED
CLASS:PUBLIC
DTSTART;TZID=Europe/Berlin:20130731T130000
DTEND;TZID=Europe/Berlin:20130731T150000
DTSTAMP:20161222T095705Z
URL:https://datatracker.ietf.org/meeting/87/materials/agenda-87-iccrg
DESCRIPTION:Afternoon Session I\n
 \n
 Agenda https://datatracker.ietf.org/meeting/87/materials/agenda-87-iccrg\n
 \n
 Session materials: https://datatracker.ietf.org/meeting/87/session/iccrg\n
 \n
 See in schedule: https://datatracker.ietf.org/meeting/87/agenda#row-87-2013-07-31-wed-1300-irtf-iccrg\n
END:VEVENT
BEGIN:VEVENT
UID:ietf-87-4415-dtnrg
SUMMARY:dtnrg - Delay-Tolerant Networking Research Group
LOCATION:Schoeneberg 1/2
STATUS:CONFIRMED
CLASS:PUBLIC
DTSTART;TZID=Europe/Berlin:20130801T090000
DTEND;TZID=Europe/Berlin:20130801T102000
DTSTAMP:20161222T095705Z
URL:https://datatracker.ietf.org/meeting/87/materials/agenda-87-dtnrg
DESCRIPTION:Morning Session I\n
 \n
 Agenda https://datatracker.ietf.org/meeting/87/materials/agenda-87-dtnrg\n
 \n
 Session materials: https://datatracker.ietf.org/meeting/87/session/dtnrg\n
 \n
 See in schedule: https://datatracker.ietf.org/meeting/87/agenda#row-87-2013-08-01-thu-0900-irtf-dtnrg\n
END:VEVENT
BEGIN:VEVENT
UID:ietf-87-4428-dtnrg
SUMMARY:dtnrg - Delay-Tolerant Networking Research Group
LOCATION:Schoeneberg 1/2
STATUS:CONFIRMED
CLASS:PUBLIC
DTSTART;TZID=Europe/Berlin:20130801T103000
DTEND;TZID=Europe/Berlin:20130801T113000
DTSTAMP:20161222T095705Z
URL:https://datatracker.ietf.org/meeting/87/materials/agenda-87-dtnrg
DESCRIPTION:Morning Session II\n
 \n
 Agenda https://datatracker.ietf.org/meeting/87/materials/agenda-87-dtnrg\n
 \n
 Session materials: https://datatracker.ietf.org/meeting/87/session/dtnrg\n
 \n
 See in schedule: https://datatracker.ietf.org/meeting/87/agenda#row-87-2013-08-01-thu-1030-irtf-dtnrg\n
END:VEVENT
END:VCALENDAR
