BEGIN:VCALENDAR
VERSION:2.0
METHOD:PUBLISH
PRODID:-//IETF//datatracker.ietf.org ical agenda//EN
BEGIN:VTIMEZONE
TZID:Europe/Berlin
X-LIC-LOCATION:Europe/Berlin
BEGIN:DAYLIGHT
TZOFFSETFROM:+0100
TZOFFSETTO:+0200
TZNAME:CEST
DTSTART:19810329T020000
RRULE:FREQ=YEARLY;BYMONTH=3;BYDAY=-1SU
END:DAYLIGHT
BEGIN:STANDARD
TZOFFSETFROM:+0200
TZOFFSETTO:+0100
TZNAME:CET
DTSTART:19961027T030000
RRULE:FREQ=YEARLY;BYMONTH=10;BYDAY=-1SU
END:STANDARD
BEGIN:STANDARD
TZOFFSETFROM:+005328
TZOFFSETTO:+0100
TZNAME:CET
DTSTART:18930401T000000
RDATE:18930401T000000
END:STANDARD
BEGIN:DAYLIGHT
TZOFFSETFROM:+0100
TZOFFSETTO:+0200
TZNAME:CEST
DTSTART:19160430T230000
RDATE:19160430T230000
RDATE:19170416T020000
RDATE:19180415T020000
RDATE:19400401T020000
RDATE:19430329T020000
RDATE:19440403T020000
RDATE:19450402T020000
RDATE:19460414T020000
RDATE:19470406T030000
RDATE:19480418T020000
RDATE:19490410T020000
RDATE:19800406T020000
END:DAYLIGHT
BEGIN:STANDARD
TZOFFSETFROM:+0200
TZOFFSETTO:+0100
TZNAME:CET
DTSTART:19161001T010000
RDATE:19161001T010000
RDATE:19170917T030000
RDATE:19180916T030000
RDATE:19421102T030000
RDATE:19431004T030000
RDATE:19441002T030000
RDATE:19451118T030000
RDATE:19461007T030000
RDATE:19471005T030000
RDATE:19481003T030000
RDATE:19491002T030000
RDATE:19800928T030000
RDATE:19810927T030000
RDATE:19820926T030000
RDATE:19830925T030000
RDATE:19840930T030000
RDATE:19850929T030000
RDATE:19860928T030000
RDATE:19870927T030000
RDATE:19880925T030000
RDATE:19890924T030000
RDATE:19900930T030000
RDATE:19910929T030000
RDATE:19920927T030000
RDATE:19930926T030000
RDATE:19940925T030000
RDATE:19950924T030000
END:STANDARD
BEGIN:DAYLIGHT
TZOFFSETFROM:+0200
TZOFFSETTO:+0300
TZNAME:CEMT
DTSTART:19450524T020000
RDATE:19450524T020000
RDATE:19470511T030000
END:DAYLIGHT
BEGIN:DAYLIGHT
TZOFFSETFROM:+0300
TZOFFSETTO:+0200
TZNAME:CEST
DTSTART:19450924T030000
RDATE:19450924T030000
RDATE:19470629T030000
END:DAYLIGHT
BEGIN:STANDARD
TZOFFSETFROM:+0100
TZOFFSETTO:+0100
TZNAME:CET
DTSTART:19460101T000000
RDATE:19460101T000000
RDATE:19800101T000000
END:STANDARD
END:VTIMEZONE
BEGIN:VEVENT
UID:ietf-87-4173-l2vpn
SUMMARY:l2vpn - Layer 2 Virtual Private Networks
LOCATION:Bellevue
STATUS:CONFIRMED
CLASS:PUBLIC
DTSTART;TZID=Europe/Berlin:20130729T090000
DTEND;TZID=Europe/Berlin:20130729T113000
DTSTAMP:20161222T095705Z
URL:https://datatracker.ietf.org/meeting/87/materials/agenda-87-l2vpn
DESCRIPTION:Morning Session I\n
 \n
 Agenda https://datatracker.ietf.org/meeting/87/materials/agenda-87-l2vpn\n
 \n
 Session materials: https://datatracker.ietf.org/meeting/87/session/l2vpn\n
 \n
 See in schedule: https://datatracker.ietf.org/meeting/87/agenda#row-87-2013-07-29-mon-0900-rtg-l2vpn\n
END:VEVENT
BEGIN:VEVENT
UID:ietf-87-4344-status
SUMMARY:status - Stacked Tunnels for Source Routing
LOCATION:Potsdam 1
STATUS:CONFIRMED
CLASS:PUBLIC
DTSTART;TZID=Europe/Berlin:20130729T130000
DTEND;TZID=Europe/Berlin:20130729T150000
DTSTAMP:20161222T095705Z
URL:https://datatracker.ietf.org/meeting/87/materials/agenda-87-status
DESCRIPTION:Afternoon Session I\n
 \n
 Agenda https://datatracker.ietf.org/meeting/87/materials/agenda-87-status\n
 \n
 Session materials: https://datatracker.ietf.org/meeting/87/session/status\n
 \n
 See in schedule: https://datatracker.ietf.org/meeting/87/agenda#row-87-2013-07-29-mon-1300-rtg-status\n
END:VEVENT
BEGIN:VEVENT
UID:ietf-87-4357-nsc
SUMMARY:nsc - Network Service Chaining
LOCATION:Potsdam 1
STATUS:CONFIRMED
CLASS:PUBLIC
DTSTART;TZID=Europe/Berlin:20130729T151000
DTEND;TZID=Europe/Berlin:20130729T161000
DTSTAMP:20161222T095705Z
URL:https://datatracker.ietf.org/meeting/87/materials/agenda-87-nsc
DESCRIPTION:Afternoon Session II\n
 \n
 Agenda https://datatracker.ietf.org/meeting/87/materials/agenda-87-nsc\n
 \n
 Session materials: https://datatracker.ietf.org/meeting/87/session/nsc\n
 \n
 See in schedule: https://datatracker.ietf.org/meeting/87/agenda#row-87-2013-07-29-mon-1510-rtg-nsc\n
END:VEVENT
BEGIN:VEVENT
UID:ietf-87-4380-l3vpn
SUMMARY:l3vpn - Layer 3 Virtual Private Networks
LOCATION:Charlottenburg 2/3
STATUS:CONFIRMED
CLASS:PUBLIC
DTSTART;TZID=Europe/Berlin:20130730T090000
DTEND;TZID=Europe/Berlin:20130730T113000
DTSTAMP:20161222T095705Z
URL:https://datatracker.ietf.org/meeting/87/materials/agenda-87-l3vpn
DESCRIPTION:Morning Session I\n
 \n
 Agenda https://datatracker.ietf.org/meeting/87/materials/agenda-87-l3vpn\n
 \n
 Session materials: https://datatracker.ietf.org/meeting/87/session/l3vpn\n
 \n
 See in schedule: https://datatracker.ietf.org/meeting/87/agenda#row-87-2013-07-30-tue-0900-rtg-l3vpn\n
END:VEVENT
BEGIN:VEVENT
UID:ietf-87-4226-rtgarea
SUMMARY:rtgarea - Routing Area Open Meeting
LOCATION:Potsdam 3
STATUS:CONFIRMED
CLASS:PUBLIC
DTSTART;TZID=Europe/Berlin:20130730T130000
DTEND;TZID=Europe/Berlin:20130730T150000
DTSTAMP:20161222T095705Z
URL:https://datatracker.ietf.org/meeting/87/materials/agenda-87-rtgarea
DESCRIPTION:Afternoon Session I\n
 \n
 Agenda https://datatracker.ietf.org/meeting/87/materials/agenda-87-rtgarea\n
 \n
 Session materials: https://datatracker.ietf.org/meeting/87/session/rtgarea\n
 \n
 See in schedule: https://datatracker.ietf.org/meeting/87/agenda#row-87-2013-07-30-tue-1300-rtg-rtgarea\n
END:VEVENT
BEGIN:VEVENT
UID:ietf-87-4210-forces
SUMMARY:forces - Forwarding and Control Element Separation
LOCATION:Potsdam 2
STATUS:CONFIRMED
CLASS:PUBLIC
DTSTART;TZID=Europe/Berlin:20130730T152000
DTEND;TZID=Europe/Berlin:20130730T165000
DTSTAMP:20161222T095705Z
URL:https://datatracker.ietf.org/meeting/87/materials/agenda-87-forces
DESCRIPTION:Afternoon Session II\n
 \n
 Agenda https://datatracker.ietf.org/meeting/87/materials/agenda-87-forces\n
 \n
 Session materials: https://datatracker.ietf.org/meeting/87/session/forces\n
 \n
 See in schedule: https://datatracker.ietf.org/meeting/87/agenda#row-87-2013-07-30-tue-1520-rtg-forces\n
END:VEVENT
BEGIN:VEVENT
UID:ietf-87-4265-ccamp
SUMMARY:ccamp - Common Control and Measurement Plane
LOCATION:Potsdam 3
STATUS:CONFIRMED
CLASS:PUBLIC
DTSTART;TZID=Europe/Berlin:20130730T170000
DTEND;TZID=Europe/Berlin:20130730T183000
DTSTAMP:20161222T095705Z
URL:https://datatracker.ietf.org/meeting/87/materials/agenda-87-ccamp
DESCRIPTION:Afternoon Session III\n
 \n
 Agenda https://datatracker.ietf.org/meeting/87/materials/agenda-87-ccamp\n
 \n
 Session materials: https://datatracker.ietf.org/meeting/87/session/ccamp\n
 \n
 See in schedule: https://datatracker.ietf.org/meeting/87/agenda#row-87-2013-07-30-tue-1700-rtg-ccamp\n
END:VEVENT
BEGIN:VEVENT
UID:ietf-87-4240-mpls
SUMMARY:mpls - Multiprotocol Label Switching
LOCATION:Potsdam 1
STATUS:CONFIRMED
CLASS:PUBLIC
DTSTART;TZID=Europe/Berlin:20130731T090000
DTEND;TZID=Europe/Berlin:20130731T113000
DTSTAMP:20161222T095705Z
URL:https://datatracker.ietf.org/meeting/87/materials/agenda-87-mpls
DESCRIPTION:Morning Session I\n
 \n
 Agenda https://datatracker.ietf.org/meeting/87/materials/agenda-87-mpls\n
 \n
 Session materials: https://datatracker.ietf.org/meeting/87/session/mpls\n
 \n
 See in schedule: https://datatracker.ietf.org/meeting/87/agenda#row-87-2013-07-31-wed-0900-rtg-mpls\n
END:VEVENT
BEGIN:VEVENT
UID:ietf-87-4149-ccamp
SUMMARY:ccamp - Common Control and Measurement Plane
LOCATION:Potsdam 1
STATUS:CONFIRMED
CLASS:PUBLIC
DTSTART;TZID=Europe/Berlin:20130731T130000
DTEND;TZID=Europe/Berlin:20130731T150000
DTSTAMP:20161222T095705Z
URL:https://datatracker.ietf.org/meeting/87/materials/agenda-87-ccamp
DESCRIPTION:Afternoon Session I\n
 \n
 Agenda https://datatracker.ietf.org/meeting/87/materials/agenda-87-ccamp\n
 \n
 Session materials: https://datatracker.ietf.org/meeting/87/session/ccamp\n
 \n
 See in schedule: https://datatracker.ietf.org/meeting/87/agenda#row-87-2013-07-31-wed-1300-rtg-ccamp\n
END:VEVENT
BEGIN:VEVENT
UID:ietf-87-4143-karp
SUMMARY:karp - Keying and Authentication for Routing Protocols
LOCATION:Charlottenburg 1
STATUS:CONFIRMED
CLASS:PUBLIC
DTSTART;TZID=Europe/Berlin:20130731T130000
DTEND;TZID=Europe/Berlin:20130731T150000
DTSTAMP:20161222T095705Z
URL:https://datatracker.ietf.org/meeting/87/materials/agenda-87-karp
DESCRIPTION:Afternoon Session I\n
 \n
 Agenda https://datatracker.ietf.org/meeting/87/materials/agenda-87-karp\n
 \n
 Session materials: https://datatracker.ietf.org/meeting/87/session/karp\n
 \n
 See in schedule: https://datatracker.ietf.org/meeting/87/agenda#row-87-2013-07-31-wed-1300-rtg-karp\n
END:VEVENT
BEGIN:VEVENT
UID:ietf-87-4391-pce
SUMMARY:pce - Path Computation Element
LOCATION:Tiergarten 1/2
STATUS:CONFIRMED
CLASS:PUBLIC
DTSTART;TZID=Europe/Berlin:20130731T151000
DTEND;TZID=Europe/Berlin:20130731T161000
DTSTAMP:20161222T095705Z
URL:https://datatracker.ietf.org/meeting/87/materials/agenda-87-pce
DESCRIPTION:Afternoon Session II\n
 \n
 Agenda https://datatracker.ietf.org/meeting/87/materials/agenda-87-pce\n
 \n
 Session materials: https://datatracker.ietf.org/meeting/87/session/pce\n
 \n
 See in schedule: https://datatracker.ietf.org/meeting/87/agenda#row-87-2013-07-31-wed-1510-rtg-pce\n
END:VEVENT
BEGIN:VEVENT
UID:ietf-87-4396-sidr
SUMMARY:sidr - Secure Inter-Domain Routing
LOCATION:Potsdam 1
STATUS:CONFIRMED
CLASS:PUBLIC
DTSTART;TZID=Europe/Berlin:20130731T151000
DTEND;TZID=Europe/Berlin:20130731T161000
DTSTAMP:20161222T095705Z
URL:https://datatracker.ietf.org/meeting/87/materials/agenda-87-sidr
DESCRIPTION:Afternoon Session II\n
 \n
 Agenda https://datatracker.ietf.org/meeting/87/materials/agenda-87-sidr\n
 \n
 Session materials: https://datatracker.ietf.org/meeting/87/session/sidr\n
 \n
 See in schedule: https://datatracker.ietf.org/meeting/87/agenda#row-87-2013-07-31-wed-1510-rtg-sidr\n
END:VEVENT
BEGIN:VEVENT
UID:ietf-87-4404-pce
SUMMARY:pce - Path Computation Element
LOCATION:Tiergarten 1/2
STATUS:CONFIRMED
CLASS:PUBLIC
DTSTART;TZID=Europe/Berlin:20130731T162000
DTEND;TZID=Europe/Berlin:20130731T172000
DTSTAMP:20161222T095705Z
URL:https://datatracker.ietf.org/meeting/87/materials/agenda-87-pce
DESCRIPTION:Afternoon Session III\n
 \n
 Agenda https://datatracker.ietf.org/meeting/87/materials/agenda-87-pce\n
 \n
 Session materials: https://datatracker.ietf.org/meeting/87/session/pce\n
 \n
 See in schedule: https://datatracker.ietf.org/meeting/87/agenda#row-87-2013-07-31-wed-1620-rtg-pce\n
END:VEVENT
BEGIN:VEVENT
UID:ietf-87-4421-nvo3
SUMMARY:nvo3 - Network Virtualization Overlays
LOCATION:Potsdam 3
STATUS:CONFIRMED
CLASS:PUBLIC
DTSTART;TZID=Europe/Berlin:20130801T090000
DTEND;TZID=Europe/Berlin:20130801T102000
DTSTAMP:20161222T095705Z
URL:https://datatracker.ietf.org/meeting/87/materials/agenda-87-nvo3
DESCRIPTION:Morning Session I\n
 \n
 Agenda https://datatracker.ietf.org/meeting/87/materials/agenda-87-nvo3\n
 \n
 Session materials: https://datatracker.ietf.org/meeting/87/session/nvo3\n
 \n
 See in schedule: https://datatracker.ietf.org/meeting/87/agenda#row-87-2013-08-01-thu-0900-rtg-nvo3\n
END:VEVENT
BEGIN:VEVENT
UID:ietf-87-4434-nvo3
SUMMARY:nvo3 - Network Virtualization Overlays
LOCATION:Potsdam 3
STATUS:CONFIRMED
CLASS:PUBLIC
DTSTART;TZID=Europe/Berlin:20130801T103000
DTEND;TZID=Europe/Berlin:20130801T113000
DTSTAMP:20161222T095705Z
URL:https://datatracker.ietf.org/meeting/87/materials/agenda-87-nvo3
DESCRIPTION:Morning Session II\n
 \n
 Agenda https://datatracker.ietf.org/meeting/87/materials/agenda-87-nvo3\n
 \n
 Session materials: https://datatracker.ietf.org/meeting/87/session/nvo3\n
 \n
 See in schedule: https://datatracker.ietf.org/meeting/87/agenda#row-87-2013-08-01-thu-1030-rtg-nvo3\n
END:VEVENT
BEGIN:VEVENT
UID:ietf-87-4304-i2rs
SUMMARY:i2rs - Interface to the Routing System
LOCATION:Potsdam 3
STATUS:CONFIRMED
CLASS:PUBLIC
DTSTART;TZID=Europe/Berlin:20130801T130000
DTEND;TZID=Europe/Berlin:20130801T150000
DTSTAMP:20161222T095705Z
URL:https://datatracker.ietf.org/meeting/87/materials/agenda-87-i2rs
DESCRIPTION:Afternoon Session I\n
 \n
 Agenda https://datatracker.ietf.org/meeting/87/materials/agenda-87-i2rs\n
 \n
 Session materials: https://datatracker.ietf.org/meeting/87/session/i2rs\n
 \n
 See in schedule: https://datatracker.ietf.org/meeting/87/agenda#row-87-2013-08-01-thu-1300-rtg-i2rs\n
END:VEVENT
BEGIN:VEVENT
UID:ietf-87-4299-pim
SUMMARY:pim - Protocol Independent Multicast
LOCATION:Charlottenburg 1
STATUS:CONFIRMED
CLASS:PUBLIC
DTSTART;TZID=Europe/Berlin:20130801T130000
DTEND;TZID=Europe/Berlin:20130801T150000
DTSTAMP:20161222T095705Z
URL:https://datatracker.ietf.org/meeting/87/materials/agenda-87-pim
DESCRIPTION:Afternoon Session I\n
 \n
 Agenda https://datatracker.ietf.org/meeting/87/materials/agenda-87-pim\n
 \n
 Session materials: https://datatracker.ietf.org/meeting/87/session/pim\n
 \n
 See in schedule: https://datatracker.ietf.org/meeting/87/agenda#row-87-2013-08-01-thu-1300-rtg-pim\n
END:VEVENT
BEGIN:VEVENT
UID:ietf-87-4448-idr
SUMMARY:idr - Inter-Domain Routing
LOCATION:Potsdam 1
STATUS:CONFIRMED
CLASS:PUBLIC
DTSTART;TZID=Europe/Berlin:20130801T152000
DTEND;TZID=Europe/Berlin:20130801T165000
DTSTAMP:20161222T095705Z
URL:https://datatracker.ietf.org/meeting/87/materials/agenda-87-idr
DESCRIPTION:Afternoon Session II\n
 \n
 Agenda https://datatracker.ietf.org/meeting/87/materials/agenda-87-idr\n
 \n
 Session materials: https://datatracker.ietf.org/meeting/87/session/idr\n
 \n
 See in schedule: https://datatracker.ietf.org/meeting/87/agenda#row-87-2013-08-01-thu-1520-rtg-idr\n
END:VEVENT
BEGIN:VEVENT
UID:ietf-87-4509-manet
SUMMARY:manet - Mobile Ad-hoc Networks
LOCATION:Tiergarten 1/2
STATUS:CONFIRMED
CLASS:PUBLIC
DTSTART;TZID=Europe/Berlin:20130801T152000
DTEND;TZID=Europe/Berlin:20130801T165000
DTSTAMP:20161222T095705Z
URL:https://datatracker.ietf.org/meeting/87/materials/agenda-87-manet
DESCRIPTION:Afternoon Session II\n
 \n
 Agenda https://datatracker.ietf.org/meeting/87/materials/agenda-87-manet\n
 \n
 Session materials: https://datatracker.ietf.org/meeting/87/session/manet\n
 \n
 See in schedule: https://datatracker.ietf.org/meeting/87/agenda#row-87-2013-08-01-thu-1520-rtg-manet\n
END:VEVENT
BEGIN:VEVENT
UID:ietf-87-4445-ospf
SUMMARY:ospf - Open Shortest Path First IGP
LOCATION:Charlottenburg 2/3
STATUS:CONFIRMED
CLASS:PUBLIC
DTSTART;TZID=Europe/Berlin:20130801T152000
DTEND;TZID=Europe/Berlin:20130801T165000
DTSTAMP:20161222T095705Z
URL:https://datatracker.ietf.org/meeting/87/materials/agenda-87-ospf
DESCRIPTION:Afternoon Session II\n
 \n
 Agenda https://datatracker.ietf.org/meeting/87/materials/agenda-87-ospf\n
 \n
 Session materials: https://datatracker.ietf.org/meeting/87/session/ospf\n
 \n
 See in schedule: https://datatracker.ietf.org/meeting/87/agenda#row-87-2013-08-01-thu-1520-rtg-ospf\n
END:VEVENT
BEGIN:VEVENT
UID:ietf-87-4458-isis
SUMMARY:isis - IS-IS for IP Internets
LOCATION:Charlottenburg 2/3
STATUS:CONFIRMED
CLASS:PUBLIC
DTSTART;TZID=Europe/Berlin:20130801T170000
DTEND;TZID=Europe/Berlin:20130801T183000
DTSTAMP:20161222T095705Z
URL:https://datatracker.ietf.org/meeting/87/materials/agenda-87-isis
DESCRIPTION:Afternoon Session III\n
 \n
 Agenda https://datatracker.ietf.org/meeting/87/materials/agenda-87-isis\n
 \n
 Session materials: https://datatracker.ietf.org/meeting/87/session/isis\n
 \n
 See in schedule: https://datatracker.ietf.org/meeting/87/agenda#row-87-2013-08-01-thu-1700-rtg-isis\n
END:VEVENT
BEGIN:VEVENT
UID:ietf-87-4460-pwe3
SUMMARY:pwe3 - Pseudowire Emulation Edge to Edge
LOCATION:Potsdam 3
STATUS:CONFIRMED
CLASS:PUBLIC
DTSTART;TZID=Europe/Berlin:20130801T170000
DTEND;TZID=Europe/Berlin:20130801T183000
DTSTAMP:20161222T095705Z
URL:https://datatracker.ietf.org/meeting/87/materials/agenda-87-pwe3
DESCRIPTION:Afternoon Session III\n
 \n
 Agenda https://datatracker.ietf.org/meeting/87/materials/agenda-87-pwe3\n
 \n
 Session materials: https://datatracker.ietf.org/meeting/87/session/pwe3\n
 \n
 See in schedule: https://datatracker.ietf.org/meeting/87/agenda#row-87-2013-08-01-thu-1700-rtg-pwe3\n
END:VEVENT
BEGIN:VEVENT
UID:ietf-87-4515-mpls
SUMMARY:mpls - Multiprotocol Label Switching
LOCATION:Potsdam 3
STATUS:CONFIRMED
CLASS:PUBLIC
DTSTART;TZID=Europe/Berlin:20130802T090000
DTEND;TZID=Europe/Berlin:20130802T110000
DTSTAMP:20161222T095705Z
URL:https://datatracker.ietf.org/meeting/87/materials/agenda-87-mpls
DESCRIPTION:Morning Session I\n
 \n
 Agenda https://datatracker.ietf.org/meeting/87/materials/agenda-87-mpls\n
 \n
 Session materials: https://datatracker.ietf.org/meeting/87/session/mpls\n
 \n
 See in schedule: https://datatracker.ietf.org/meeting/87/agenda#row-87-2013-08-02-fri-0900-rtg-mpls\n
END:VEVENT
BEGIN:VEVENT
UID:ietf-87-4275-rtgwg
SUMMARY:rtgwg - Routing Area Working Group
LOCATION:Potsdam 2
STATUS:CONFIRMED
CLASS:PUBLIC
DTSTART;TZID=Europe/Berlin:20130802T112000
DTEND;TZID=Europe/Berlin:20130802T122000
DTSTAMP:20161222T095705Z
URL:https://datatracker.ietf.org/meeting/87/materials/agenda-87-rtgwg
DESCRIPTION:Afternoon Session I\n
 \n
 Agenda https://datatracker.ietf.org/meeting/87/materials/agenda-87-rtgwg\n
 \n
 Session materials: https://datatracker.ietf.org/meeting/87/session/rtgwg\n
 \n
 See in schedule: https://datatracker.ietf.org/meeting/87/agenda#row-87-2013-08-02-fri-1120-rtg-rtgwg\n
END:VEVENT
BEGIN:VEVENT
UID:ietf-87-4276-sidr
SUMMARY:sidr - Secure Inter-Domain Routing
LOCATION:Charlottenburg 2/3
STATUS:CONFIRMED
CLASS:PUBLIC
DTSTART;TZID=Europe/Berlin:20130802T112000
DTEND;TZID=Europe/Berlin:20130802T122000
DTSTAMP:20161222T095705Z
URL:https://datatracker.ietf.org/meeting/87/materials/agenda-87-sidr
DESCRIPTION:Afternoon Session I\n
 \n
 Agenda https://datatracker.ietf.org/meeting/87/materials/agenda-87-sidr\n
 \n
 Session materials: https://datatracker.ietf.org/meeting/87/session/sidr\n
 \n
 See in schedule: https://datatracker.ietf.org/meeting/87/agenda#row-87-2013-08-02-fri-1120-rtg-sidr\n
END:VEVENT
BEGIN:VEVENT
UID:ietf-87-4327-rtgwg
SUMMARY:rtgwg - Routing Area Working Group
LOCATION:Potsdam 2
STATUS:CONFIRMED
CLASS:PUBLIC
DTSTART;TZID=Europe/Berlin:20130802T123000
DTEND;TZID=Europe/Berlin:20130802T133000
DTSTAMP:20161222T095705Z
URL:https://datatracker.ietf.org/meeting/87/materials/agenda-87-rtgwg
DESCRIPTION:Afternoon Session II\n
 \n
 Agenda https://datatracker.ietf.org/meeting/87/materials/agenda-87-rtgwg\n
 \n
 Session materials: https://datatracker.ietf.org/meeting/87/session/rtgwg\n
 \n
 See in schedule: https://datatracker.ietf.org/meeting/87/agenda#row-87-2013-08-02-fri-1230-rtg-rtgwg\n
END:VEVENT
BEGIN:VEVENT
UID:ietf-87-4518-sidr
SUMMARY:sidr - Secure Inter-Domain Routing
LOCATION:Charlottenburg 2/3
STATUS:CONFIRMED
CLASS:PUBLIC
DTSTART;TZID=Europe/Berlin:20130802T123000
DTEND;TZID=Europe/Berlin:20130802T133000
DTSTAMP:20161222T095705Z
URL:https://datatracker.ietf.org/meeting/87/materials/agenda-87-sidr
DESCRIPTION:Afternoon Session II\n
 \n
 Agenda https://datatracker.ietf.org/meeting/87/materials/agenda-87-sidr\n
 \n
 Session materials: https://datatracker.ietf.org/meeting/87/session/sidr\n
 \n
 See in schedule: https://datatracker.ietf.org/meeting/87/agenda#row-87-2013-08-02-fri-1230-rtg-sidr\n
END:VEVENT
END:VCALENDAR
