BEGIN:VCALENDAR
VERSION:2.0
METHOD:PUBLISH
PRODID:-//IETF//datatracker.ietf.org ical agenda//EN
BEGIN:VTIMEZONE
TZID:Europe/Berlin
X-LIC-LOCATION:Europe/Berlin
BEGIN:DAYLIGHT
TZOFFSETFROM:+0100
TZOFFSETTO:+0200
TZNAME:CEST
DTSTART:19810329T020000
RRULE:FREQ=YEARLY;BYMONTH=3;BYDAY=-1SU
END:DAYLIGHT
BEGIN:STANDARD
TZOFFSETFROM:+0200
TZOFFSETTO:+0100
TZNAME:CET
DTSTART:19961027T030000
RRULE:FREQ=YEARLY;BYMONTH=10;BYDAY=-1SU
END:STANDARD
BEGIN:STANDARD
TZOFFSETFROM:+005328
TZOFFSETTO:+0100
TZNAME:CET
DTSTART:18930401T000000
RDATE:18930401T000000
END:STANDARD
BEGIN:DAYLIGHT
TZOFFSETFROM:+0100
TZOFFSETTO:+0200
TZNAME:CEST
DTSTART:19160430T230000
RDATE:19160430T230000
RDATE:19170416T020000
RDATE:19180415T020000
RDATE:19400401T020000
RDATE:19430329T020000
RDATE:19440403T020000
RDATE:19450402T020000
RDATE:19460414T020000
RDATE:19470406T030000
RDATE:19480418T020000
RDATE:19490410T020000
RDATE:19800406T020000
END:DAYLIGHT
BEGIN:STANDARD
TZOFFSETFROM:+0200
TZOFFSETTO:+0100
TZNAME:CET
DTSTART:19161001T010000
RDATE:19161001T010000
RDATE:19170917T030000
RDATE:19180916T030000
RDATE:19421102T030000
RDATE:19431004T030000
RDATE:19441002T030000
RDATE:19451118T030000
RDATE:19461007T030000
RDATE:19471005T030000
RDATE:19481003T030000
RDATE:19491002T030000
RDATE:19800928T030000
RDATE:19810927T030000
RDATE:19820926T030000
RDATE:19830925T030000
RDATE:19840930T030000
RDATE:19850929T030000
RDATE:19860928T030000
RDATE:19870927T030000
RDATE:19880925T030000
RDATE:19890924T030000
RDATE:19900930T030000
RDATE:19910929T030000
RDATE:19920927T030000
RDATE:19930926T030000
RDATE:19940925T030000
RDATE:19950924T030000
END:STANDARD
BEGIN:DAYLIGHT
TZOFFSETFROM:+0200
TZOFFSETTO:+0300
TZNAME:CEMT
DTSTART:19450524T020000
RDATE:19450524T020000
RDATE:19470511T030000
END:DAYLIGHT
BEGIN:DAYLIGHT
TZOFFSETFROM:+0300
TZOFFSETTO:+0200
TZNAME:CEST
DTSTART:19450924T030000
RDATE:19450924T030000
RDATE:19470629T030000
END:DAYLIGHT
BEGIN:STANDARD
TZOFFSETFROM:+0100
TZOFFSETTO:+0100
TZNAME:CET
DTSTART:19460101T000000
RDATE:19460101T000000
RDATE:19800101T000000
END:STANDARD
END:VTIMEZONE
BEGIN:VEVENT
UID:ietf-87-4367-posh
SUMMARY:posh - PKIX over Secure HTTP
LOCATION:Charlottenburg 2/3
STATUS:CONFIRMED
CLASS:PUBLIC
DTSTART;TZID=Europe/Berlin:20130729T162000
DTEND;TZID=Europe/Berlin:20130729T172000
DTSTAMP:20161222T095705Z
URL:https://datatracker.ietf.org/meeting/87/materials/agenda-87-posh
DESCRIPTION:Afternoon Session III\n
 \n
 Agenda https://datatracker.ietf.org/meeting/87/materials/agenda-87-posh\n
 \n
 Session materials: https://datatracker.ietf.org/meeting/87/session/posh\n
 \n
 See in schedule: https://datatracker.ietf.org/meeting/87/agenda#row-87-2013-07-29-mon-1620-sec-posh\n
END:VEVENT
BEGIN:VEVENT
UID:ietf-87-4376-emu
SUMMARY:emu - EAP Method Update (0900-1000)
LOCATION:Schoeneberg 1/2
STATUS:CONFIRMED
CLASS:PUBLIC
DTSTART;TZID=Europe/Berlin:20130730T090000
DTEND;TZID=Europe/Berlin:20130730T113000
DTSTAMP:20161222T095705Z
URL:https://datatracker.ietf.org/meeting/87/materials/agenda-87-emu
DESCRIPTION:Morning Session I\n
 Note: 0900-1000\n
 \n
 Agenda https://datatracker.ietf.org/meeting/87/materials/agenda-87-emu\n
 \n
 Session materials: https://datatracker.ietf.org/meeting/87/session/emu\n
 \n
 See in schedule: https://datatracker.ietf.org/meeting/87/agenda#row-87-2013-07-30-tue-0900-sec-emu\n
END:VEVENT
BEGIN:VEVENT
UID:ietf-87-4499-ipsecme
SUMMARY:ipsecme - IP Security Maintenance and Extensions (1000-1130)
LOCATION:Schoeneberg 1/2
STATUS:CONFIRMED
CLASS:PUBLIC
DTSTART;TZID=Europe/Berlin:20130730T090000
DTEND;TZID=Europe/Berlin:20130730T113000
DTSTAMP:20161222T095705Z
URL:https://datatracker.ietf.org/meeting/87/materials/agenda-87-ipsecme
DESCRIPTION:Morning Session I\n
 Note: 1000-1130\n
 \n
 Agenda https://datatracker.ietf.org/meeting/87/materials/agenda-87-ipsecme\n
 \n
 Session materials: https://datatracker.ietf.org/meeting/87/session/ipsecme\n
 \n
 See in schedule: https://datatracker.ietf.org/meeting/87/agenda#row-87-2013-07-30-tue-0900-sec-ipsecme\n
END:VEVENT
BEGIN:VEVENT
UID:ietf-87-4224-jose
SUMMARY:jose - Javascript Object Signing and Encryption
LOCATION:Charlottenburg 2/3
STATUS:CONFIRMED
CLASS:PUBLIC
DTSTART;TZID=Europe/Berlin:20130730T130000
DTEND;TZID=Europe/Berlin:20130730T150000
DTSTAMP:20161222T095705Z
URL:https://datatracker.ietf.org/meeting/87/materials/agenda-87-jose
DESCRIPTION:Afternoon Session I\n
 \n
 Agenda https://datatracker.ietf.org/meeting/87/materials/agenda-87-jose\n
 \n
 Session materials: https://datatracker.ietf.org/meeting/87/session/jose\n
 \n
 See in schedule: https://datatracker.ietf.org/meeting/87/agenda#row-87-2013-07-30-tue-1300-sec-jose\n
END:VEVENT
BEGIN:VEVENT
UID:ietf-87-4209-abfab
SUMMARY:abfab - Application Bridging for Federated Access Beyond web
LOCATION:Tiergarten 1/2
STATUS:CONFIRMED
CLASS:PUBLIC
DTSTART;TZID=Europe/Berlin:20130730T152000
DTEND;TZID=Europe/Berlin:20130730T165000
DTSTAMP:20161222T095705Z
URL:https://datatracker.ietf.org/meeting/87/materials/agenda-87-abfab
DESCRIPTION:Afternoon Session II\n
 \n
 Agenda https://datatracker.ietf.org/meeting/87/materials/agenda-87-abfab\n
 \n
 Session materials: https://datatracker.ietf.org/meeting/87/session/abfab\n
 \n
 See in schedule: https://datatracker.ietf.org/meeting/87/agenda#row-87-2013-07-30-tue-1520-sec-abfab\n
END:VEVENT
BEGIN:VEVENT
UID:ietf-87-4261-mile
SUMMARY:mile - Managed Incident Lightweight Exchange
LOCATION:Tiergarten 1/2
STATUS:CONFIRMED
CLASS:PUBLIC
DTSTART;TZID=Europe/Berlin:20130730T170000
DTEND;TZID=Europe/Berlin:20130730T183000
DTSTAMP:20161222T095705Z
URL:https://datatracker.ietf.org/meeting/87/materials/agenda-87-mile
DESCRIPTION:Afternoon Session III\n
 \n
 Agenda https://datatracker.ietf.org/meeting/87/materials/agenda-87-mile\n
 \n
 Session materials: https://datatracker.ietf.org/meeting/87/session/mile\n
 \n
 See in schedule: https://datatracker.ietf.org/meeting/87/agenda#row-87-2013-07-30-tue-1700-sec-mile\n
END:VEVENT
BEGIN:VEVENT
UID:ietf-87-4235-oauth
SUMMARY:oauth - Web Authorization Protocol
LOCATION:Tiergarten 1/2
STATUS:CONFIRMED
CLASS:PUBLIC
DTSTART;TZID=Europe/Berlin:20130731T090000
DTEND;TZID=Europe/Berlin:20130731T113000
DTSTAMP:20161222T095705Z
URL:https://datatracker.ietf.org/meeting/87/materials/agenda-87-oauth
DESCRIPTION:Morning Session I\n
 \n
 Agenda https://datatracker.ietf.org/meeting/87/materials/agenda-87-oauth\n
 \n
 Session materials: https://datatracker.ietf.org/meeting/87/session/oauth\n
 \n
 See in schedule: https://datatracker.ietf.org/meeting/87/agenda#row-87-2013-07-31-wed-0900-sec-oauth\n
END:VEVENT
BEGIN:VEVENT
UID:ietf-87-4145-httpauth
SUMMARY:httpauth - Hypertext Transfer Protocol Authentication
LOCATION:Potsdam 2
STATUS:CONFIRMED
CLASS:PUBLIC
DTSTART;TZID=Europe/Berlin:20130731T130000
DTEND;TZID=Europe/Berlin:20130731T150000
DTSTAMP:20161222T095705Z
URL:https://datatracker.ietf.org/meeting/87/materials/agenda-87-httpauth
DESCRIPTION:Afternoon Session I\n
 \n
 Agenda https://datatracker.ietf.org/meeting/87/materials/agenda-87-httpauth\n
 \n
 Session materials: https://datatracker.ietf.org/meeting/87/session/httpauth\n
 \n
 See in schedule: https://datatracker.ietf.org/meeting/87/agenda#row-87-2013-07-31-wed-1300-sec-httpauth\n
END:VEVENT
BEGIN:VEVENT
UID:ietf-87-4395-dice
SUMMARY:dice - DTLS In Constrained Environments
LOCATION:Potsdam 3
STATUS:CONFIRMED
CLASS:PUBLIC
DTSTART;TZID=Europe/Berlin:20130731T151000
DTEND;TZID=Europe/Berlin:20130731T161000
DTSTAMP:20161222T095705Z
URL:https://datatracker.ietf.org/meeting/87/materials/agenda-87-dice
DESCRIPTION:Afternoon Session II\n
 \n
 Agenda https://datatracker.ietf.org/meeting/87/materials/agenda-87-dice\n
 \n
 Session materials: https://datatracker.ietf.org/meeting/87/session/dice\n
 \n
 See in schedule: https://datatracker.ietf.org/meeting/87/agenda#row-87-2013-07-31-wed-1510-sec-dice\n
END:VEVENT
BEGIN:VEVENT
UID:ietf-87-4305-saag
SUMMARY:saag - Security Area Open Meeting
LOCATION:Potsdam 1
STATUS:CONFIRMED
CLASS:PUBLIC
DTSTART;TZID=Europe/Berlin:20130801T130000
DTEND;TZID=Europe/Berlin:20130801T150000
DTSTAMP:20161222T095705Z
URL:https://datatracker.ietf.org/meeting/87/materials/agenda-87-saag
DESCRIPTION:Afternoon Session I\n
 \n
 Agenda https://datatracker.ietf.org/meeting/87/materials/agenda-87-saag\n
 \n
 Session materials: https://datatracker.ietf.org/meeting/87/session/saag\n
 \n
 See in schedule: https://datatracker.ietf.org/meeting/87/agenda#row-87-2013-08-01-thu-1300-sec-saag\n
END:VEVENT
BEGIN:VEVENT
UID:ietf-87-4507-kitten
SUMMARY:kitten - Common Authentication Technology Next Generation
LOCATION:Schoeneberg 1/2
STATUS:CONFIRMED
CLASS:PUBLIC
DTSTART;TZID=Europe/Berlin:20130801T152000
DTEND;TZID=Europe/Berlin:20130801T165000
DTSTAMP:20161222T095705Z
URL:https://datatracker.ietf.org/meeting/87/materials/agenda-87-kitten
DESCRIPTION:Afternoon Session II\n
 \n
 Agenda https://datatracker.ietf.org/meeting/87/materials/agenda-87-kitten\n
 \n
 Session materials: https://datatracker.ietf.org/meeting/87/session/kitten\n
 \n
 See in schedule: https://datatracker.ietf.org/meeting/87/agenda#row-87-2013-08-01-thu-1520-sec-kitten\n
END:VEVENT
BEGIN:VEVENT
UID:ietf-87-4461-dane
SUMMARY:dane - DNS-based Authentication of Named Entities
LOCATION:Potsdam 1
STATUS:CONFIRMED
CLASS:PUBLIC
DTSTART;TZID=Europe/Berlin:20130801T170000
DTEND;TZID=Europe/Berlin:20130801T183000
DTSTAMP:20161222T095705Z
URL:https://datatracker.ietf.org/meeting/87/materials/agenda-87-dane
DESCRIPTION:Afternoon Session III\n
 \n
 Agenda https://datatracker.ietf.org/meeting/87/materials/agenda-87-dane\n
 \n
 Session materials: https://datatracker.ietf.org/meeting/87/session/dane\n
 \n
 See in schedule: https://datatracker.ietf.org/meeting/87/agenda#row-87-2013-08-01-thu-1700-sec-dane\n
END:VEVENT
BEGIN:VEVENT
UID:ietf-87-4312-tls
SUMMARY:tls - Transport Layer Security
LOCATION:Charlottenburg 1
STATUS:CONFIRMED
CLASS:PUBLIC
DTSTART;TZID=Europe/Berlin:20130802T090000
DTEND;TZID=Europe/Berlin:20130802T110000
DTSTAMP:20161222T095705Z
URL:https://datatracker.ietf.org/meeting/87/materials/agenda-87-tls
DESCRIPTION:Morning Session I\n
 \n
 Agenda https://datatracker.ietf.org/meeting/87/materials/agenda-87-tls\n
 \n
 Session materials: https://datatracker.ietf.org/meeting/87/session/tls\n
 \n
 See in schedule: https://datatracker.ietf.org/meeting/87/agenda#row-87-2013-08-02-fri-0900-sec-tls\n
END:VEVENT
BEGIN:VEVENT
UID:ietf-87-4274-sacm
SUMMARY:sacm - Security Automation and Continuous Monitoring
LOCATION:Tiergarten 1/2
STATUS:CONFIRMED
CLASS:PUBLIC
DTSTART;TZID=Europe/Berlin:20130802T112000
DTEND;TZID=Europe/Berlin:20130802T122000
DTSTAMP:20161222T095705Z
URL:https://datatracker.ietf.org/meeting/87/materials/agenda-87-sacm
DESCRIPTION:Afternoon Session I\n
 \n
 Agenda https://datatracker.ietf.org/meeting/87/materials/agenda-87-sacm\n
 \n
 Session materials: https://datatracker.ietf.org/meeting/87/session/sacm\n
 \n
 See in schedule: https://datatracker.ietf.org/meeting/87/agenda#row-87-2013-08-02-fri-1120-sec-sacm\n
END:VEVENT
BEGIN:VEVENT
UID:ietf-87-4326-sacm
SUMMARY:sacm - Security Automation and Continuous Monitoring
LOCATION:Tiergarten 1/2
STATUS:CONFIRMED
CLASS:PUBLIC
DTSTART;TZID=Europe/Berlin:20130802T123000
DTEND;TZID=Europe/Berlin:20130802T133000
DTSTAMP:20161222T095705Z
URL:https://datatracker.ietf.org/meeting/87/materials/agenda-87-sacm
DESCRIPTION:Afternoon Session II\n
 \n
 Agenda https://datatracker.ietf.org/meeting/87/materials/agenda-87-sacm\n
 \n
 Session materials: https://datatracker.ietf.org/meeting/87/session/sacm\n
 \n
 See in schedule: https://datatracker.ietf.org/meeting/87/agenda#row-87-2013-08-02-fri-1230-sec-sacm\n
END:VEVENT
END:VCALENDAR
