BEGIN:VCALENDAR
VERSION:2.0
METHOD:PUBLISH
PRODID:-//IETF//datatracker.ietf.org ical agenda//EN
BEGIN:VTIMEZONE
TZID:Europe/Berlin
X-LIC-LOCATION:Europe/Berlin
BEGIN:DAYLIGHT
TZOFFSETFROM:+0100
TZOFFSETTO:+0200
TZNAME:CEST
DTSTART:19810329T020000
RRULE:FREQ=YEARLY;BYMONTH=3;BYDAY=-1SU
END:DAYLIGHT
BEGIN:STANDARD
TZOFFSETFROM:+0200
TZOFFSETTO:+0100
TZNAME:CET
DTSTART:19961027T030000
RRULE:FREQ=YEARLY;BYMONTH=10;BYDAY=-1SU
END:STANDARD
BEGIN:STANDARD
TZOFFSETFROM:+005328
TZOFFSETTO:+0100
TZNAME:CET
DTSTART:18930401T000000
RDATE:18930401T000000
END:STANDARD
BEGIN:DAYLIGHT
TZOFFSETFROM:+0100
TZOFFSETTO:+0200
TZNAME:CEST
DTSTART:19160430T230000
RDATE:19160430T230000
RDATE:19170416T020000
RDATE:19180415T020000
RDATE:19400401T020000
RDATE:19430329T020000
RDATE:19440403T020000
RDATE:19450402T020000
RDATE:19460414T020000
RDATE:19470406T030000
RDATE:19480418T020000
RDATE:19490410T020000
RDATE:19800406T020000
END:DAYLIGHT
BEGIN:STANDARD
TZOFFSETFROM:+0200
TZOFFSETTO:+0100
TZNAME:CET
DTSTART:19161001T010000
RDATE:19161001T010000
RDATE:19170917T030000
RDATE:19180916T030000
RDATE:19421102T030000
RDATE:19431004T030000
RDATE:19441002T030000
RDATE:19451118T030000
RDATE:19461007T030000
RDATE:19471005T030000
RDATE:19481003T030000
RDATE:19491002T030000
RDATE:19800928T030000
RDATE:19810927T030000
RDATE:19820926T030000
RDATE:19830925T030000
RDATE:19840930T030000
RDATE:19850929T030000
RDATE:19860928T030000
RDATE:19870927T030000
RDATE:19880925T030000
RDATE:19890924T030000
RDATE:19900930T030000
RDATE:19910929T030000
RDATE:19920927T030000
RDATE:19930926T030000
RDATE:19940925T030000
RDATE:19950924T030000
END:STANDARD
BEGIN:DAYLIGHT
TZOFFSETFROM:+0200
TZOFFSETTO:+0300
TZNAME:CEMT
DTSTART:19450524T020000
RDATE:19450524T020000
RDATE:19470511T030000
END:DAYLIGHT
BEGIN:DAYLIGHT
TZOFFSETFROM:+0300
TZOFFSETTO:+0200
TZNAME:CEST
DTSTART:19450924T030000
RDATE:19450924T030000
RDATE:19470629T030000
END:DAYLIGHT
BEGIN:STANDARD
TZOFFSETFROM:+0100
TZOFFSETTO:+0100
TZNAME:CET
DTSTART:19460101T000000
RDATE:19460101T000000
RDATE:19800101T000000
END:STANDARD
END:VTIMEZONE
BEGIN:VEVENT
UID:ietf-87-4171-tsvwg
SUMMARY:tsvwg - Transport Area Working Group
LOCATION:Potsdam 2
STATUS:CONFIRMED
CLASS:PUBLIC
DTSTART;TZID=Europe/Berlin:20130729T090000
DTEND;TZID=Europe/Berlin:20130729T113000
DTSTAMP:20161222T095705Z
URL:https://datatracker.ietf.org/meeting/87/materials/agenda-87-tsvwg
DESCRIPTION:Morning Session I\n
 \n
 Agenda https://datatracker.ietf.org/meeting/87/materials/agenda-87-tsvwg\n
 \n
 Session materials: https://datatracker.ietf.org/meeting/87/session/tsvwg\n
 \n
 See in schedule: https://datatracker.ietf.org/meeting/87/agenda#row-87-2013-07-29-mon-0900-tsv-tsvwg\n
END:VEVENT
BEGIN:VEVENT
UID:ietf-87-4338-behave
SUMMARY:behave - Behavior Engineering for Hindrance Avoidance
LOCATION:Charlottenburg 1
STATUS:CONFIRMED
CLASS:PUBLIC
DTSTART;TZID=Europe/Berlin:20130729T130000
DTEND;TZID=Europe/Berlin:20130729T150000
DTSTAMP:20161222T095705Z
URL:https://datatracker.ietf.org/meeting/87/materials/agenda-87-behave
DESCRIPTION:Afternoon Session I\n
 \n
 Agenda https://datatracker.ietf.org/meeting/87/materials/agenda-87-behave\n
 \n
 Session materials: https://datatracker.ietf.org/meeting/87/session/behave\n
 \n
 See in schedule: https://datatracker.ietf.org/meeting/87/agenda#row-87-2013-07-29-mon-1300-tsv-behave\n
END:VEVENT
BEGIN:VEVENT
UID:ietf-87-4341-conex
SUMMARY:conex - Congestion Exposure
LOCATION:Charlottenburg 2/3
STATUS:CONFIRMED
CLASS:PUBLIC
DTSTART;TZID=Europe/Berlin:20130729T130000
DTEND;TZID=Europe/Berlin:20130729T150000
DTSTAMP:20161222T095705Z
URL:https://datatracker.ietf.org/meeting/87/materials/agenda-87-conex
DESCRIPTION:Afternoon Session I\n
 \n
 Agenda https://datatracker.ietf.org/meeting/87/materials/agenda-87-conex\n
 \n
 Session materials: https://datatracker.ietf.org/meeting/87/session/conex\n
 \n
 See in schedule: https://datatracker.ietf.org/meeting/87/agenda#row-87-2013-07-29-mon-1300-tsv-conex\n
END:VEVENT
BEGIN:VEVENT
UID:ietf-87-4354-tsvwg
SUMMARY:tsvwg - Transport Area Working Group
LOCATION:Charlottenburg 2/3
STATUS:CONFIRMED
CLASS:PUBLIC
DTSTART;TZID=Europe/Berlin:20130729T151000
DTEND;TZID=Europe/Berlin:20130729T161000
DTSTAMP:20161222T095705Z
URL:https://datatracker.ietf.org/meeting/87/materials/agenda-87-tsvwg
DESCRIPTION:Afternoon Session II\n
 \n
 Agenda https://datatracker.ietf.org/meeting/87/materials/agenda-87-tsvwg\n
 \n
 Session materials: https://datatracker.ietf.org/meeting/87/session/tsvwg\n
 \n
 See in schedule: https://datatracker.ietf.org/meeting/87/agenda#row-87-2013-07-29-mon-1510-tsv-tsvwg\n
END:VEVENT
BEGIN:VEVENT
UID:ietf-87-4366-alto
SUMMARY:alto - Application-Layer Traffic Optimization
LOCATION:Potsdam 2
STATUS:CONFIRMED
CLASS:PUBLIC
DTSTART;TZID=Europe/Berlin:20130729T162000
DTEND;TZID=Europe/Berlin:20130729T172000
DTSTAMP:20161222T095705Z
URL:https://datatracker.ietf.org/meeting/87/materials/agenda-87-alto
DESCRIPTION:Afternoon Session III\n
 \n
 Agenda https://datatracker.ietf.org/meeting/87/materials/agenda-87-alto\n
 \n
 Session materials: https://datatracker.ietf.org/meeting/87/session/alto\n
 \n
 See in schedule: https://datatracker.ietf.org/meeting/87/agenda#row-87-2013-07-29-mon-1620-tsv-alto\n
END:VEVENT
BEGIN:VEVENT
UID:ietf-87-4378-tcpm
SUMMARY:tcpm - TCP Maintenance and Minor Extensions
LOCATION:Tiergarten 1/2
STATUS:CONFIRMED
CLASS:PUBLIC
DTSTART;TZID=Europe/Berlin:20130730T090000
DTEND;TZID=Europe/Berlin:20130730T113000
DTSTAMP:20161222T095705Z
URL:https://datatracker.ietf.org/meeting/87/materials/agenda-87-tcpm
DESCRIPTION:Morning Session I\n
 \n
 Agenda https://datatracker.ietf.org/meeting/87/materials/agenda-87-tcpm\n
 \n
 Session materials: https://datatracker.ietf.org/meeting/87/session/tcpm\n
 \n
 See in schedule: https://datatracker.ietf.org/meeting/87/agenda#row-87-2013-07-30-tue-0900-tsv-tcpm\n
END:VEVENT
BEGIN:VEVENT
UID:ietf-87-4223-mptcp
SUMMARY:mptcp - Multipath TCP
LOCATION:Potsdam 2
STATUS:CONFIRMED
CLASS:PUBLIC
DTSTART;TZID=Europe/Berlin:20130730T130000
DTEND;TZID=Europe/Berlin:20130730T150000
DTSTAMP:20161222T095705Z
URL:https://datatracker.ietf.org/meeting/87/materials/agenda-87-mptcp
DESCRIPTION:Afternoon Session I\n
 \n
 Agenda https://datatracker.ietf.org/meeting/87/materials/agenda-87-mptcp\n
 \n
 Session materials: https://datatracker.ietf.org/meeting/87/session/mptcp\n
 \n
 See in schedule: https://datatracker.ietf.org/meeting/87/agenda#row-87-2013-07-30-tue-1300-tsv-mptcp\n
END:VEVENT
BEGIN:VEVENT
UID:ietf-87-4213-cdni
SUMMARY:cdni - Content Delivery Networks Interconnection
LOCATION:Potsdam 3
STATUS:CONFIRMED
CLASS:PUBLIC
DTSTART;TZID=Europe/Berlin:20130730T152000
DTEND;TZID=Europe/Berlin:20130730T165000
DTSTAMP:20161222T095705Z
URL:https://datatracker.ietf.org/meeting/87/materials/agenda-87-cdni
DESCRIPTION:Afternoon Session II\n
 \n
 Agenda https://datatracker.ietf.org/meeting/87/materials/agenda-87-cdni\n
 \n
 Session materials: https://datatracker.ietf.org/meeting/87/session/cdni\n
 \n
 See in schedule: https://datatracker.ietf.org/meeting/87/agenda#row-87-2013-07-30-tue-1520-tsv-cdni\n
END:VEVENT
BEGIN:VEVENT
UID:ietf-87-4266-aqm
SUMMARY:aqm - Active Queue Management and Packet Scheduling
LOCATION:Potsdam 1
STATUS:CONFIRMED
CLASS:PUBLIC
DTSTART;TZID=Europe/Berlin:20130730T170000
DTEND;TZID=Europe/Berlin:20130730T183000
DTSTAMP:20161222T095705Z
URL:https://datatracker.ietf.org/meeting/87/materials/agenda-87-aqm
DESCRIPTION:Afternoon Session III\n
 \n
 Agenda https://datatracker.ietf.org/meeting/87/materials/agenda-87-aqm\n
 \n
 Session materials: https://datatracker.ietf.org/meeting/87/session/aqm\n
 \n
 See in schedule: https://datatracker.ietf.org/meeting/87/agenda#row-87-2013-07-30-tue-1700-tsv-aqm\n
END:VEVENT
BEGIN:VEVENT
UID:ietf-87-4236-ippm
SUMMARY:ippm - IP Performance Metrics
LOCATION:Potsdam 2
STATUS:CONFIRMED
CLASS:PUBLIC
DTSTART;TZID=Europe/Berlin:20130731T090000
DTEND;TZID=Europe/Berlin:20130731T113000
DTSTAMP:20161222T095705Z
URL:https://datatracker.ietf.org/meeting/87/materials/agenda-87-ippm
DESCRIPTION:Morning Session I\n
 \n
 Agenda https://datatracker.ietf.org/meeting/87/materials/agenda-87-ippm\n
 \n
 Session materials: https://datatracker.ietf.org/meeting/87/session/ippm\n
 \n
 See in schedule: https://datatracker.ietf.org/meeting/87/agenda#row-87-2013-07-31-wed-0900-tsv-ippm\n
END:VEVENT
BEGIN:VEVENT
UID:ietf-87-4233-nfsv4
SUMMARY:nfsv4 - Network File System Version 4
LOCATION:Schoeneberg 1/2
STATUS:CONFIRMED
CLASS:PUBLIC
DTSTART;TZID=Europe/Berlin:20130731T090000
DTEND;TZID=Europe/Berlin:20130731T113000
DTSTAMP:20161222T095705Z
URL:https://datatracker.ietf.org/meeting/87/materials/agenda-87-nfsv4
DESCRIPTION:Morning Session I\n
 \n
 Agenda https://datatracker.ietf.org/meeting/87/materials/agenda-87-nfsv4\n
 \n
 Session materials: https://datatracker.ietf.org/meeting/87/session/nfsv4\n
 \n
 See in schedule: https://datatracker.ietf.org/meeting/87/agenda#row-87-2013-07-31-wed-0900-tsv-nfsv4\n
END:VEVENT
BEGIN:VEVENT
UID:ietf-87-4389-ppsp
SUMMARY:ppsp - Peer to Peer Streaming Protocol
LOCATION:Schoeneberg 1/2
STATUS:CONFIRMED
CLASS:PUBLIC
DTSTART;TZID=Europe/Berlin:20130731T151000
DTEND;TZID=Europe/Berlin:20130731T161000
DTSTAMP:20161222T095705Z
URL:https://datatracker.ietf.org/meeting/87/materials/agenda-87-ppsp
DESCRIPTION:Afternoon Session II\n
 \n
 Agenda https://datatracker.ietf.org/meeting/87/materials/agenda-87-ppsp\n
 \n
 Session materials: https://datatracker.ietf.org/meeting/87/session/ppsp\n
 \n
 See in schedule: https://datatracker.ietf.org/meeting/87/agenda#row-87-2013-07-31-wed-1510-tsv-ppsp\n
END:VEVENT
BEGIN:VEVENT
UID:ietf-87-4402-ppsp
SUMMARY:ppsp - Peer to Peer Streaming Protocol
LOCATION:Schoeneberg 1/2
STATUS:CONFIRMED
CLASS:PUBLIC
DTSTART;TZID=Europe/Berlin:20130731T162000
DTEND;TZID=Europe/Berlin:20130731T172000
DTSTAMP:20161222T095705Z
URL:https://datatracker.ietf.org/meeting/87/materials/agenda-87-ppsp
DESCRIPTION:Afternoon Session III\n
 \n
 Agenda https://datatracker.ietf.org/meeting/87/materials/agenda-87-ppsp\n
 \n
 Session materials: https://datatracker.ietf.org/meeting/87/session/ppsp\n
 \n
 See in schedule: https://datatracker.ietf.org/meeting/87/agenda#row-87-2013-07-31-wed-1620-tsv-ppsp\n
END:VEVENT
BEGIN:VEVENT
UID:ietf-87-4422-tsvarea
SUMMARY:tsvarea - Transport Area Open Meeting
LOCATION:Potsdam 1
STATUS:CONFIRMED
CLASS:PUBLIC
DTSTART;TZID=Europe/Berlin:20130801T090000
DTEND;TZID=Europe/Berlin:20130801T102000
DTSTAMP:20161222T095705Z
URL:https://datatracker.ietf.org/meeting/87/materials/agenda-87-tsvarea
DESCRIPTION:Morning Session I\n
 \n
 Agenda https://datatracker.ietf.org/meeting/87/materials/agenda-87-tsvarea\n
 \n
 Session materials: https://datatracker.ietf.org/meeting/87/session/tsvarea\n
 \n
 See in schedule: https://datatracker.ietf.org/meeting/87/agenda#row-87-2013-08-01-thu-0900-tsv-tsvarea\n
END:VEVENT
BEGIN:VEVENT
UID:ietf-87-4525-tsvarea
SUMMARY:tsvarea - Transport Area Open Meeting
LOCATION:Potsdam 1
STATUS:CONFIRMED
CLASS:PUBLIC
DTSTART;TZID=Europe/Berlin:20130801T103000
DTEND;TZID=Europe/Berlin:20130801T113000
DTSTAMP:20161222T095705Z
URL:https://datatracker.ietf.org/meeting/87/materials/agenda-87-tsvarea
DESCRIPTION:Morning Session II\n
 \n
 Agenda https://datatracker.ietf.org/meeting/87/materials/agenda-87-tsvarea\n
 \n
 Session materials: https://datatracker.ietf.org/meeting/87/session/tsvarea\n
 \n
 See in schedule: https://datatracker.ietf.org/meeting/87/agenda#row-87-2013-08-01-thu-1030-tsv-tsvarea\n
END:VEVENT
BEGIN:VEVENT
UID:ietf-87-4302-rmcat
SUMMARY:rmcat - RTP Media Congestion Avoidance Techniques
LOCATION:Charlottenburg 2/3
STATUS:CONFIRMED
CLASS:PUBLIC
DTSTART;TZID=Europe/Berlin:20130801T130000
DTEND;TZID=Europe/Berlin:20130801T150000
DTSTAMP:20161222T095705Z
URL:https://datatracker.ietf.org/meeting/87/materials/agenda-87-rmcat
DESCRIPTION:Afternoon Session I\n
 \n
 Agenda https://datatracker.ietf.org/meeting/87/materials/agenda-87-rmcat\n
 \n
 Session materials: https://datatracker.ietf.org/meeting/87/session/rmcat\n
 \n
 See in schedule: https://datatracker.ietf.org/meeting/87/agenda#row-87-2013-08-01-thu-1300-tsv-rmcat\n
END:VEVENT
BEGIN:VEVENT
UID:ietf-87-4447-tcmtf
SUMMARY:tcmtf - Tunneling Compressed Multiplexed Traffic Flows
LOCATION:Potsdam 3
STATUS:CONFIRMED
CLASS:PUBLIC
DTSTART;TZID=Europe/Berlin:20130801T152000
DTEND;TZID=Europe/Berlin:20130801T165000
DTSTAMP:20161222T095705Z
URL:https://datatracker.ietf.org/meeting/87/materials/agenda-87-tcmtf
DESCRIPTION:Afternoon Session II\n
 \n
 Agenda https://datatracker.ietf.org/meeting/87/materials/agenda-87-tcmtf\n
 \n
 Session materials: https://datatracker.ietf.org/meeting/87/session/tcmtf\n
 \n
 See in schedule: https://datatracker.ietf.org/meeting/87/agenda#row-87-2013-08-01-thu-1520-tsv-tcmtf\n
END:VEVENT
BEGIN:VEVENT
UID:ietf-87-4457-cdni
SUMMARY:cdni - Content Delivery Networks Interconnection
LOCATION:Potsdam 2
STATUS:CONFIRMED
CLASS:PUBLIC
DTSTART;TZID=Europe/Berlin:20130801T170000
DTEND;TZID=Europe/Berlin:20130801T183000
DTSTAMP:20161222T095705Z
URL:https://datatracker.ietf.org/meeting/87/materials/agenda-87-cdni
DESCRIPTION:Afternoon Session III\n
 \n
 Agenda https://datatracker.ietf.org/meeting/87/materials/agenda-87-cdni\n
 \n
 Session materials: https://datatracker.ietf.org/meeting/87/session/cdni\n
 \n
 See in schedule: https://datatracker.ietf.org/meeting/87/agenda#row-87-2013-08-01-thu-1700-tsv-cdni\n
END:VEVENT
END:VCALENDAR
