BEGIN:VCALENDAR
VERSION:2.0
METHOD:PUBLISH
PRODID:-//IETF//datatracker.ietf.org ical agenda//EN
BEGIN:VTIMEZONE
TZID:America/Vancouver
X-LIC-LOCATION:America/Vancouver
BEGIN:DAYLIGHT
TZOFFSETFROM:-0800
TZOFFSETTO:-0700
TZNAME:PDT
DTSTART:20070311T020000
RRULE:FREQ=YEARLY;BYMONTH=3;BYDAY=2SU
END:DAYLIGHT
BEGIN:STANDARD
TZOFFSETFROM:-0700
TZOFFSETTO:-0800
TZNAME:PST
DTSTART:20071104T020000
RRULE:FREQ=YEARLY;BYMONTH=11;BYDAY=1SU
END:STANDARD
BEGIN:STANDARD
TZOFFSETFROM:-081228
TZOFFSETTO:-0800
TZNAME:PST
DTSTART:18840101T000000
RDATE:18840101T000000
END:STANDARD
BEGIN:DAYLIGHT
TZOFFSETFROM:-0800
TZOFFSETTO:-0700
TZNAME:PDT
DTSTART:19180414T020000
RDATE:19180414T020000
RDATE:19460428T020000
RDATE:19470427T020000
RDATE:19480425T020000
RDATE:19490424T020000
RDATE:19500430T020000
RDATE:19510429T020000
RDATE:19520427T020000
RDATE:19530426T020000
RDATE:19540425T020000
RDATE:19550424T020000
RDATE:19560429T020000
RDATE:19570428T020000
RDATE:19580427T020000
RDATE:19590426T020000
RDATE:19600424T020000
RDATE:19610430T020000
RDATE:19620429T020000
RDATE:19630428T020000
RDATE:19640426T020000
RDATE:19650425T020000
RDATE:19660424T020000
RDATE:19670430T020000
RDATE:19680428T020000
RDATE:19690427T020000
RDATE:19700426T020000
RDATE:19710425T020000
RDATE:19720430T020000
RDATE:19730429T020000
RDATE:19740428T020000
RDATE:19750427T020000
RDATE:19760425T020000
RDATE:19770424T020000
RDATE:19780430T020000
RDATE:19790429T020000
RDATE:19800427T020000
RDATE:19810426T020000
RDATE:19820425T020000
RDATE:19830424T020000
RDATE:19840429T020000
RDATE:19850428T020000
RDATE:19860427T020000
RDATE:19870405T020000
RDATE:19880403T020000
RDATE:19890402T020000
RDATE:19900401T020000
RDATE:19910407T020000
RDATE:19920405T020000
RDATE:19930404T020000
RDATE:19940403T020000
RDATE:19950402T020000
RDATE:19960407T020000
RDATE:19970406T020000
RDATE:19980405T020000
RDATE:19990404T020000
RDATE:20000402T020000
RDATE:20010401T020000
RDATE:20020407T020000
RDATE:20030406T020000
RDATE:20040404T020000
RDATE:20050403T020000
RDATE:20060402T020000
END:DAYLIGHT
BEGIN:STANDARD
TZOFFSETFROM:-0700
TZOFFSETTO:-0800
TZNAME:PST
DTSTART:19181027T020000
RDATE:19181027T020000
RDATE:19450930T020000
RDATE:19461013T020000
RDATE:19470928T020000
RDATE:19480926T020000
RDATE:19490925T020000
RDATE:19500924T020000
RDATE:19510930T020000
RDATE:19520928T020000
RDATE:19530927T020000
RDATE:19540926T020000
RDATE:19550925T020000
RDATE:19560930T020000
RDATE:19570929T020000
RDATE:19580928T020000
RDATE:19590927T020000
RDATE:19600925T020000
RDATE:19610924T020000
RDATE:19621028T020000
RDATE:19631027T020000
RDATE:19641025T020000
RDATE:19651031T020000
RDATE:19661030T020000
RDATE:19671029T020000
RDATE:19681027T020000
RDATE:19691026T020000
RDATE:19701025T020000
RDATE:19711031T020000
RDATE:19721029T020000
RDATE:19731028T020000
RDATE:19741027T020000
RDATE:19751026T020000
RDATE:19761031T020000
RDATE:19771030T020000
RDATE:19781029T020000
RDATE:19791028T020000
RDATE:19801026T020000
RDATE:19811025T020000
RDATE:19821031T020000
RDATE:19831030T020000
RDATE:19841028T020000
RDATE:19851027T020000
RDATE:19861026T020000
RDATE:19871025T020000
RDATE:19881030T020000
RDATE:19891029T020000
RDATE:19901028T020000
RDATE:19911027T020000
RDATE:19921025T020000
RDATE:19931031T020000
RDATE:19941030T020000
RDATE:19951029T020000
RDATE:19961027T020000
RDATE:19971026T020000
RDATE:19981025T020000
RDATE:19991031T020000
RDATE:20001029T020000
RDATE:20011028T020000
RDATE:20021027T020000
RDATE:20031026T020000
RDATE:20041031T020000
RDATE:20051030T020000
RDATE:20061029T020000
END:STANDARD
BEGIN:DAYLIGHT
TZOFFSETFROM:-0800
TZOFFSETTO:-0700
TZNAME:PWT
DTSTART:19420209T020000
RDATE:19420209T020000
END:DAYLIGHT
BEGIN:DAYLIGHT
TZOFFSETFROM:-0700
TZOFFSETTO:-0700
TZNAME:PPT
DTSTART:19450814T160000
RDATE:19450814T160000
END:DAYLIGHT
BEGIN:STANDARD
TZOFFSETFROM:-0800
TZOFFSETTO:-0800
TZNAME:PST
DTSTART:19870101T000000
RDATE:19870101T000000
END:STANDARD
END:VTIMEZONE
BEGIN:VEVENT
UID:ietf-88-4772-tools
SUMMARY:Code Sprint
LOCATION:Dover/Tennyson
STATUS:CONFIRMED
CLASS:PUBLIC
DTSTART;TZID=Canada/Pacific:20131102T093000
DTEND;TZID=Canada/Pacific:20131102T180000
DTSTAMP:20161222T095705Z
DESCRIPTION:Code Sprint\n
 \n
 Session materials: https://datatracker.ietf.org/meeting/88/session/tools\n
 \n
 See in schedule: https://datatracker.ietf.org/meeting/88/agenda#row-88-2013-11-02-sat-0930-tools-code-sprint\n
END:VEVENT
BEGIN:VEVENT
UID:ietf-88-4755-iepg
SUMMARY:IEPG Meeting
LOCATION:Regency B
STATUS:CONFIRMED
CLASS:PUBLIC
DTSTART;TZID=Canada/Pacific:20131103T100000
DTEND;TZID=Canada/Pacific:20131103T120000
DTSTAMP:20161222T095705Z
DESCRIPTION:IEPG Meeting\n
 \n
 Session materials: https://datatracker.ietf.org/meeting/88/session/iepg\n
 \n
 See in schedule: https://datatracker.ietf.org/meeting/88/agenda#row-88-2013-11-03-sun-1000-iepg-iepg-meeting\n
END:VEVENT
BEGIN:VEVENT
UID:ietf-88-4896-edu
SUMMARY:Introduction to Real-Time Applications and Infrastructure Development 
LOCATION:Georgia B
STATUS:CONFIRMED
CLASS:PUBLIC
DTSTART;TZID=Canada/Pacific:20131103T130000
DTEND;TZID=Canada/Pacific:20131103T145000
DTSTAMP:20161222T095705Z
DESCRIPTION:Introduction to Real-Time Applications and Infrastructure Development \n
 \n
 Session materials: https://datatracker.ietf.org/meeting/88/session/edu\n
 \n
 See in schedule: https://datatracker.ietf.org/meeting/88/agenda#row-88-2013-11-03-sun-1300-edu-introduction-to-real-time-applications-and-infrastructure-development\n
END:VEVENT
BEGIN:VEVENT
UID:ietf-88-4751-edu
SUMMARY:Newcomers' Orientation
LOCATION:Regency B
STATUS:CONFIRMED
CLASS:PUBLIC
DTSTART;TZID=Canada/Pacific:20131103T130000
DTEND;TZID=Canada/Pacific:20131103T145000
DTSTAMP:20161222T095705Z
DESCRIPTION:Newcomers' Orientation\n
 \n
 Session materials: https://datatracker.ietf.org/meeting/88/session/edu\n
 \n
 See in schedule: https://datatracker.ietf.org/meeting/88/agenda#row-88-2013-11-03-sun-1300-edu-newcomers-orientation\n
END:VEVENT
BEGIN:VEVENT
UID:ietf-88-4897-edu
SUMMARY:IETF Tools Training
LOCATION:Georgia B
STATUS:CONFIRMED
CLASS:PUBLIC
DTSTART;TZID=Canada/Pacific:20131103T150000
DTEND;TZID=Canada/Pacific:20131103T165000
DTSTAMP:20161222T095705Z
DESCRIPTION:IETF Tools Training\n
 \n
 Session materials: https://datatracker.ietf.org/meeting/88/session/edu\n
 \n
 See in schedule: https://datatracker.ietf.org/meeting/88/agenda#row-88-2013-11-03-sun-1500-edu-ietf-tools-training\n
END:VEVENT
BEGIN:VEVENT
UID:ietf-88-4998-edu
SUMMARY:Wireless links\; Properties\, Challenges\, Solutions\, and Implications
LOCATION:Regency B
STATUS:CONFIRMED
CLASS:PUBLIC
DTSTART;TZID=Canada/Pacific:20131103T150000
DTEND;TZID=Canada/Pacific:20131103T165000
DTSTAMP:20161222T095705Z
DESCRIPTION:Wireless links\; Properties\, Challenges\, Solutions\, and Implications\n
 \n
 Session materials: https://datatracker.ietf.org/meeting/88/session/edu\n
 \n
 See in schedule: https://datatracker.ietf.org/meeting/88/agenda#row-88-2013-11-03-sun-1500-edu-wireless-links-properties-challenges-solutions-and-implications\n
END:VEVENT
BEGIN:VEVENT
UID:ietf-88-4793-igovupdate
SUMMARY:igovupdate - Internet Governance Update
LOCATION:Regency D
STATUS:CONFIRMED
CLASS:PUBLIC
DTSTART;TZID=Canada/Pacific:20131104T130000
DTEND;TZID=Canada/Pacific:20131104T143000
DTSTAMP:20161222T095705Z
URL:https://datatracker.ietf.org/meeting/88/materials/agenda-88-igovupdate
DESCRIPTION:Afternoon Session I\n
 \n
 Agenda https://datatracker.ietf.org/meeting/88/materials/agenda-88-igovupdate\n
 \n
 Session materials: https://datatracker.ietf.org/meeting/88/session/igovupdate\n
 \n
 See in schedule: https://datatracker.ietf.org/meeting/88/agenda#row-88-2013-11-04-mon-1300-igovupdate\n
END:VEVENT
BEGIN:VEVENT
UID:ietf-88-4812-geonet
SUMMARY:geonet - Internet-wide Geo-Networking
LOCATION:Regency B
STATUS:CONFIRMED
CLASS:PUBLIC
DTSTART;TZID=Canada/Pacific:20131105T130000
DTEND;TZID=Canada/Pacific:20131105T140000
DTSTAMP:20161222T095705Z
URL:https://datatracker.ietf.org/meeting/88/materials/agenda-88-geonet
DESCRIPTION:Afternoon Session I\n
 \n
 Agenda https://datatracker.ietf.org/meeting/88/materials/agenda-88-geonet\n
 \n
 Session materials: https://datatracker.ietf.org/meeting/88/session/geonet\n
 \n
 See in schedule: https://datatracker.ietf.org/meeting/88/agenda#row-88-2013-11-05-tue-1300-int-geonet\n
END:VEVENT
BEGIN:VEVENT
UID:ietf-88-4899-iab
SUMMARY:Technical Plenary
LOCATION:Regency A/B/C/D
STATUS:CONFIRMED
CLASS:PUBLIC
DTSTART;TZID=Canada/Pacific:20131106T090000
DTEND;TZID=Canada/Pacific:20131106T113000
DTSTAMP:20161222T095705Z
URL:https://datatracker.ietf.org/meeting/88/materials/agenda-88-iab-techplenary
DESCRIPTION:Technical Plenary\n
 \n
 Agenda https://datatracker.ietf.org/meeting/88/materials/agenda-88-iab-techplenary\n
 \n
 Session materials: https://datatracker.ietf.org/meeting/88/session/iab\n
 \n
 See in schedule: https://datatracker.ietf.org/meeting/88/agenda#row-88-2013-11-06-wed-0900-1plenary-iab\n
END:VEVENT
BEGIN:VEVENT
UID:ietf-88-4593-perpass
SUMMARY:perpass - Handling Pervasive Monitoring in the IETF 
LOCATION:Regency D
STATUS:CONFIRMED
CLASS:PUBLIC
DTSTART;TZID=Canada/Pacific:20131106T130000
DTEND;TZID=Canada/Pacific:20131106T153000
DTSTAMP:20161222T095705Z
URL:https://datatracker.ietf.org/meeting/88/materials/agenda-88-perpass
DESCRIPTION:Afternoon Session I\n
 \n
 Agenda https://datatracker.ietf.org/meeting/88/materials/agenda-88-perpass\n
 \n
 Session materials: https://datatracker.ietf.org/meeting/88/session/perpass\n
 \n
 See in schedule: https://datatracker.ietf.org/meeting/88/agenda#row-88-2013-11-06-wed-1300-sec-perpass\n
END:VEVENT
BEGIN:VEVENT
UID:ietf-88-4977-iesg
SUMMARY:IETF Operations and Administration Plenary
LOCATION:Regency A/B/C/D
STATUS:CONFIRMED
CLASS:PUBLIC
DTSTART;TZID=Canada/Pacific:20131106T174000
DTEND;TZID=Canada/Pacific:20131106T194000
DTSTAMP:20161222T095705Z
URL:https://datatracker.ietf.org/meeting/88/materials/agenda-88-iesg-opsplenary
DESCRIPTION:IETF Operations and Administration Plenary\n
 \n
 Agenda https://datatracker.ietf.org/meeting/88/materials/agenda-88-iesg-opsplenary\n
 \n
 Session materials: https://datatracker.ietf.org/meeting/88/session/iesg\n
 \n
 See in schedule: https://datatracker.ietf.org/meeting/88/agenda#row-88-2013-11-06-wed-1740-1plenary-iesg\n
END:VEVENT
BEGIN:VEVENT
UID:ietf-88-4951-sfc
SUMMARY:sfc - Service Function Chaining
LOCATION:Regency D
STATUS:CONFIRMED
CLASS:PUBLIC
DTSTART;TZID=Canada/Pacific:20131107T152000
DTEND;TZID=Canada/Pacific:20131107T172000
DTSTAMP:20161222T095705Z
URL:https://datatracker.ietf.org/meeting/88/materials/agenda-88-sfc
DESCRIPTION:Afternoon Session II\n
 \n
 Agenda https://datatracker.ietf.org/meeting/88/materials/agenda-88-sfc\n
 \n
 Session materials: https://datatracker.ietf.org/meeting/88/session/sfc\n
 \n
 See in schedule: https://datatracker.ietf.org/meeting/88/agenda#row-88-2013-11-07-thu-1520-rtg-sfc\n
END:VEVENT
END:VCALENDAR
