BEGIN:VCALENDAR
VERSION:2.0
METHOD:PUBLISH
PRODID:-//IETF//datatracker.ietf.org ical agenda//EN
BEGIN:VTIMEZONE
TZID:America/Vancouver
X-LIC-LOCATION:America/Vancouver
BEGIN:DAYLIGHT
TZOFFSETFROM:-0800
TZOFFSETTO:-0700
TZNAME:PDT
DTSTART:20070311T020000
RRULE:FREQ=YEARLY;BYMONTH=3;BYDAY=2SU
END:DAYLIGHT
BEGIN:STANDARD
TZOFFSETFROM:-0700
TZOFFSETTO:-0800
TZNAME:PST
DTSTART:20071104T020000
RRULE:FREQ=YEARLY;BYMONTH=11;BYDAY=1SU
END:STANDARD
BEGIN:STANDARD
TZOFFSETFROM:-081228
TZOFFSETTO:-0800
TZNAME:PST
DTSTART:18840101T000000
RDATE:18840101T000000
END:STANDARD
BEGIN:DAYLIGHT
TZOFFSETFROM:-0800
TZOFFSETTO:-0700
TZNAME:PDT
DTSTART:19180414T020000
RDATE:19180414T020000
RDATE:19460428T020000
RDATE:19470427T020000
RDATE:19480425T020000
RDATE:19490424T020000
RDATE:19500430T020000
RDATE:19510429T020000
RDATE:19520427T020000
RDATE:19530426T020000
RDATE:19540425T020000
RDATE:19550424T020000
RDATE:19560429T020000
RDATE:19570428T020000
RDATE:19580427T020000
RDATE:19590426T020000
RDATE:19600424T020000
RDATE:19610430T020000
RDATE:19620429T020000
RDATE:19630428T020000
RDATE:19640426T020000
RDATE:19650425T020000
RDATE:19660424T020000
RDATE:19670430T020000
RDATE:19680428T020000
RDATE:19690427T020000
RDATE:19700426T020000
RDATE:19710425T020000
RDATE:19720430T020000
RDATE:19730429T020000
RDATE:19740428T020000
RDATE:19750427T020000
RDATE:19760425T020000
RDATE:19770424T020000
RDATE:19780430T020000
RDATE:19790429T020000
RDATE:19800427T020000
RDATE:19810426T020000
RDATE:19820425T020000
RDATE:19830424T020000
RDATE:19840429T020000
RDATE:19850428T020000
RDATE:19860427T020000
RDATE:19870405T020000
RDATE:19880403T020000
RDATE:19890402T020000
RDATE:19900401T020000
RDATE:19910407T020000
RDATE:19920405T020000
RDATE:19930404T020000
RDATE:19940403T020000
RDATE:19950402T020000
RDATE:19960407T020000
RDATE:19970406T020000
RDATE:19980405T020000
RDATE:19990404T020000
RDATE:20000402T020000
RDATE:20010401T020000
RDATE:20020407T020000
RDATE:20030406T020000
RDATE:20040404T020000
RDATE:20050403T020000
RDATE:20060402T020000
END:DAYLIGHT
BEGIN:STANDARD
TZOFFSETFROM:-0700
TZOFFSETTO:-0800
TZNAME:PST
DTSTART:19181027T020000
RDATE:19181027T020000
RDATE:19450930T020000
RDATE:19461013T020000
RDATE:19470928T020000
RDATE:19480926T020000
RDATE:19490925T020000
RDATE:19500924T020000
RDATE:19510930T020000
RDATE:19520928T020000
RDATE:19530927T020000
RDATE:19540926T020000
RDATE:19550925T020000
RDATE:19560930T020000
RDATE:19570929T020000
RDATE:19580928T020000
RDATE:19590927T020000
RDATE:19600925T020000
RDATE:19610924T020000
RDATE:19621028T020000
RDATE:19631027T020000
RDATE:19641025T020000
RDATE:19651031T020000
RDATE:19661030T020000
RDATE:19671029T020000
RDATE:19681027T020000
RDATE:19691026T020000
RDATE:19701025T020000
RDATE:19711031T020000
RDATE:19721029T020000
RDATE:19731028T020000
RDATE:19741027T020000
RDATE:19751026T020000
RDATE:19761031T020000
RDATE:19771030T020000
RDATE:19781029T020000
RDATE:19791028T020000
RDATE:19801026T020000
RDATE:19811025T020000
RDATE:19821031T020000
RDATE:19831030T020000
RDATE:19841028T020000
RDATE:19851027T020000
RDATE:19861026T020000
RDATE:19871025T020000
RDATE:19881030T020000
RDATE:19891029T020000
RDATE:19901028T020000
RDATE:19911027T020000
RDATE:19921025T020000
RDATE:19931031T020000
RDATE:19941030T020000
RDATE:19951029T020000
RDATE:19961027T020000
RDATE:19971026T020000
RDATE:19981025T020000
RDATE:19991031T020000
RDATE:20001029T020000
RDATE:20011028T020000
RDATE:20021027T020000
RDATE:20031026T020000
RDATE:20041031T020000
RDATE:20051030T020000
RDATE:20061029T020000
END:STANDARD
BEGIN:DAYLIGHT
TZOFFSETFROM:-0800
TZOFFSETTO:-0700
TZNAME:PWT
DTSTART:19420209T020000
RDATE:19420209T020000
END:DAYLIGHT
BEGIN:DAYLIGHT
TZOFFSETFROM:-0700
TZOFFSETTO:-0700
TZNAME:PPT
DTSTART:19450814T160000
RDATE:19450814T160000
END:DAYLIGHT
BEGIN:STANDARD
TZOFFSETFROM:-0800
TZOFFSETTO:-0800
TZNAME:PST
DTSTART:19870101T000000
RDATE:19870101T000000
END:STANDARD
END:VTIMEZONE
BEGIN:VEVENT
UID:ietf-88-4615-6man
SUMMARY:6man - IPv6 Maintenance
LOCATION:Regency D
STATUS:CONFIRMED
CLASS:PUBLIC
DTSTART;TZID=Canada/Pacific:20131104T090000
DTEND;TZID=Canada/Pacific:20131104T113000
DTSTAMP:20161222T095705Z
URL:https://datatracker.ietf.org/meeting/88/materials/agenda-88-6man
DESCRIPTION:Morning Session I\n
 \n
 Agenda https://datatracker.ietf.org/meeting/88/materials/agenda-88-6man\n
 \n
 Session materials: https://datatracker.ietf.org/meeting/88/session/6man\n
 \n
 See in schedule: https://datatracker.ietf.org/meeting/88/agenda#row-88-2013-11-04-mon-0900-int-6man\n
END:VEVENT
BEGIN:VEVENT
UID:ietf-88-4803-intarea
SUMMARY:intarea - Internet Area Working Group
LOCATION:Regency C
STATUS:CONFIRMED
CLASS:PUBLIC
DTSTART;TZID=Canada/Pacific:20131104T145000
DTEND;TZID=Canada/Pacific:20131104T172000
DTSTAMP:20161222T095705Z
URL:https://datatracker.ietf.org/meeting/88/materials/agenda-88-intarea
DESCRIPTION:Afternoon Session II\n
 \n
 Agenda https://datatracker.ietf.org/meeting/88/materials/agenda-88-intarea\n
 \n
 Session materials: https://datatracker.ietf.org/meeting/88/session/intarea\n
 \n
 See in schedule: https://datatracker.ietf.org/meeting/88/agenda#row-88-2013-11-04-mon-1450-int-intarea\n
END:VEVENT
BEGIN:VEVENT
UID:ietf-88-4740-netext
SUMMARY:netext - Network-Based Mobility Extensions
LOCATION:Plaza A
STATUS:CONFIRMED
CLASS:PUBLIC
DTSTART;TZID=Canada/Pacific:20131104T174000
DTEND;TZID=Canada/Pacific:20131104T194000
DTSTAMP:20161222T095705Z
URL:https://datatracker.ietf.org/meeting/88/materials/agenda-88-netext
DESCRIPTION:Afternoon Session III\n
 \n
 Agenda https://datatracker.ietf.org/meeting/88/materials/agenda-88-netext\n
 \n
 Session materials: https://datatracker.ietf.org/meeting/88/session/netext\n
 \n
 See in schedule: https://datatracker.ietf.org/meeting/88/agenda#row-88-2013-11-04-mon-1740-int-netext\n
END:VEVENT
BEGIN:VEVENT
UID:ietf-88-4576-dhc
SUMMARY:dhc - Dynamic Host Configuration
LOCATION:Plaza C
STATUS:CONFIRMED
CLASS:PUBLIC
DTSTART;TZID=Canada/Pacific:20131105T090000
DTEND;TZID=Canada/Pacific:20131105T113000
DTSTAMP:20161222T095705Z
URL:https://datatracker.ietf.org/meeting/88/materials/agenda-88-dhc
DESCRIPTION:Morning Session I\n
 \n
 Agenda https://datatracker.ietf.org/meeting/88/materials/agenda-88-dhc\n
 \n
 Session materials: https://datatracker.ietf.org/meeting/88/session/dhc\n
 \n
 See in schedule: https://datatracker.ietf.org/meeting/88/agenda#row-88-2013-11-05-tue-0900-int-dhc\n
END:VEVENT
BEGIN:VEVENT
UID:ietf-88-4812-geonet
SUMMARY:geonet - Internet-wide Geo-Networking
LOCATION:Regency B
STATUS:CONFIRMED
CLASS:PUBLIC
DTSTART;TZID=Canada/Pacific:20131105T130000
DTEND;TZID=Canada/Pacific:20131105T140000
DTSTAMP:20161222T095705Z
URL:https://datatracker.ietf.org/meeting/88/materials/agenda-88-geonet
DESCRIPTION:Afternoon Session I\n
 \n
 Agenda https://datatracker.ietf.org/meeting/88/materials/agenda-88-geonet\n
 \n
 Session materials: https://datatracker.ietf.org/meeting/88/session/geonet\n
 \n
 See in schedule: https://datatracker.ietf.org/meeting/88/agenda#row-88-2013-11-05-tue-1300-int-geonet\n
END:VEVENT
BEGIN:VEVENT
UID:ietf-88-4905-6tisch
SUMMARY:6tisch - IPv6 over the TSCH mode of IEEE 802.15.4e
LOCATION:Georgia B
STATUS:CONFIRMED
CLASS:PUBLIC
DTSTART;TZID=Canada/Pacific:20131105T142000
DTEND;TZID=Canada/Pacific:20131105T155000
DTSTAMP:20161222T095705Z
URL:https://datatracker.ietf.org/meeting/88/materials/agenda-88-6tisch
DESCRIPTION:Afternoon Session II\n
 \n
 Agenda https://datatracker.ietf.org/meeting/88/materials/agenda-88-6tisch\n
 \n
 Session materials: https://datatracker.ietf.org/meeting/88/session/6tisch\n
 \n
 See in schedule: https://datatracker.ietf.org/meeting/88/agenda#row-88-2013-11-05-tue-1420-int-6tisch\n
END:VEVENT
BEGIN:VEVENT
UID:ietf-88-4902-ntp
SUMMARY:ntp - Network Time Protocol (Combined with TICTOC)
LOCATION:Georgia A
STATUS:CONFIRMED
CLASS:PUBLIC
DTSTART;TZID=Canada/Pacific:20131105T142000
DTEND;TZID=Canada/Pacific:20131105T155000
DTSTAMP:20161222T095705Z
URL:https://datatracker.ietf.org/meeting/88/materials/agenda-88-ntp
DESCRIPTION:Afternoon Session II\n
 Note: Combined with TICTOC\n
 \n
 Agenda https://datatracker.ietf.org/meeting/88/materials/agenda-88-ntp\n
 \n
 Session materials: https://datatracker.ietf.org/meeting/88/session/ntp\n
 \n
 See in schedule: https://datatracker.ietf.org/meeting/88/agenda#row-88-2013-11-05-tue-1420-int-ntp\n
END:VEVENT
BEGIN:VEVENT
UID:ietf-88-4902-tictoc
SUMMARY:tictoc - Timing over IP Connection and Transfer of Clock (Combined with NTP)
LOCATION:Georgia A
STATUS:CONFIRMED
CLASS:PUBLIC
DTSTART;TZID=Canada/Pacific:20131105T142000
DTEND;TZID=Canada/Pacific:20131105T155000
DTSTAMP:20161222T095705Z
URL:https://datatracker.ietf.org/meeting/88/materials/agenda-88-tictoc
DESCRIPTION:Afternoon Session II\n
 Note: Combined with NTP\n
 \n
 Agenda https://datatracker.ietf.org/meeting/88/materials/agenda-88-tictoc\n
 \n
 Session materials: https://datatracker.ietf.org/meeting/88/session/tictoc\n
 \n
 See in schedule: https://datatracker.ietf.org/meeting/88/agenda#row-88-2013-11-05-tue-1420-int-tictoc\n
END:VEVENT
BEGIN:VEVENT
UID:ietf-88-4914-6lo
SUMMARY:6lo - IPv6 over Networks of Resource-constrained Nodes
LOCATION:Regency A
STATUS:CONFIRMED
CLASS:PUBLIC
DTSTART;TZID=Canada/Pacific:20131105T161000
DTEND;TZID=Canada/Pacific:20131105T184000
DTSTAMP:20161222T095705Z
URL:https://datatracker.ietf.org/meeting/88/materials/agenda-88-6lo
DESCRIPTION:Afternoon Session III\n
 \n
 Agenda https://datatracker.ietf.org/meeting/88/materials/agenda-88-6lo\n
 \n
 Session materials: https://datatracker.ietf.org/meeting/88/session/6lo\n
 \n
 See in schedule: https://datatracker.ietf.org/meeting/88/agenda#row-88-2013-11-05-tue-1610-int-6lo\n
END:VEVENT
BEGIN:VEVENT
UID:ietf-88-4916-softwire
SUMMARY:softwire - Softwires
LOCATION:Georgia B
STATUS:CONFIRMED
CLASS:PUBLIC
DTSTART;TZID=Canada/Pacific:20131105T161000
DTEND;TZID=Canada/Pacific:20131105T184000
DTSTAMP:20161222T095705Z
URL:https://datatracker.ietf.org/meeting/88/materials/agenda-88-softwire
DESCRIPTION:Afternoon Session III\n
 \n
 Agenda https://datatracker.ietf.org/meeting/88/materials/agenda-88-softwire\n
 \n
 Session materials: https://datatracker.ietf.org/meeting/88/session/softwire\n
 \n
 See in schedule: https://datatracker.ietf.org/meeting/88/agenda#row-88-2013-11-05-tue-1610-int-softwire\n
END:VEVENT
BEGIN:VEVENT
UID:ietf-88-4587-lwig
SUMMARY:lwig - Light-Weight Implementation Guidance
LOCATION:Plaza C
STATUS:CONFIRMED
CLASS:PUBLIC
DTSTART;TZID=Canada/Pacific:20131106T130000
DTEND;TZID=Canada/Pacific:20131106T153000
DTSTAMP:20161222T095705Z
URL:https://datatracker.ietf.org/meeting/88/materials/agenda-88-lwig
DESCRIPTION:Afternoon Session I\n
 \n
 Agenda https://datatracker.ietf.org/meeting/88/materials/agenda-88-lwig\n
 \n
 Session materials: https://datatracker.ietf.org/meeting/88/session/lwig\n
 \n
 See in schedule: https://datatracker.ietf.org/meeting/88/agenda#row-88-2013-11-06-wed-1300-int-lwig\n
END:VEVENT
BEGIN:VEVENT
UID:ietf-88-4923-trill
SUMMARY:trill - Transparent Interconnection of Lots of Links
LOCATION:Plaza C
STATUS:CONFIRMED
CLASS:PUBLIC
DTSTART;TZID=Canada/Pacific:20131106T155000
DTEND;TZID=Canada/Pacific:20131106T165000
DTSTAMP:20161222T095705Z
URL:https://datatracker.ietf.org/meeting/88/materials/agenda-88-trill
DESCRIPTION:Afternoon Session II\n
 \n
 Agenda https://datatracker.ietf.org/meeting/88/materials/agenda-88-trill\n
 \n
 Session materials: https://datatracker.ietf.org/meeting/88/session/trill\n
 \n
 See in schedule: https://datatracker.ietf.org/meeting/88/agenda#row-88-2013-11-06-wed-1550-int-trill\n
END:VEVENT
BEGIN:VEVENT
UID:ietf-88-4967-trill
SUMMARY:trill - Transparent Interconnection of Lots of Links
LOCATION:Plaza C
STATUS:CONFIRMED
CLASS:PUBLIC
DTSTART;TZID=Canada/Pacific:20131106T165000
DTEND;TZID=Canada/Pacific:20131106T172000
DTSTAMP:20161222T095705Z
URL:https://datatracker.ietf.org/meeting/88/materials/agenda-88-trill
DESCRIPTION:Afternoon Session III\n
 \n
 Agenda https://datatracker.ietf.org/meeting/88/materials/agenda-88-trill\n
 \n
 Session materials: https://datatracker.ietf.org/meeting/88/session/trill\n
 \n
 See in schedule: https://datatracker.ietf.org/meeting/88/agenda#row-88-2013-11-06-wed-1650-int-trill\n
END:VEVENT
BEGIN:VEVENT
UID:ietf-88-4870-homenet
SUMMARY:homenet - Home Networking
LOCATION:Regency D
STATUS:CONFIRMED
CLASS:PUBLIC
DTSTART;TZID=Canada/Pacific:20131107T090000
DTEND;TZID=Canada/Pacific:20131107T113000
DTSTAMP:20161222T095705Z
URL:https://datatracker.ietf.org/meeting/88/materials/agenda-88-homenet
DESCRIPTION:Morning Session I\n
 \n
 Agenda https://datatracker.ietf.org/meeting/88/materials/agenda-88-homenet\n
 \n
 Session materials: https://datatracker.ietf.org/meeting/88/session/homenet\n
 \n
 See in schedule: https://datatracker.ietf.org/meeting/88/agenda#row-88-2013-11-07-thu-0900-int-homenet\n
END:VEVENT
BEGIN:VEVENT
UID:ietf-88-4864-lisp
SUMMARY:lisp - Locator/ID Separation Protocol
LOCATION:Plaza C
STATUS:CONFIRMED
CLASS:PUBLIC
DTSTART;TZID=Canada/Pacific:20131107T090000
DTEND;TZID=Canada/Pacific:20131107T113000
DTSTAMP:20161222T095705Z
URL:https://datatracker.ietf.org/meeting/88/materials/agenda-88-lisp
DESCRIPTION:Morning Session I\n
 \n
 Agenda https://datatracker.ietf.org/meeting/88/materials/agenda-88-lisp\n
 \n
 Session materials: https://datatracker.ietf.org/meeting/88/session/lisp\n
 \n
 See in schedule: https://datatracker.ietf.org/meeting/88/agenda#row-88-2013-11-07-thu-0900-int-lisp\n
END:VEVENT
BEGIN:VEVENT
UID:ietf-88-4712-mif
SUMMARY:mif - Multiple Interfaces
LOCATION:Georgia B
STATUS:CONFIRMED
CLASS:PUBLIC
DTSTART;TZID=Canada/Pacific:20131107T130000
DTEND;TZID=Canada/Pacific:20131107T150000
DTSTAMP:20161222T095705Z
URL:https://datatracker.ietf.org/meeting/88/materials/agenda-88-mif
DESCRIPTION:Afternoon Session I\n
 \n
 Agenda https://datatracker.ietf.org/meeting/88/materials/agenda-88-mif\n
 \n
 Session materials: https://datatracker.ietf.org/meeting/88/session/mif\n
 \n
 See in schedule: https://datatracker.ietf.org/meeting/88/agenda#row-88-2013-11-07-thu-1300-int-mif\n
END:VEVENT
BEGIN:VEVENT
UID:ietf-88-4949-sunset4
SUMMARY:sunset4 - Sunsetting IPv4 (CANCELED)
LOCATION:Georgia B
STATUS:CANCELLED
CLASS:PUBLIC
DTSTART;TZID=Canada/Pacific:20131107T152000
DTEND;TZID=Canada/Pacific:20131107T172000
DTSTAMP:20161222T095705Z
DESCRIPTION:Afternoon Session II\n
 Note: CANCELED\n
 \n
 Session materials: https://datatracker.ietf.org/meeting/88/session/sunset4\n
 \n
 See in schedule: https://datatracker.ietf.org/meeting/88/agenda#row-88-2013-11-07-thu-1520-int-sunset4\n
END:VEVENT
BEGIN:VEVENT
UID:ietf-88-4720-dmm
SUMMARY:dmm - Distributed Mobility Management
LOCATION:Georgia A
STATUS:CONFIRMED
CLASS:PUBLIC
DTSTART;TZID=Canada/Pacific:20131108T090000
DTEND;TZID=Canada/Pacific:20131108T110000
DTSTAMP:20161222T095705Z
URL:https://datatracker.ietf.org/meeting/88/materials/agenda-88-dmm
DESCRIPTION:Morning Session I\n
 \n
 Agenda https://datatracker.ietf.org/meeting/88/materials/agenda-88-dmm\n
 \n
 Session materials: https://datatracker.ietf.org/meeting/88/session/dmm\n
 \n
 See in schedule: https://datatracker.ietf.org/meeting/88/agenda#row-88-2013-11-08-fri-0900-int-dmm\n
END:VEVENT
BEGIN:VEVENT
UID:ietf-88-4719-pcp
SUMMARY:pcp - Port Control Protocol
LOCATION:Plaza C
STATUS:CONFIRMED
CLASS:PUBLIC
DTSTART;TZID=Canada/Pacific:20131108T090000
DTEND;TZID=Canada/Pacific:20131108T110000
DTSTAMP:20161222T095705Z
URL:https://datatracker.ietf.org/meeting/88/materials/agenda-88-pcp
DESCRIPTION:Morning Session I\n
 \n
 Agenda https://datatracker.ietf.org/meeting/88/materials/agenda-88-pcp\n
 \n
 Session materials: https://datatracker.ietf.org/meeting/88/session/pcp\n
 \n
 See in schedule: https://datatracker.ietf.org/meeting/88/agenda#row-88-2013-11-08-fri-0900-int-pcp\n
END:VEVENT
BEGIN:VEVENT
UID:ietf-88-4549-dnssd
SUMMARY:dnssd - Extensions for Scalable DNS Service Discovery 
LOCATION:Regency D
STATUS:CONFIRMED
CLASS:PUBLIC
DTSTART;TZID=Canada/Pacific:20131108T112000
DTEND;TZID=Canada/Pacific:20131108T122000
DTSTAMP:20161222T095705Z
URL:https://datatracker.ietf.org/meeting/88/materials/agenda-88-dnssd
DESCRIPTION:Afternoon Session I\n
 \n
 Agenda https://datatracker.ietf.org/meeting/88/materials/agenda-88-dnssd\n
 \n
 Session materials: https://datatracker.ietf.org/meeting/88/session/dnssd\n
 \n
 See in schedule: https://datatracker.ietf.org/meeting/88/agenda#row-88-2013-11-08-fri-1120-int-dnssd\n
END:VEVENT
BEGIN:VEVENT
UID:ietf-88-4736-dnssd
SUMMARY:dnssd - Extensions for Scalable DNS Service Discovery 
LOCATION:Regency D
STATUS:CONFIRMED
CLASS:PUBLIC
DTSTART;TZID=Canada/Pacific:20131108T123000
DTEND;TZID=Canada/Pacific:20131108T133000
DTSTAMP:20161222T095705Z
URL:https://datatracker.ietf.org/meeting/88/materials/agenda-88-dnssd
DESCRIPTION:Afternoon Session II\n
 \n
 Agenda https://datatracker.ietf.org/meeting/88/materials/agenda-88-dnssd\n
 \n
 Session materials: https://datatracker.ietf.org/meeting/88/session/dnssd\n
 \n
 See in schedule: https://datatracker.ietf.org/meeting/88/agenda#row-88-2013-11-08-fri-1230-int-dnssd\n
END:VEVENT
END:VCALENDAR
