BEGIN:VCALENDAR
VERSION:2.0
METHOD:PUBLISH
PRODID:-//IETF//datatracker.ietf.org ical agenda//EN
BEGIN:VTIMEZONE
TZID:America/Vancouver
X-LIC-LOCATION:America/Vancouver
BEGIN:DAYLIGHT
TZOFFSETFROM:-0800
TZOFFSETTO:-0700
TZNAME:PDT
DTSTART:20070311T020000
RRULE:FREQ=YEARLY;BYMONTH=3;BYDAY=2SU
END:DAYLIGHT
BEGIN:STANDARD
TZOFFSETFROM:-0700
TZOFFSETTO:-0800
TZNAME:PST
DTSTART:20071104T020000
RRULE:FREQ=YEARLY;BYMONTH=11;BYDAY=1SU
END:STANDARD
BEGIN:STANDARD
TZOFFSETFROM:-081228
TZOFFSETTO:-0800
TZNAME:PST
DTSTART:18840101T000000
RDATE:18840101T000000
END:STANDARD
BEGIN:DAYLIGHT
TZOFFSETFROM:-0800
TZOFFSETTO:-0700
TZNAME:PDT
DTSTART:19180414T020000
RDATE:19180414T020000
RDATE:19460428T020000
RDATE:19470427T020000
RDATE:19480425T020000
RDATE:19490424T020000
RDATE:19500430T020000
RDATE:19510429T020000
RDATE:19520427T020000
RDATE:19530426T020000
RDATE:19540425T020000
RDATE:19550424T020000
RDATE:19560429T020000
RDATE:19570428T020000
RDATE:19580427T020000
RDATE:19590426T020000
RDATE:19600424T020000
RDATE:19610430T020000
RDATE:19620429T020000
RDATE:19630428T020000
RDATE:19640426T020000
RDATE:19650425T020000
RDATE:19660424T020000
RDATE:19670430T020000
RDATE:19680428T020000
RDATE:19690427T020000
RDATE:19700426T020000
RDATE:19710425T020000
RDATE:19720430T020000
RDATE:19730429T020000
RDATE:19740428T020000
RDATE:19750427T020000
RDATE:19760425T020000
RDATE:19770424T020000
RDATE:19780430T020000
RDATE:19790429T020000
RDATE:19800427T020000
RDATE:19810426T020000
RDATE:19820425T020000
RDATE:19830424T020000
RDATE:19840429T020000
RDATE:19850428T020000
RDATE:19860427T020000
RDATE:19870405T020000
RDATE:19880403T020000
RDATE:19890402T020000
RDATE:19900401T020000
RDATE:19910407T020000
RDATE:19920405T020000
RDATE:19930404T020000
RDATE:19940403T020000
RDATE:19950402T020000
RDATE:19960407T020000
RDATE:19970406T020000
RDATE:19980405T020000
RDATE:19990404T020000
RDATE:20000402T020000
RDATE:20010401T020000
RDATE:20020407T020000
RDATE:20030406T020000
RDATE:20040404T020000
RDATE:20050403T020000
RDATE:20060402T020000
END:DAYLIGHT
BEGIN:STANDARD
TZOFFSETFROM:-0700
TZOFFSETTO:-0800
TZNAME:PST
DTSTART:19181027T020000
RDATE:19181027T020000
RDATE:19450930T020000
RDATE:19461013T020000
RDATE:19470928T020000
RDATE:19480926T020000
RDATE:19490925T020000
RDATE:19500924T020000
RDATE:19510930T020000
RDATE:19520928T020000
RDATE:19530927T020000
RDATE:19540926T020000
RDATE:19550925T020000
RDATE:19560930T020000
RDATE:19570929T020000
RDATE:19580928T020000
RDATE:19590927T020000
RDATE:19600925T020000
RDATE:19610924T020000
RDATE:19621028T020000
RDATE:19631027T020000
RDATE:19641025T020000
RDATE:19651031T020000
RDATE:19661030T020000
RDATE:19671029T020000
RDATE:19681027T020000
RDATE:19691026T020000
RDATE:19701025T020000
RDATE:19711031T020000
RDATE:19721029T020000
RDATE:19731028T020000
RDATE:19741027T020000
RDATE:19751026T020000
RDATE:19761031T020000
RDATE:19771030T020000
RDATE:19781029T020000
RDATE:19791028T020000
RDATE:19801026T020000
RDATE:19811025T020000
RDATE:19821031T020000
RDATE:19831030T020000
RDATE:19841028T020000
RDATE:19851027T020000
RDATE:19861026T020000
RDATE:19871025T020000
RDATE:19881030T020000
RDATE:19891029T020000
RDATE:19901028T020000
RDATE:19911027T020000
RDATE:19921025T020000
RDATE:19931031T020000
RDATE:19941030T020000
RDATE:19951029T020000
RDATE:19961027T020000
RDATE:19971026T020000
RDATE:19981025T020000
RDATE:19991031T020000
RDATE:20001029T020000
RDATE:20011028T020000
RDATE:20021027T020000
RDATE:20031026T020000
RDATE:20041031T020000
RDATE:20051030T020000
RDATE:20061029T020000
END:STANDARD
BEGIN:DAYLIGHT
TZOFFSETFROM:-0800
TZOFFSETTO:-0700
TZNAME:PWT
DTSTART:19420209T020000
RDATE:19420209T020000
END:DAYLIGHT
BEGIN:DAYLIGHT
TZOFFSETFROM:-0700
TZOFFSETTO:-0700
TZNAME:PPT
DTSTART:19450814T160000
RDATE:19450814T160000
END:DAYLIGHT
BEGIN:STANDARD
TZOFFSETFROM:-0800
TZOFFSETTO:-0800
TZNAME:PST
DTSTART:19870101T000000
RDATE:19870101T000000
END:STANDARD
END:VTIMEZONE
BEGIN:VEVENT
UID:ietf-88-4790-dice
SUMMARY:dice - DTLS In Constrained Environments
LOCATION:Regency B
STATUS:CONFIRMED
CLASS:PUBLIC
DTSTART;TZID=Canada/Pacific:20131104T130000
DTEND;TZID=Canada/Pacific:20131104T143000
DTSTAMP:20161222T095705Z
URL:https://datatracker.ietf.org/meeting/88/materials/agenda-88-dice
DESCRIPTION:Afternoon Session I\n
 \n
 Agenda https://datatracker.ietf.org/meeting/88/materials/agenda-88-dice\n
 \n
 Session materials: https://datatracker.ietf.org/meeting/88/session/dice\n
 \n
 See in schedule: https://datatracker.ietf.org/meeting/88/agenda#row-88-2013-11-04-mon-1300-sec-dice\n
END:VEVENT
BEGIN:VEVENT
UID:ietf-88-4800-ipsecme
SUMMARY:ipsecme - IP Security Maintenance and Extensions
LOCATION:Regency A
STATUS:CONFIRMED
CLASS:PUBLIC
DTSTART;TZID=Canada/Pacific:20131104T145000
DTEND;TZID=Canada/Pacific:20131104T172000
DTSTAMP:20161222T095705Z
URL:https://datatracker.ietf.org/meeting/88/materials/agenda-88-ipsecme
DESCRIPTION:Afternoon Session II\n
 \n
 Agenda https://datatracker.ietf.org/meeting/88/materials/agenda-88-ipsecme\n
 \n
 Session materials: https://datatracker.ietf.org/meeting/88/session/ipsecme\n
 \n
 See in schedule: https://datatracker.ietf.org/meeting/88/agenda#row-88-2013-11-04-mon-1450-sec-ipsecme\n
END:VEVENT
BEGIN:VEVENT
UID:ietf-88-4798-oauth
SUMMARY:oauth - Web Authorization Protocol
LOCATION:Plaza C
STATUS:CONFIRMED
CLASS:PUBLIC
DTSTART;TZID=Canada/Pacific:20131104T145000
DTEND;TZID=Canada/Pacific:20131104T172000
DTSTAMP:20161222T095705Z
URL:https://datatracker.ietf.org/meeting/88/materials/agenda-88-oauth
DESCRIPTION:Afternoon Session II\n
 \n
 Agenda https://datatracker.ietf.org/meeting/88/materials/agenda-88-oauth\n
 \n
 Session materials: https://datatracker.ietf.org/meeting/88/session/oauth\n
 \n
 See in schedule: https://datatracker.ietf.org/meeting/88/agenda#row-88-2013-11-04-mon-1450-sec-oauth\n
END:VEVENT
BEGIN:VEVENT
UID:ietf-88-4744-sacm
SUMMARY:sacm - Security Automation and Continuous Monitoring
LOCATION:Regency B
STATUS:CONFIRMED
CLASS:PUBLIC
DTSTART;TZID=Canada/Pacific:20131104T174000
DTEND;TZID=Canada/Pacific:20131104T194000
DTSTAMP:20161222T095705Z
URL:https://datatracker.ietf.org/meeting/88/materials/agenda-88-sacm
DESCRIPTION:Afternoon Session III\n
 \n
 Agenda https://datatracker.ietf.org/meeting/88/materials/agenda-88-sacm\n
 \n
 Session materials: https://datatracker.ietf.org/meeting/88/session/sacm\n
 \n
 See in schedule: https://datatracker.ietf.org/meeting/88/agenda#row-88-2013-11-04-mon-1740-sec-sacm\n
END:VEVENT
BEGIN:VEVENT
UID:ietf-88-4913-tls
SUMMARY:tls - Transport Layer Security
LOCATION:Georgia A
STATUS:CONFIRMED
CLASS:PUBLIC
DTSTART;TZID=Canada/Pacific:20131105T161000
DTEND;TZID=Canada/Pacific:20131105T184000
DTSTAMP:20161222T095705Z
URL:https://datatracker.ietf.org/meeting/88/materials/agenda-88-tls
DESCRIPTION:Afternoon Session III\n
 \n
 Agenda https://datatracker.ietf.org/meeting/88/materials/agenda-88-tls\n
 \n
 Session materials: https://datatracker.ietf.org/meeting/88/session/tls\n
 \n
 See in schedule: https://datatracker.ietf.org/meeting/88/agenda#row-88-2013-11-05-tue-1610-sec-tls\n
END:VEVENT
BEGIN:VEVENT
UID:ietf-88-4593-perpass
SUMMARY:perpass - Handling Pervasive Monitoring in the IETF 
LOCATION:Regency D
STATUS:CONFIRMED
CLASS:PUBLIC
DTSTART;TZID=Canada/Pacific:20131106T130000
DTEND;TZID=Canada/Pacific:20131106T153000
DTSTAMP:20161222T095705Z
URL:https://datatracker.ietf.org/meeting/88/materials/agenda-88-perpass
DESCRIPTION:Afternoon Session I\n
 \n
 Agenda https://datatracker.ietf.org/meeting/88/materials/agenda-88-perpass\n
 \n
 Session materials: https://datatracker.ietf.org/meeting/88/session/perpass\n
 \n
 See in schedule: https://datatracker.ietf.org/meeting/88/agenda#row-88-2013-11-06-wed-1300-sec-perpass\n
END:VEVENT
BEGIN:VEVENT
UID:ietf-88-4865-jose
SUMMARY:jose - Javascript Object Signing and Encryption
LOCATION:Georgia A
STATUS:CONFIRMED
CLASS:PUBLIC
DTSTART;TZID=Canada/Pacific:20131107T090000
DTEND;TZID=Canada/Pacific:20131107T113000
DTSTAMP:20161222T095705Z
URL:https://datatracker.ietf.org/meeting/88/materials/agenda-88-jose
DESCRIPTION:Morning Session I\n
 \n
 Agenda https://datatracker.ietf.org/meeting/88/materials/agenda-88-jose\n
 \n
 Session materials: https://datatracker.ietf.org/meeting/88/session/jose\n
 \n
 See in schedule: https://datatracker.ietf.org/meeting/88/agenda#row-88-2013-11-07-thu-0900-sec-jose\n
END:VEVENT
BEGIN:VEVENT
UID:ietf-88-4714-saag
SUMMARY:saag - Security Area Open Meeting
LOCATION:Regency D
STATUS:CONFIRMED
CLASS:PUBLIC
DTSTART;TZID=Canada/Pacific:20131107T130000
DTEND;TZID=Canada/Pacific:20131107T150000
DTSTAMP:20161222T095705Z
URL:https://datatracker.ietf.org/meeting/88/materials/agenda-88-saag
DESCRIPTION:Afternoon Session I\n
 \n
 Agenda https://datatracker.ietf.org/meeting/88/materials/agenda-88-saag\n
 \n
 Session materials: https://datatracker.ietf.org/meeting/88/session/saag\n
 \n
 See in schedule: https://datatracker.ietf.org/meeting/88/agenda#row-88-2013-11-07-thu-1300-sec-saag\n
END:VEVENT
BEGIN:VEVENT
UID:ietf-88-4944-kitten
SUMMARY:kitten - Common Authentication Technology Next Generation
LOCATION:Plaza A
STATUS:CONFIRMED
CLASS:PUBLIC
DTSTART;TZID=Canada/Pacific:20131107T152000
DTEND;TZID=Canada/Pacific:20131107T172000
DTSTAMP:20161222T095705Z
URL:https://datatracker.ietf.org/meeting/88/materials/agenda-88-kitten
DESCRIPTION:Afternoon Session II\n
 \n
 Agenda https://datatracker.ietf.org/meeting/88/materials/agenda-88-kitten\n
 \n
 Session materials: https://datatracker.ietf.org/meeting/88/session/kitten\n
 \n
 See in schedule: https://datatracker.ietf.org/meeting/88/agenda#row-88-2013-11-07-thu-1520-sec-kitten\n
END:VEVENT
BEGIN:VEVENT
UID:ietf-88-4955-abfab
SUMMARY:abfab - Application Bridging for Federated Access Beyond web
LOCATION:Plaza A
STATUS:CONFIRMED
CLASS:PUBLIC
DTSTART;TZID=Canada/Pacific:20131107T173000
DTEND;TZID=Canada/Pacific:20131107T183000
DTSTAMP:20161222T095705Z
URL:https://datatracker.ietf.org/meeting/88/materials/agenda-88-abfab
DESCRIPTION:Afternoon Session III\n
 \n
 Agenda https://datatracker.ietf.org/meeting/88/materials/agenda-88-abfab\n
 \n
 Session materials: https://datatracker.ietf.org/meeting/88/session/abfab\n
 \n
 See in schedule: https://datatracker.ietf.org/meeting/88/agenda#row-88-2013-11-07-thu-1730-sec-abfab\n
END:VEVENT
BEGIN:VEVENT
UID:ietf-88-4723-httpauth
SUMMARY:httpauth - Hypertext Transfer Protocol Authentication
LOCATION:Georgia B
STATUS:CONFIRMED
CLASS:PUBLIC
DTSTART;TZID=Canada/Pacific:20131108T090000
DTEND;TZID=Canada/Pacific:20131108T110000
DTSTAMP:20161222T095705Z
URL:https://datatracker.ietf.org/meeting/88/materials/agenda-88-httpauth
DESCRIPTION:Morning Session I\n
 \n
 Agenda https://datatracker.ietf.org/meeting/88/materials/agenda-88-httpauth\n
 \n
 Session materials: https://datatracker.ietf.org/meeting/88/session/httpauth\n
 \n
 See in schedule: https://datatracker.ietf.org/meeting/88/agenda#row-88-2013-11-08-fri-0900-sec-httpauth\n
END:VEVENT
END:VCALENDAR
