BEGIN:VCALENDAR
VERSION:2.0
METHOD:PUBLISH
PRODID:-//IETF//datatracker.ietf.org ical agenda//EN
BEGIN:VTIMEZONE
TZID:America/Vancouver
X-LIC-LOCATION:America/Vancouver
BEGIN:DAYLIGHT
TZOFFSETFROM:-0800
TZOFFSETTO:-0700
TZNAME:PDT
DTSTART:20070311T020000
RRULE:FREQ=YEARLY;BYMONTH=3;BYDAY=2SU
END:DAYLIGHT
BEGIN:STANDARD
TZOFFSETFROM:-0700
TZOFFSETTO:-0800
TZNAME:PST
DTSTART:20071104T020000
RRULE:FREQ=YEARLY;BYMONTH=11;BYDAY=1SU
END:STANDARD
BEGIN:STANDARD
TZOFFSETFROM:-081228
TZOFFSETTO:-0800
TZNAME:PST
DTSTART:18840101T000000
RDATE:18840101T000000
END:STANDARD
BEGIN:DAYLIGHT
TZOFFSETFROM:-0800
TZOFFSETTO:-0700
TZNAME:PDT
DTSTART:19180414T020000
RDATE:19180414T020000
RDATE:19460428T020000
RDATE:19470427T020000
RDATE:19480425T020000
RDATE:19490424T020000
RDATE:19500430T020000
RDATE:19510429T020000
RDATE:19520427T020000
RDATE:19530426T020000
RDATE:19540425T020000
RDATE:19550424T020000
RDATE:19560429T020000
RDATE:19570428T020000
RDATE:19580427T020000
RDATE:19590426T020000
RDATE:19600424T020000
RDATE:19610430T020000
RDATE:19620429T020000
RDATE:19630428T020000
RDATE:19640426T020000
RDATE:19650425T020000
RDATE:19660424T020000
RDATE:19670430T020000
RDATE:19680428T020000
RDATE:19690427T020000
RDATE:19700426T020000
RDATE:19710425T020000
RDATE:19720430T020000
RDATE:19730429T020000
RDATE:19740428T020000
RDATE:19750427T020000
RDATE:19760425T020000
RDATE:19770424T020000
RDATE:19780430T020000
RDATE:19790429T020000
RDATE:19800427T020000
RDATE:19810426T020000
RDATE:19820425T020000
RDATE:19830424T020000
RDATE:19840429T020000
RDATE:19850428T020000
RDATE:19860427T020000
RDATE:19870405T020000
RDATE:19880403T020000
RDATE:19890402T020000
RDATE:19900401T020000
RDATE:19910407T020000
RDATE:19920405T020000
RDATE:19930404T020000
RDATE:19940403T020000
RDATE:19950402T020000
RDATE:19960407T020000
RDATE:19970406T020000
RDATE:19980405T020000
RDATE:19990404T020000
RDATE:20000402T020000
RDATE:20010401T020000
RDATE:20020407T020000
RDATE:20030406T020000
RDATE:20040404T020000
RDATE:20050403T020000
RDATE:20060402T020000
END:DAYLIGHT
BEGIN:STANDARD
TZOFFSETFROM:-0700
TZOFFSETTO:-0800
TZNAME:PST
DTSTART:19181027T020000
RDATE:19181027T020000
RDATE:19450930T020000
RDATE:19461013T020000
RDATE:19470928T020000
RDATE:19480926T020000
RDATE:19490925T020000
RDATE:19500924T020000
RDATE:19510930T020000
RDATE:19520928T020000
RDATE:19530927T020000
RDATE:19540926T020000
RDATE:19550925T020000
RDATE:19560930T020000
RDATE:19570929T020000
RDATE:19580928T020000
RDATE:19590927T020000
RDATE:19600925T020000
RDATE:19610924T020000
RDATE:19621028T020000
RDATE:19631027T020000
RDATE:19641025T020000
RDATE:19651031T020000
RDATE:19661030T020000
RDATE:19671029T020000
RDATE:19681027T020000
RDATE:19691026T020000
RDATE:19701025T020000
RDATE:19711031T020000
RDATE:19721029T020000
RDATE:19731028T020000
RDATE:19741027T020000
RDATE:19751026T020000
RDATE:19761031T020000
RDATE:19771030T020000
RDATE:19781029T020000
RDATE:19791028T020000
RDATE:19801026T020000
RDATE:19811025T020000
RDATE:19821031T020000
RDATE:19831030T020000
RDATE:19841028T020000
RDATE:19851027T020000
RDATE:19861026T020000
RDATE:19871025T020000
RDATE:19881030T020000
RDATE:19891029T020000
RDATE:19901028T020000
RDATE:19911027T020000
RDATE:19921025T020000
RDATE:19931031T020000
RDATE:19941030T020000
RDATE:19951029T020000
RDATE:19961027T020000
RDATE:19971026T020000
RDATE:19981025T020000
RDATE:19991031T020000
RDATE:20001029T020000
RDATE:20011028T020000
RDATE:20021027T020000
RDATE:20031026T020000
RDATE:20041031T020000
RDATE:20051030T020000
RDATE:20061029T020000
END:STANDARD
BEGIN:DAYLIGHT
TZOFFSETFROM:-0800
TZOFFSETTO:-0700
TZNAME:PWT
DTSTART:19420209T020000
RDATE:19420209T020000
END:DAYLIGHT
BEGIN:DAYLIGHT
TZOFFSETFROM:-0700
TZOFFSETTO:-0700
TZNAME:PPT
DTSTART:19450814T160000
RDATE:19450814T160000
END:DAYLIGHT
BEGIN:STANDARD
TZOFFSETFROM:-0800
TZOFFSETTO:-0800
TZNAME:PST
DTSTART:19870101T000000
RDATE:19870101T000000
END:STANDARD
END:VTIMEZONE
BEGIN:VEVENT
UID:ietf-88-4611-tcpm
SUMMARY:tcpm - TCP Maintenance and Minor Extensions
LOCATION:Regency A
STATUS:CONFIRMED
CLASS:PUBLIC
DTSTART;TZID=Canada/Pacific:20131104T090000
DTEND;TZID=Canada/Pacific:20131104T113000
DTSTAMP:20161222T095705Z
URL:https://datatracker.ietf.org/meeting/88/materials/agenda-88-tcpm
DESCRIPTION:Morning Session I\n
 \n
 Agenda https://datatracker.ietf.org/meeting/88/materials/agenda-88-tcpm\n
 \n
 Session materials: https://datatracker.ietf.org/meeting/88/session/tcpm\n
 \n
 See in schedule: https://datatracker.ietf.org/meeting/88/agenda#row-88-2013-11-04-mon-0900-tsv-tcpm\n
END:VEVENT
BEGIN:VEVENT
UID:ietf-88-4745-alto
SUMMARY:alto - Application-Layer Traffic Optimization
LOCATION:Georgia B
STATUS:CONFIRMED
CLASS:PUBLIC
DTSTART;TZID=Canada/Pacific:20131104T174000
DTEND;TZID=Canada/Pacific:20131104T194000
DTSTAMP:20161222T095705Z
URL:https://datatracker.ietf.org/meeting/88/materials/agenda-88-alto
DESCRIPTION:Afternoon Session III\n
 \n
 Agenda https://datatracker.ietf.org/meeting/88/materials/agenda-88-alto\n
 \n
 Session materials: https://datatracker.ietf.org/meeting/88/session/alto\n
 \n
 See in schedule: https://datatracker.ietf.org/meeting/88/agenda#row-88-2013-11-04-mon-1740-tsv-alto\n
END:VEVENT
BEGIN:VEVENT
UID:ietf-88-4742-mptcp
SUMMARY:mptcp - Multipath TCP
LOCATION:Georgia A
STATUS:CONFIRMED
CLASS:PUBLIC
DTSTART;TZID=Canada/Pacific:20131104T174000
DTEND;TZID=Canada/Pacific:20131104T194000
DTSTAMP:20161222T095705Z
URL:https://datatracker.ietf.org/meeting/88/materials/agenda-88-mptcp
DESCRIPTION:Afternoon Session III\n
 \n
 Agenda https://datatracker.ietf.org/meeting/88/materials/agenda-88-mptcp\n
 \n
 Session materials: https://datatracker.ietf.org/meeting/88/session/mptcp\n
 \n
 See in schedule: https://datatracker.ietf.org/meeting/88/agenda#row-88-2013-11-04-mon-1740-tsv-mptcp\n
END:VEVENT
BEGIN:VEVENT
UID:ietf-88-4575-nfsv4
SUMMARY:nfsv4 - Network File System Version 4
LOCATION:Plaza A
STATUS:CONFIRMED
CLASS:PUBLIC
DTSTART;TZID=Canada/Pacific:20131105T090000
DTEND;TZID=Canada/Pacific:20131105T113000
DTSTAMP:20161222T095705Z
URL:https://datatracker.ietf.org/meeting/88/materials/agenda-88-nfsv4
DESCRIPTION:Morning Session I\n
 \n
 Agenda https://datatracker.ietf.org/meeting/88/materials/agenda-88-nfsv4\n
 \n
 Session materials: https://datatracker.ietf.org/meeting/88/session/nfsv4\n
 \n
 See in schedule: https://datatracker.ietf.org/meeting/88/agenda#row-88-2013-11-05-tue-0900-tsv-nfsv4\n
END:VEVENT
BEGIN:VEVENT
UID:ietf-88-4813-aqm
SUMMARY:aqm - Active Queue Management and Packet Scheduling
LOCATION:Georgia B
STATUS:CONFIRMED
CLASS:PUBLIC
DTSTART;TZID=Canada/Pacific:20131105T130000
DTEND;TZID=Canada/Pacific:20131105T140000
DTSTAMP:20161222T095705Z
URL:https://datatracker.ietf.org/meeting/88/materials/agenda-88-aqm
DESCRIPTION:Afternoon Session I\n
 \n
 Agenda https://datatracker.ietf.org/meeting/88/materials/agenda-88-aqm\n
 \n
 Session materials: https://datatracker.ietf.org/meeting/88/session/aqm\n
 \n
 See in schedule: https://datatracker.ietf.org/meeting/88/agenda#row-88-2013-11-05-tue-1300-tsv-aqm\n
END:VEVENT
BEGIN:VEVENT
UID:ietf-88-4904-tsvwg
SUMMARY:tsvwg - Transport Area Working Group
LOCATION:Regency B
STATUS:CONFIRMED
CLASS:PUBLIC
DTSTART;TZID=Canada/Pacific:20131105T142000
DTEND;TZID=Canada/Pacific:20131105T155000
DTSTAMP:20161222T095705Z
URL:https://datatracker.ietf.org/meeting/88/materials/agenda-88-tsvwg
DESCRIPTION:Afternoon Session II\n
 \n
 Agenda https://datatracker.ietf.org/meeting/88/materials/agenda-88-tsvwg\n
 \n
 Session materials: https://datatracker.ietf.org/meeting/88/session/tsvwg\n
 \n
 See in schedule: https://datatracker.ietf.org/meeting/88/agenda#row-88-2013-11-05-tue-1420-tsv-tsvwg\n
END:VEVENT
BEGIN:VEVENT
UID:ietf-88-4912-ppsp
SUMMARY:ppsp - Peer to Peer Streaming Protocol
LOCATION:Plaza C
STATUS:CONFIRMED
CLASS:PUBLIC
DTSTART;TZID=Canada/Pacific:20131105T161000
DTEND;TZID=Canada/Pacific:20131105T184000
DTSTAMP:20161222T095705Z
URL:https://datatracker.ietf.org/meeting/88/materials/agenda-88-ppsp
DESCRIPTION:Afternoon Session III\n
 \n
 Agenda https://datatracker.ietf.org/meeting/88/materials/agenda-88-ppsp\n
 \n
 Session materials: https://datatracker.ietf.org/meeting/88/session/ppsp\n
 \n
 See in schedule: https://datatracker.ietf.org/meeting/88/agenda#row-88-2013-11-05-tue-1610-tsv-ppsp\n
END:VEVENT
BEGIN:VEVENT
UID:ietf-88-4591-rmcat
SUMMARY:rmcat - RTP Media Congestion Avoidance Techniques
LOCATION:Georgia B
STATUS:CONFIRMED
CLASS:PUBLIC
DTSTART;TZID=Canada/Pacific:20131106T130000
DTEND;TZID=Canada/Pacific:20131106T153000
DTSTAMP:20161222T095705Z
URL:https://datatracker.ietf.org/meeting/88/materials/agenda-88-rmcat
DESCRIPTION:Afternoon Session I\n
 \n
 Agenda https://datatracker.ietf.org/meeting/88/materials/agenda-88-rmcat\n
 \n
 Session materials: https://datatracker.ietf.org/meeting/88/session/rmcat\n
 \n
 See in schedule: https://datatracker.ietf.org/meeting/88/agenda#row-88-2013-11-06-wed-1300-tsv-rmcat\n
END:VEVENT
BEGIN:VEVENT
UID:ietf-88-4926-mptcp
SUMMARY:mptcp - Multipath TCP
LOCATION:Regency B
STATUS:CONFIRMED
CLASS:PUBLIC
DTSTART;TZID=Canada/Pacific:20131106T155000
DTEND;TZID=Canada/Pacific:20131106T165000
DTSTAMP:20161222T095705Z
URL:https://datatracker.ietf.org/meeting/88/materials/agenda-88-mptcp
DESCRIPTION:Afternoon Session II\n
 \n
 Agenda https://datatracker.ietf.org/meeting/88/materials/agenda-88-mptcp\n
 \n
 Session materials: https://datatracker.ietf.org/meeting/88/session/mptcp\n
 \n
 See in schedule: https://datatracker.ietf.org/meeting/88/agenda#row-88-2013-11-06-wed-1550-tsv-mptcp\n
END:VEVENT
BEGIN:VEVENT
UID:ietf-88-4869-tsvarea
SUMMARY:tsvarea - Transport Area Open Meeting
LOCATION:Regency C
STATUS:CONFIRMED
CLASS:PUBLIC
DTSTART;TZID=Canada/Pacific:20131107T090000
DTEND;TZID=Canada/Pacific:20131107T113000
DTSTAMP:20161222T095705Z
URL:https://datatracker.ietf.org/meeting/88/materials/agenda-88-tsvarea
DESCRIPTION:Morning Session I\n
 \n
 Agenda https://datatracker.ietf.org/meeting/88/materials/agenda-88-tsvarea\n
 \n
 Session materials: https://datatracker.ietf.org/meeting/88/session/tsvarea\n
 \n
 See in schedule: https://datatracker.ietf.org/meeting/88/agenda#row-88-2013-11-07-thu-0900-tsv-tsvarea\n
END:VEVENT
BEGIN:VEVENT
UID:ietf-88-4710-ippm
SUMMARY:ippm - IP Performance Metrics
LOCATION:Regency A
STATUS:CONFIRMED
CLASS:PUBLIC
DTSTART;TZID=Canada/Pacific:20131107T130000
DTEND;TZID=Canada/Pacific:20131107T150000
DTSTAMP:20161222T095705Z
URL:https://datatracker.ietf.org/meeting/88/materials/agenda-88-ippm
DESCRIPTION:Afternoon Session I\n
 \n
 Agenda https://datatracker.ietf.org/meeting/88/materials/agenda-88-ippm\n
 \n
 Session materials: https://datatracker.ietf.org/meeting/88/session/ippm\n
 \n
 See in schedule: https://datatracker.ietf.org/meeting/88/agenda#row-88-2013-11-07-thu-1300-tsv-ippm\n
END:VEVENT
BEGIN:VEVENT
UID:ietf-88-4711-storm
SUMMARY:storm - STORage Maintenance
LOCATION:Regency B
STATUS:CONFIRMED
CLASS:PUBLIC
DTSTART;TZID=Canada/Pacific:20131107T130000
DTEND;TZID=Canada/Pacific:20131107T150000
DTSTAMP:20161222T095705Z
URL:https://datatracker.ietf.org/meeting/88/materials/agenda-88-storm
DESCRIPTION:Afternoon Session I\n
 \n
 Agenda https://datatracker.ietf.org/meeting/88/materials/agenda-88-storm\n
 \n
 Session materials: https://datatracker.ietf.org/meeting/88/session/storm\n
 \n
 See in schedule: https://datatracker.ietf.org/meeting/88/agenda#row-88-2013-11-07-thu-1300-tsv-storm\n
END:VEVENT
BEGIN:VEVENT
UID:ietf-88-4946-cdni
SUMMARY:cdni - Content Delivery Networks Interconnection
LOCATION:Georgia A
STATUS:CONFIRMED
CLASS:PUBLIC
DTSTART;TZID=Canada/Pacific:20131107T152000
DTEND;TZID=Canada/Pacific:20131107T172000
DTSTAMP:20161222T095705Z
URL:https://datatracker.ietf.org/meeting/88/materials/agenda-88-cdni
DESCRIPTION:Afternoon Session II\n
 \n
 Agenda https://datatracker.ietf.org/meeting/88/materials/agenda-88-cdni\n
 \n
 Session materials: https://datatracker.ietf.org/meeting/88/session/cdni\n
 \n
 See in schedule: https://datatracker.ietf.org/meeting/88/agenda#row-88-2013-11-07-thu-1520-tsv-cdni\n
END:VEVENT
BEGIN:VEVENT
UID:ietf-88-4722-tsvwg
SUMMARY:tsvwg - Transport Area Working Group
LOCATION:Regency B
STATUS:CONFIRMED
CLASS:PUBLIC
DTSTART;TZID=Canada/Pacific:20131108T090000
DTEND;TZID=Canada/Pacific:20131108T110000
DTSTAMP:20161222T095705Z
URL:https://datatracker.ietf.org/meeting/88/materials/agenda-88-tsvwg
DESCRIPTION:Morning Session I\n
 \n
 Agenda https://datatracker.ietf.org/meeting/88/materials/agenda-88-tsvwg\n
 \n
 Session materials: https://datatracker.ietf.org/meeting/88/session/tsvwg\n
 \n
 See in schedule: https://datatracker.ietf.org/meeting/88/agenda#row-88-2013-11-08-fri-0900-tsv-tsvwg\n
END:VEVENT
BEGIN:VEVENT
UID:ietf-88-4733-aqm
SUMMARY:aqm - Active Queue Management and Packet Scheduling
LOCATION:Regency B
STATUS:CONFIRMED
CLASS:PUBLIC
DTSTART;TZID=Canada/Pacific:20131108T123000
DTEND;TZID=Canada/Pacific:20131108T133000
DTSTAMP:20161222T095705Z
URL:https://datatracker.ietf.org/meeting/88/materials/agenda-88-aqm
DESCRIPTION:Afternoon Session II\n
 \n
 Agenda https://datatracker.ietf.org/meeting/88/materials/agenda-88-aqm\n
 \n
 Session materials: https://datatracker.ietf.org/meeting/88/session/aqm\n
 \n
 See in schedule: https://datatracker.ietf.org/meeting/88/agenda#row-88-2013-11-08-fri-1230-tsv-aqm\n
END:VEVENT
END:VCALENDAR
