BEGIN:VCALENDAR
VERSION:2.0
METHOD:PUBLISH
PRODID:-//IETF//datatracker.ietf.org ical agenda//EN
BEGIN:VTIMEZONE
TZID:Europe/London
X-LIC-LOCATION:Europe/London
BEGIN:DAYLIGHT
TZOFFSETFROM:+0000
TZOFFSETTO:+0100
TZNAME:BST
DTSTART:19810329T010000
RRULE:FREQ=YEARLY;BYMONTH=3;BYDAY=-1SU
END:DAYLIGHT
BEGIN:STANDARD
TZOFFSETFROM:+0100
TZOFFSETTO:+0000
TZNAME:GMT
DTSTART:19961027T020000
RRULE:FREQ=YEARLY;BYMONTH=10;BYDAY=-1SU
END:STANDARD
BEGIN:STANDARD
TZOFFSETFROM:-000115
TZOFFSETTO:+0000
TZNAME:GMT
DTSTART:18471201T000000
RDATE:18471201T000000
END:STANDARD
BEGIN:DAYLIGHT
TZOFFSETFROM:+0000
TZOFFSETTO:+0100
TZNAME:BST
DTSTART:19160521T020000
RDATE:19160521T020000
RDATE:19170408T020000
RDATE:19180324T020000
RDATE:19190330T020000
RDATE:19200328T020000
RDATE:19210403T020000
RDATE:19220326T020000
RDATE:19230422T020000
RDATE:19240413T020000
RDATE:19250419T020000
RDATE:19260418T020000
RDATE:19270410T020000
RDATE:19280422T020000
RDATE:19290421T020000
RDATE:19300413T020000
RDATE:19310419T020000
RDATE:19320417T020000
RDATE:19330409T020000
RDATE:19340422T020000
RDATE:19350414T020000
RDATE:19360419T020000
RDATE:19370418T020000
RDATE:19380410T020000
RDATE:19390416T020000
RDATE:19400225T020000
RDATE:19460414T020000
RDATE:19470316T020000
RDATE:19480314T020000
RDATE:19490403T020000
RDATE:19500416T020000
RDATE:19510415T020000
RDATE:19520420T020000
RDATE:19530419T020000
RDATE:19540411T020000
RDATE:19550417T020000
RDATE:19560422T020000
RDATE:19570414T020000
RDATE:19580420T020000
RDATE:19590419T020000
RDATE:19600410T020000
RDATE:19610326T020000
RDATE:19620325T020000
RDATE:19630331T020000
RDATE:19640322T020000
RDATE:19650321T020000
RDATE:19660320T020000
RDATE:19670319T020000
RDATE:19680218T020000
RDATE:19720319T020000
RDATE:19730318T020000
RDATE:19740317T020000
RDATE:19750316T020000
RDATE:19760321T020000
RDATE:19770320T020000
RDATE:19780319T020000
RDATE:19790318T020000
RDATE:19800316T020000
END:DAYLIGHT
BEGIN:STANDARD
TZOFFSETFROM:+0100
TZOFFSETTO:+0000
TZNAME:GMT
DTSTART:19161001T030000
RDATE:19161001T030000
RDATE:19170917T030000
RDATE:19180930T030000
RDATE:19190929T030000
RDATE:19201025T030000
RDATE:19211003T030000
RDATE:19221008T030000
RDATE:19230916T030000
RDATE:19240921T030000
RDATE:19251004T030000
RDATE:19261003T030000
RDATE:19271002T030000
RDATE:19281007T030000
RDATE:19291006T030000
RDATE:19301005T030000
RDATE:19311004T030000
RDATE:19321002T030000
RDATE:19331008T030000
RDATE:19341007T030000
RDATE:19351006T030000
RDATE:19361004T030000
RDATE:19371003T030000
RDATE:19381002T030000
RDATE:19391119T030000
RDATE:19451007T030000
RDATE:19461006T030000
RDATE:19471102T030000
RDATE:19481031T030000
RDATE:19491030T030000
RDATE:19501022T030000
RDATE:19511021T030000
RDATE:19521026T030000
RDATE:19531004T030000
RDATE:19541003T030000
RDATE:19551002T030000
RDATE:19561007T030000
RDATE:19571006T030000
RDATE:19581005T030000
RDATE:19591004T030000
RDATE:19601002T030000
RDATE:19611029T030000
RDATE:19621028T030000
RDATE:19631027T030000
RDATE:19641025T030000
RDATE:19651024T030000
RDATE:19661023T030000
RDATE:19671029T030000
RDATE:19711031T030000
RDATE:19721029T030000
RDATE:19731028T030000
RDATE:19741027T030000
RDATE:19751026T030000
RDATE:19761024T030000
RDATE:19771023T030000
RDATE:19781029T030000
RDATE:19791028T030000
RDATE:19801026T030000
RDATE:19811025T020000
RDATE:19821024T020000
RDATE:19831023T020000
RDATE:19841028T020000
RDATE:19851027T020000
RDATE:19861026T020000
RDATE:19871025T020000
RDATE:19881023T020000
RDATE:19891029T020000
RDATE:19901028T020000
RDATE:19911027T020000
RDATE:19921025T020000
RDATE:19931024T020000
RDATE:19941023T020000
RDATE:19951022T020000
END:STANDARD
BEGIN:DAYLIGHT
TZOFFSETFROM:+0100
TZOFFSETTO:+0200
TZNAME:BDST
DTSTART:19410504T020000
RDATE:19410504T020000
RDATE:19420405T020000
RDATE:19430404T020000
RDATE:19440402T020000
RDATE:19450402T020000
RDATE:19470413T020000
END:DAYLIGHT
BEGIN:DAYLIGHT
TZOFFSETFROM:+0200
TZOFFSETTO:+0100
TZNAME:BST
DTSTART:19410810T030000
RDATE:19410810T030000
RDATE:19420809T030000
RDATE:19430815T030000
RDATE:19440917T030000
RDATE:19450715T030000
RDATE:19470810T030000
END:DAYLIGHT
BEGIN:STANDARD
TZOFFSETFROM:+0100
TZOFFSETTO:+0100
TZNAME:BST
DTSTART:19681027T000000
RDATE:19681027T000000
END:STANDARD
BEGIN:STANDARD
TZOFFSETFROM:+0000
TZOFFSETTO:+0000
TZNAME:GMT
DTSTART:19960101T000000
RDATE:19960101T000000
END:STANDARD
END:VTIMEZONE
BEGIN:VEVENT
UID:ietf-89-5043-dhc
SUMMARY:dhc - Dynamic Host Configuration
LOCATION:Palace C
STATUS:CONFIRMED
CLASS:PUBLIC
DTSTART;TZID=Europe/London:20140303T090000
DTEND;TZID=Europe/London:20140303T113000
DTSTAMP:20161222T095705Z
URL:https://datatracker.ietf.org/meeting/89/materials/agenda-89-dhc
DESCRIPTION:Morning Session I\n
 \n
 Agenda https://datatracker.ietf.org/meeting/89/materials/agenda-89-dhc\n
 \n
 Session materials: https://datatracker.ietf.org/meeting/89/session/dhc\n
 \n
 See in schedule: https://datatracker.ietf.org/meeting/89/agenda#row-89-2014-03-03-mon-0900-int-dhc\n
END:VEVENT
BEGIN:VEVENT
UID:ietf-89-5059-dnssd
SUMMARY:dnssd - Extensions for Scalable DNS Service Discovery 
LOCATION:Sovereign
STATUS:CONFIRMED
CLASS:PUBLIC
DTSTART;TZID=Europe/London:20140303T130000
DTEND;TZID=Europe/London:20140303T150000
DTSTAMP:20161222T095705Z
URL:https://datatracker.ietf.org/meeting/89/materials/agenda-89-dnssd
DESCRIPTION:Afternoon Session I\n
 \n
 Agenda https://datatracker.ietf.org/meeting/89/materials/agenda-89-dnssd\n
 \n
 Session materials: https://datatracker.ietf.org/meeting/89/session/dnssd\n
 \n
 See in schedule: https://datatracker.ietf.org/meeting/89/agenda#row-89-2014-03-03-mon-1300-int-dnssd\n
END:VEVENT
BEGIN:VEVENT
UID:ietf-89-5224-lisp
SUMMARY:lisp - Locator/ID Separation Protocol
LOCATION:Park Suite
STATUS:CONFIRMED
CLASS:PUBLIC
DTSTART;TZID=Europe/London:20140303T152000
DTEND;TZID=Europe/London:20140303T162000
DTSTAMP:20161222T095705Z
URL:https://datatracker.ietf.org/meeting/89/materials/agenda-89-lisp
DESCRIPTION:Afternoon Session II\n
 \n
 Agenda https://datatracker.ietf.org/meeting/89/materials/agenda-89-lisp\n
 \n
 Session materials: https://datatracker.ietf.org/meeting/89/session/lisp\n
 \n
 See in schedule: https://datatracker.ietf.org/meeting/89/agenda#row-89-2014-03-03-mon-1520-int-lisp\n
END:VEVENT
BEGIN:VEVENT
UID:ietf-89-5074-lisp
SUMMARY:lisp - Locator/ID Separation Protocol
LOCATION:Park Suite
STATUS:CONFIRMED
CLASS:PUBLIC
DTSTART;TZID=Europe/London:20140303T163000
DTEND;TZID=Europe/London:20140303T173000
DTSTAMP:20161222T095705Z
URL:https://datatracker.ietf.org/meeting/89/materials/agenda-89-lisp
DESCRIPTION:Afternoon Session III\n
 \n
 Agenda https://datatracker.ietf.org/meeting/89/materials/agenda-89-lisp\n
 \n
 Session materials: https://datatracker.ietf.org/meeting/89/session/lisp\n
 \n
 See in schedule: https://datatracker.ietf.org/meeting/89/agenda#row-89-2014-03-03-mon-1630-int-lisp\n
END:VEVENT
BEGIN:VEVENT
UID:ietf-89-5089-homenet
SUMMARY:homenet - Home Networking
LOCATION:Sovereign
STATUS:CONFIRMED
CLASS:PUBLIC
DTSTART;TZID=Europe/London:20140304T090000
DTEND;TZID=Europe/London:20140304T113000
DTSTAMP:20161222T095705Z
URL:https://datatracker.ietf.org/meeting/89/materials/agenda-89-homenet
DESCRIPTION:Morning Session I\n
 \n
 Agenda https://datatracker.ietf.org/meeting/89/materials/agenda-89-homenet\n
 \n
 Session materials: https://datatracker.ietf.org/meeting/89/session/homenet\n
 \n
 See in schedule: https://datatracker.ietf.org/meeting/89/agenda#row-89-2014-03-04-tue-0900-int-homenet\n
END:VEVENT
BEGIN:VEVENT
UID:ietf-89-5098-intarea
SUMMARY:intarea - Internet Area Working Group
LOCATION:Viscount
STATUS:CONFIRMED
CLASS:PUBLIC
DTSTART;TZID=Europe/London:20140304T130000
DTEND;TZID=Europe/London:20140304T140000
DTSTAMP:20161222T095705Z
URL:https://datatracker.ietf.org/meeting/89/materials/agenda-89-intarea
DESCRIPTION:Afternoon Session I\n
 \n
 Agenda https://datatracker.ietf.org/meeting/89/materials/agenda-89-intarea\n
 \n
 Session materials: https://datatracker.ietf.org/meeting/89/session/intarea\n
 \n
 See in schedule: https://datatracker.ietf.org/meeting/89/agenda#row-89-2014-03-04-tue-1300-int-intarea\n
END:VEVENT
BEGIN:VEVENT
UID:ietf-89-5108-dnse
SUMMARY:dnse - Encryption of DNS requests for confidentiality
LOCATION:Viscount
STATUS:CONFIRMED
CLASS:PUBLIC
DTSTART;TZID=Europe/London:20140304T142000
DTEND;TZID=Europe/London:20140304T155000
DTSTAMP:20161222T095705Z
URL:https://datatracker.ietf.org/meeting/89/materials/agenda-89-dnse
DESCRIPTION:Afternoon Session II\n
 \n
 Agenda https://datatracker.ietf.org/meeting/89/materials/agenda-89-dnse\n
 \n
 Session materials: https://datatracker.ietf.org/meeting/89/session/dnse\n
 \n
 See in schedule: https://datatracker.ietf.org/meeting/89/agenda#row-89-2014-03-04-tue-1420-int-dnse\n
END:VEVENT
BEGIN:VEVENT
UID:ietf-89-5118-6man
SUMMARY:6man - IPv6 Maintenance
LOCATION:Viscount
STATUS:CONFIRMED
CLASS:PUBLIC
DTSTART;TZID=Europe/London:20140304T161000
DTEND;TZID=Europe/London:20140304T184000
DTSTAMP:20161222T095705Z
URL:https://datatracker.ietf.org/meeting/89/materials/agenda-89-6man
DESCRIPTION:Afternoon Session III\n
 \n
 Agenda https://datatracker.ietf.org/meeting/89/materials/agenda-89-6man\n
 \n
 Session materials: https://datatracker.ietf.org/meeting/89/session/6man\n
 \n
 See in schedule: https://datatracker.ietf.org/meeting/89/agenda#row-89-2014-03-04-tue-1610-int-6man\n
END:VEVENT
BEGIN:VEVENT
UID:ietf-89-5124-ntp
SUMMARY:ntp - Network Time Protocol (Combined with TICTOC)
LOCATION:Park Suite
STATUS:CONFIRMED
CLASS:PUBLIC
DTSTART;TZID=Europe/London:20140305T090000
DTEND;TZID=Europe/London:20140305T113000
DTSTAMP:20161222T095705Z
URL:https://datatracker.ietf.org/meeting/89/materials/agenda-89-ntp
DESCRIPTION:Morning Session I\n
 Note: Combined with TICTOC\n
 \n
 Agenda https://datatracker.ietf.org/meeting/89/materials/agenda-89-ntp\n
 \n
 Session materials: https://datatracker.ietf.org/meeting/89/session/ntp\n
 \n
 See in schedule: https://datatracker.ietf.org/meeting/89/agenda#row-89-2014-03-05-wed-0900-int-ntp\n
END:VEVENT
BEGIN:VEVENT
UID:ietf-89-5124-tictoc
SUMMARY:tictoc - Timing over IP Connection and Transfer of Clock (Combined with NTP)
LOCATION:Park Suite
STATUS:CONFIRMED
CLASS:PUBLIC
DTSTART;TZID=Europe/London:20140305T090000
DTEND;TZID=Europe/London:20140305T113000
DTSTAMP:20161222T095705Z
URL:https://datatracker.ietf.org/meeting/89/materials/agenda-89-tictoc
DESCRIPTION:Morning Session I\n
 Note: Combined with NTP\n
 \n
 Agenda https://datatracker.ietf.org/meeting/89/materials/agenda-89-tictoc\n
 \n
 Session materials: https://datatracker.ietf.org/meeting/89/session/tictoc\n
 \n
 See in schedule: https://datatracker.ietf.org/meeting/89/agenda#row-89-2014-03-05-wed-0900-int-tictoc\n
END:VEVENT
BEGIN:VEVENT
UID:ietf-89-5136-dmm
SUMMARY:dmm - Distributed Mobility Management
LOCATION:Buckingham
STATUS:CONFIRMED
CLASS:PUBLIC
DTSTART;TZID=Europe/London:20140305T130000
DTEND;TZID=Europe/London:20140305T150000
DTSTAMP:20161222T095705Z
URL:https://datatracker.ietf.org/meeting/89/materials/agenda-89-dmm
DESCRIPTION:Afternoon Session I\n
 \n
 Agenda https://datatracker.ietf.org/meeting/89/materials/agenda-89-dmm\n
 \n
 Session materials: https://datatracker.ietf.org/meeting/89/session/dmm\n
 \n
 See in schedule: https://datatracker.ietf.org/meeting/89/agenda#row-89-2014-03-05-wed-1300-int-dmm\n
END:VEVENT
BEGIN:VEVENT
UID:ietf-89-5245-6lo
SUMMARY:6lo - IPv6 over Networks of Resource-constrained Nodes
LOCATION:Balmoral
STATUS:CONFIRMED
CLASS:PUBLIC
DTSTART;TZID=Europe/London:20140305T152000
DTEND;TZID=Europe/London:20140305T162000
DTSTAMP:20161222T095705Z
URL:https://datatracker.ietf.org/meeting/89/materials/agenda-89-6lo
DESCRIPTION:Afternoon Session II\n
 \n
 Agenda https://datatracker.ietf.org/meeting/89/materials/agenda-89-6lo\n
 \n
 Session materials: https://datatracker.ietf.org/meeting/89/session/6lo\n
 \n
 See in schedule: https://datatracker.ietf.org/meeting/89/agenda#row-89-2014-03-05-wed-1520-int-6lo\n
END:VEVENT
BEGIN:VEVENT
UID:ietf-89-5243-pcp
SUMMARY:pcp - Port Control Protocol
LOCATION:Palace C
STATUS:CONFIRMED
CLASS:PUBLIC
DTSTART;TZID=Europe/London:20140305T152000
DTEND;TZID=Europe/London:20140305T162000
DTSTAMP:20161222T095705Z
URL:https://datatracker.ietf.org/meeting/89/materials/agenda-89-pcp
DESCRIPTION:Afternoon Session II\n
 \n
 Agenda https://datatracker.ietf.org/meeting/89/materials/agenda-89-pcp\n
 \n
 Session materials: https://datatracker.ietf.org/meeting/89/session/pcp\n
 \n
 See in schedule: https://datatracker.ietf.org/meeting/89/agenda#row-89-2014-03-05-wed-1520-int-pcp\n
END:VEVENT
BEGIN:VEVENT
UID:ietf-89-5155-6lo
SUMMARY:6lo - IPv6 over Networks of Resource-constrained Nodes
LOCATION:Balmoral
STATUS:CONFIRMED
CLASS:PUBLIC
DTSTART;TZID=Europe/London:20140305T163000
DTEND;TZID=Europe/London:20140305T173000
DTSTAMP:20161222T095705Z
URL:https://datatracker.ietf.org/meeting/89/materials/agenda-89-6lo
DESCRIPTION:Afternoon Session III\n
 \n
 Agenda https://datatracker.ietf.org/meeting/89/materials/agenda-89-6lo\n
 \n
 Session materials: https://datatracker.ietf.org/meeting/89/session/6lo\n
 \n
 See in schedule: https://datatracker.ietf.org/meeting/89/agenda#row-89-2014-03-05-wed-1630-int-6lo\n
END:VEVENT
BEGIN:VEVENT
UID:ietf-89-5153-pcp
SUMMARY:pcp - Port Control Protocol
LOCATION:Palace C
STATUS:CONFIRMED
CLASS:PUBLIC
DTSTART;TZID=Europe/London:20140305T163000
DTEND;TZID=Europe/London:20140305T173000
DTSTAMP:20161222T095705Z
URL:https://datatracker.ietf.org/meeting/89/materials/agenda-89-pcp
DESCRIPTION:Afternoon Session III\n
 \n
 Agenda https://datatracker.ietf.org/meeting/89/materials/agenda-89-pcp\n
 \n
 Session materials: https://datatracker.ietf.org/meeting/89/session/pcp\n
 \n
 See in schedule: https://datatracker.ietf.org/meeting/89/agenda#row-89-2014-03-05-wed-1630-int-pcp\n
END:VEVENT
BEGIN:VEVENT
UID:ietf-89-5163-mif
SUMMARY:mif - Multiple Interfaces (Combined with SUNSET4)
LOCATION:Palace C
STATUS:CONFIRMED
CLASS:PUBLIC
DTSTART;TZID=Europe/London:20140306T090000
DTEND;TZID=Europe/London:20140306T113000
DTSTAMP:20161222T095705Z
URL:https://datatracker.ietf.org/meeting/89/materials/agenda-89-mif
DESCRIPTION:Morning Session I\n
 Note: Combined with SUNSET4\n
 \n
 Agenda https://datatracker.ietf.org/meeting/89/materials/agenda-89-mif\n
 \n
 Session materials: https://datatracker.ietf.org/meeting/89/session/mif\n
 \n
 See in schedule: https://datatracker.ietf.org/meeting/89/agenda#row-89-2014-03-06-thu-0900-int-mif\n
END:VEVENT
BEGIN:VEVENT
UID:ietf-89-5163-sunset4
SUMMARY:sunset4 - Sunsetting IPv4 (Combined with MIF)
LOCATION:Palace C
STATUS:CONFIRMED
CLASS:PUBLIC
DTSTART;TZID=Europe/London:20140306T090000
DTEND;TZID=Europe/London:20140306T113000
DTSTAMP:20161222T095705Z
URL:https://datatracker.ietf.org/meeting/89/materials/agenda-89-sunset4
DESCRIPTION:Morning Session I\n
 Note: Combined with MIF\n
 \n
 Agenda https://datatracker.ietf.org/meeting/89/materials/agenda-89-sunset4\n
 \n
 Session materials: https://datatracker.ietf.org/meeting/89/session/sunset4\n
 \n
 See in schedule: https://datatracker.ietf.org/meeting/89/agenda#row-89-2014-03-06-thu-0900-int-sunset4\n
END:VEVENT
BEGIN:VEVENT
UID:ietf-89-5176-6tisch
SUMMARY:6tisch - IPv6 over the TSCH mode of IEEE 802.15.4e
LOCATION:Buckingham
STATUS:CONFIRMED
CLASS:PUBLIC
DTSTART;TZID=Europe/London:20140306T130000
DTEND;TZID=Europe/London:20140306T150000
DTSTAMP:20161222T095705Z
URL:https://datatracker.ietf.org/meeting/89/materials/agenda-89-6tisch
DESCRIPTION:Afternoon Session I\n
 \n
 Agenda https://datatracker.ietf.org/meeting/89/materials/agenda-89-6tisch\n
 \n
 Session materials: https://datatracker.ietf.org/meeting/89/session/6tisch\n
 \n
 See in schedule: https://datatracker.ietf.org/meeting/89/agenda#row-89-2014-03-06-thu-1300-int-6tisch\n
END:VEVENT
BEGIN:VEVENT
UID:ietf-89-5195-lwig
SUMMARY:lwig - Light-Weight Implementation Guidance
LOCATION:Balmoral
STATUS:CONFIRMED
CLASS:PUBLIC
DTSTART;TZID=Europe/London:20140306T170000
DTEND;TZID=Europe/London:20140306T183000
DTSTAMP:20161222T095705Z
URL:https://datatracker.ietf.org/meeting/89/materials/agenda-89-lwig
DESCRIPTION:Afternoon Session III\n
 \n
 Agenda https://datatracker.ietf.org/meeting/89/materials/agenda-89-lwig\n
 \n
 Session materials: https://datatracker.ietf.org/meeting/89/session/lwig\n
 \n
 See in schedule: https://datatracker.ietf.org/meeting/89/agenda#row-89-2014-03-06-thu-1700-int-lwig\n
END:VEVENT
BEGIN:VEVENT
UID:ietf-89-5203-netext
SUMMARY:netext - Network-Based Mobility Extensions
LOCATION:Palace C
STATUS:CONFIRMED
CLASS:PUBLIC
DTSTART;TZID=Europe/London:20140307T090000
DTEND;TZID=Europe/London:20140307T113000
DTSTAMP:20161222T095705Z
URL:https://datatracker.ietf.org/meeting/89/materials/agenda-89-netext
DESCRIPTION:Morning Session I\n
 \n
 Agenda https://datatracker.ietf.org/meeting/89/materials/agenda-89-netext\n
 \n
 Session materials: https://datatracker.ietf.org/meeting/89/session/netext\n
 \n
 See in schedule: https://datatracker.ietf.org/meeting/89/agenda#row-89-2014-03-07-fri-0900-int-netext\n
END:VEVENT
BEGIN:VEVENT
UID:ietf-89-5208-softwire
SUMMARY:softwire - Softwires
LOCATION:Viscount
STATUS:CONFIRMED
CLASS:PUBLIC
DTSTART;TZID=Europe/London:20140307T090000
DTEND;TZID=Europe/London:20140307T113000
DTSTAMP:20161222T095705Z
URL:https://datatracker.ietf.org/meeting/89/materials/agenda-89-softwire
DESCRIPTION:Morning Session I\n
 \n
 Agenda https://datatracker.ietf.org/meeting/89/materials/agenda-89-softwire\n
 \n
 Session materials: https://datatracker.ietf.org/meeting/89/session/softwire\n
 \n
 See in schedule: https://datatracker.ietf.org/meeting/89/agenda#row-89-2014-03-07-fri-0900-int-softwire\n
END:VEVENT
BEGIN:VEVENT
UID:ietf-89-5217-trill
SUMMARY:trill - Transparent Interconnection of Lots of Links
LOCATION:Blenheim
STATUS:CONFIRMED
CLASS:PUBLIC
DTSTART;TZID=Europe/London:20140307T115000
DTEND;TZID=Europe/London:20140307T132000
DTSTAMP:20161222T095705Z
URL:https://datatracker.ietf.org/meeting/89/materials/agenda-89-trill
DESCRIPTION:Afternoon Session 1\n
 \n
 Agenda https://datatracker.ietf.org/meeting/89/materials/agenda-89-trill\n
 \n
 Session materials: https://datatracker.ietf.org/meeting/89/session/trill\n
 \n
 See in schedule: https://datatracker.ietf.org/meeting/89/agenda#row-89-2014-03-07-fri-1150-int-trill\n
END:VEVENT
END:VCALENDAR
