BEGIN:VCALENDAR
VERSION:2.0
METHOD:PUBLISH
PRODID:-//IETF//datatracker.ietf.org ical agenda//EN
BEGIN:VTIMEZONE
TZID:Europe/London
X-LIC-LOCATION:Europe/London
BEGIN:DAYLIGHT
TZOFFSETFROM:+0000
TZOFFSETTO:+0100
TZNAME:BST
DTSTART:19810329T010000
RRULE:FREQ=YEARLY;BYMONTH=3;BYDAY=-1SU
END:DAYLIGHT
BEGIN:STANDARD
TZOFFSETFROM:+0100
TZOFFSETTO:+0000
TZNAME:GMT
DTSTART:19961027T020000
RRULE:FREQ=YEARLY;BYMONTH=10;BYDAY=-1SU
END:STANDARD
BEGIN:STANDARD
TZOFFSETFROM:-000115
TZOFFSETTO:+0000
TZNAME:GMT
DTSTART:18471201T000000
RDATE:18471201T000000
END:STANDARD
BEGIN:DAYLIGHT
TZOFFSETFROM:+0000
TZOFFSETTO:+0100
TZNAME:BST
DTSTART:19160521T020000
RDATE:19160521T020000
RDATE:19170408T020000
RDATE:19180324T020000
RDATE:19190330T020000
RDATE:19200328T020000
RDATE:19210403T020000
RDATE:19220326T020000
RDATE:19230422T020000
RDATE:19240413T020000
RDATE:19250419T020000
RDATE:19260418T020000
RDATE:19270410T020000
RDATE:19280422T020000
RDATE:19290421T020000
RDATE:19300413T020000
RDATE:19310419T020000
RDATE:19320417T020000
RDATE:19330409T020000
RDATE:19340422T020000
RDATE:19350414T020000
RDATE:19360419T020000
RDATE:19370418T020000
RDATE:19380410T020000
RDATE:19390416T020000
RDATE:19400225T020000
RDATE:19460414T020000
RDATE:19470316T020000
RDATE:19480314T020000
RDATE:19490403T020000
RDATE:19500416T020000
RDATE:19510415T020000
RDATE:19520420T020000
RDATE:19530419T020000
RDATE:19540411T020000
RDATE:19550417T020000
RDATE:19560422T020000
RDATE:19570414T020000
RDATE:19580420T020000
RDATE:19590419T020000
RDATE:19600410T020000
RDATE:19610326T020000
RDATE:19620325T020000
RDATE:19630331T020000
RDATE:19640322T020000
RDATE:19650321T020000
RDATE:19660320T020000
RDATE:19670319T020000
RDATE:19680218T020000
RDATE:19720319T020000
RDATE:19730318T020000
RDATE:19740317T020000
RDATE:19750316T020000
RDATE:19760321T020000
RDATE:19770320T020000
RDATE:19780319T020000
RDATE:19790318T020000
RDATE:19800316T020000
END:DAYLIGHT
BEGIN:STANDARD
TZOFFSETFROM:+0100
TZOFFSETTO:+0000
TZNAME:GMT
DTSTART:19161001T030000
RDATE:19161001T030000
RDATE:19170917T030000
RDATE:19180930T030000
RDATE:19190929T030000
RDATE:19201025T030000
RDATE:19211003T030000
RDATE:19221008T030000
RDATE:19230916T030000
RDATE:19240921T030000
RDATE:19251004T030000
RDATE:19261003T030000
RDATE:19271002T030000
RDATE:19281007T030000
RDATE:19291006T030000
RDATE:19301005T030000
RDATE:19311004T030000
RDATE:19321002T030000
RDATE:19331008T030000
RDATE:19341007T030000
RDATE:19351006T030000
RDATE:19361004T030000
RDATE:19371003T030000
RDATE:19381002T030000
RDATE:19391119T030000
RDATE:19451007T030000
RDATE:19461006T030000
RDATE:19471102T030000
RDATE:19481031T030000
RDATE:19491030T030000
RDATE:19501022T030000
RDATE:19511021T030000
RDATE:19521026T030000
RDATE:19531004T030000
RDATE:19541003T030000
RDATE:19551002T030000
RDATE:19561007T030000
RDATE:19571006T030000
RDATE:19581005T030000
RDATE:19591004T030000
RDATE:19601002T030000
RDATE:19611029T030000
RDATE:19621028T030000
RDATE:19631027T030000
RDATE:19641025T030000
RDATE:19651024T030000
RDATE:19661023T030000
RDATE:19671029T030000
RDATE:19711031T030000
RDATE:19721029T030000
RDATE:19731028T030000
RDATE:19741027T030000
RDATE:19751026T030000
RDATE:19761024T030000
RDATE:19771023T030000
RDATE:19781029T030000
RDATE:19791028T030000
RDATE:19801026T030000
RDATE:19811025T020000
RDATE:19821024T020000
RDATE:19831023T020000
RDATE:19841028T020000
RDATE:19851027T020000
RDATE:19861026T020000
RDATE:19871025T020000
RDATE:19881023T020000
RDATE:19891029T020000
RDATE:19901028T020000
RDATE:19911027T020000
RDATE:19921025T020000
RDATE:19931024T020000
RDATE:19941023T020000
RDATE:19951022T020000
END:STANDARD
BEGIN:DAYLIGHT
TZOFFSETFROM:+0100
TZOFFSETTO:+0200
TZNAME:BDST
DTSTART:19410504T020000
RDATE:19410504T020000
RDATE:19420405T020000
RDATE:19430404T020000
RDATE:19440402T020000
RDATE:19450402T020000
RDATE:19470413T020000
END:DAYLIGHT
BEGIN:DAYLIGHT
TZOFFSETFROM:+0200
TZOFFSETTO:+0100
TZNAME:BST
DTSTART:19410810T030000
RDATE:19410810T030000
RDATE:19420809T030000
RDATE:19430815T030000
RDATE:19440917T030000
RDATE:19450715T030000
RDATE:19470810T030000
END:DAYLIGHT
BEGIN:STANDARD
TZOFFSETFROM:+0100
TZOFFSETTO:+0100
TZNAME:BST
DTSTART:19681027T000000
RDATE:19681027T000000
END:STANDARD
BEGIN:STANDARD
TZOFFSETFROM:+0000
TZOFFSETTO:+0000
TZNAME:GMT
DTSTART:19960101T000000
RDATE:19960101T000000
END:STANDARD
END:VTIMEZONE
BEGIN:VEVENT
UID:ietf-89-5052-netconf
SUMMARY:netconf - Network Configuration (Moved FROM Wednesday Afternoon Session I 1300-1500)
LOCATION:Richmond/Chelsea/Tower
STATUS:CONFIRMED
CLASS:PUBLIC
DTSTART;TZID=Europe/London:20140303T130000
DTEND;TZID=Europe/London:20140303T150000
DTSTAMP:20161222T095705Z
URL:https://datatracker.ietf.org/meeting/89/materials/agenda-89-netconf
DESCRIPTION:Afternoon Session I\n
 Note: Moved FROM Wednesday Afternoon Session I 1300-1500\n
 \n
 Agenda https://datatracker.ietf.org/meeting/89/materials/agenda-89-netconf\n
 \n
 Session materials: https://datatracker.ietf.org/meeting/89/session/netconf\n
 \n
 See in schedule: https://datatracker.ietf.org/meeting/89/agenda#row-89-2014-03-03-mon-1300-ops-netconf\n
END:VEVENT
BEGIN:VEVENT
UID:ietf-89-5228-eman
SUMMARY:eman - Energy Management
LOCATION:Viscount
STATUS:CONFIRMED
CLASS:PUBLIC
DTSTART;TZID=Europe/London:20140303T152000
DTEND;TZID=Europe/London:20140303T162000
DTSTAMP:20161222T095705Z
URL:https://datatracker.ietf.org/meeting/89/materials/agenda-89-eman
DESCRIPTION:Afternoon Session II\n
 \n
 Agenda https://datatracker.ietf.org/meeting/89/materials/agenda-89-eman\n
 \n
 Session materials: https://datatracker.ietf.org/meeting/89/session/eman\n
 \n
 See in schedule: https://datatracker.ietf.org/meeting/89/agenda#row-89-2014-03-03-mon-1520-ops-eman\n
END:VEVENT
BEGIN:VEVENT
UID:ietf-89-5082-mboned
SUMMARY:mboned - MBONE Deployment
LOCATION:Richmond/Chelsea/Tower
STATUS:CONFIRMED
CLASS:PUBLIC
DTSTART;TZID=Europe/London:20140304T090000
DTEND;TZID=Europe/London:20140304T113000
DTSTAMP:20161222T095705Z
URL:https://datatracker.ietf.org/meeting/89/materials/agenda-89-mboned
DESCRIPTION:Morning Session I\n
 \n
 Agenda https://datatracker.ietf.org/meeting/89/materials/agenda-89-mboned\n
 \n
 Session materials: https://datatracker.ietf.org/meeting/89/session/mboned\n
 \n
 See in schedule: https://datatracker.ietf.org/meeting/89/agenda#row-89-2014-03-04-tue-0900-ops-mboned\n
END:VEVENT
BEGIN:VEVENT
UID:ietf-89-5097-grow
SUMMARY:grow - Global Routing Operations
LOCATION:Blenheim
STATUS:CONFIRMED
CLASS:PUBLIC
DTSTART;TZID=Europe/London:20140304T130000
DTEND;TZID=Europe/London:20140304T140000
DTSTAMP:20161222T095705Z
URL:https://datatracker.ietf.org/meeting/89/materials/agenda-89-grow
DESCRIPTION:Afternoon Session I\n
 \n
 Agenda https://datatracker.ietf.org/meeting/89/materials/agenda-89-grow\n
 \n
 Session materials: https://datatracker.ietf.org/meeting/89/session/grow\n
 \n
 See in schedule: https://datatracker.ietf.org/meeting/89/agenda#row-89-2014-03-04-tue-1300-ops-grow\n
END:VEVENT
BEGIN:VEVENT
UID:ietf-89-5092-ipfix
SUMMARY:ipfix - IP Flow Information Export (CANCELED)
LOCATION:Richmond/Chelsea/Tower
STATUS:CONFIRMED
CLASS:PUBLIC
DTSTART;TZID=Europe/London:20140304T130000
DTEND;TZID=Europe/London:20140304T140000
DTSTAMP:20161222T095705Z
DESCRIPTION:Afternoon Session I\n
 Note: CANCELED\n
 \n
 Session materials: https://datatracker.ietf.org/meeting/89/session/ipfix\n
 \n
 See in schedule: https://datatracker.ietf.org/meeting/89/agenda#row-89-2014-03-04-tue-1300-ops-ipfix\n
END:VEVENT
BEGIN:VEVENT
UID:ietf-89-5102-radext
SUMMARY:radext - RADIUS EXTensions
LOCATION:Richmond/Chelsea/Tower
STATUS:CONFIRMED
CLASS:PUBLIC
DTSTART;TZID=Europe/London:20140304T142000
DTEND;TZID=Europe/London:20140304T155000
DTSTAMP:20161222T095705Z
URL:https://datatracker.ietf.org/meeting/89/materials/agenda-89-radext
DESCRIPTION:Afternoon Session II\n
 \n
 Agenda https://datatracker.ietf.org/meeting/89/materials/agenda-89-radext\n
 \n
 Session materials: https://datatracker.ietf.org/meeting/89/session/radext\n
 \n
 See in schedule: https://datatracker.ietf.org/meeting/89/agenda#row-89-2014-03-04-tue-1420-ops-radext\n
END:VEVENT
BEGIN:VEVENT
UID:ietf-89-5116-opsawg
SUMMARY:opsawg - Operations and Management Area Working Group (Combined with OPSAREA)
LOCATION:Buckingham
STATUS:CONFIRMED
CLASS:PUBLIC
DTSTART;TZID=Europe/London:20140304T161000
DTEND;TZID=Europe/London:20140304T184000
DTSTAMP:20161222T095705Z
URL:https://datatracker.ietf.org/meeting/89/materials/agenda-89-opsawg
DESCRIPTION:Afternoon Session III\n
 Note: Combined with OPSAREA\n
 \n
 Agenda https://datatracker.ietf.org/meeting/89/materials/agenda-89-opsawg\n
 \n
 Session materials: https://datatracker.ietf.org/meeting/89/session/opsawg\n
 \n
 See in schedule: https://datatracker.ietf.org/meeting/89/agenda#row-89-2014-03-04-tue-1610-ops-opsawg\n
END:VEVENT
BEGIN:VEVENT
UID:ietf-89-5129-v6ops
SUMMARY:v6ops - IPv6 Operations
LOCATION:Sovereign
STATUS:CONFIRMED
CLASS:PUBLIC
DTSTART;TZID=Europe/London:20140305T090000
DTEND;TZID=Europe/London:20140305T113000
DTSTAMP:20161222T095705Z
URL:https://datatracker.ietf.org/meeting/89/materials/agenda-89-v6ops
DESCRIPTION:Morning Session I\n
 \n
 Agenda https://datatracker.ietf.org/meeting/89/materials/agenda-89-v6ops\n
 \n
 Session materials: https://datatracker.ietf.org/meeting/89/session/v6ops\n
 \n
 See in schedule: https://datatracker.ietf.org/meeting/89/agenda#row-89-2014-03-05-wed-0900-ops-v6ops\n
END:VEVENT
BEGIN:VEVENT
UID:ietf-89-5133-netmod
SUMMARY:netmod - NETCONF Data Modeling Language (Moved FROM Monday Afternoon Session I 1300-1500)
LOCATION:Palace C
STATUS:CONFIRMED
CLASS:PUBLIC
DTSTART;TZID=Europe/London:20140305T130000
DTEND;TZID=Europe/London:20140305T150000
DTSTAMP:20161222T095705Z
URL:https://datatracker.ietf.org/meeting/89/materials/agenda-89-netmod
DESCRIPTION:Afternoon Session I\n
 Note: Moved FROM Monday Afternoon Session I 1300-1500\n
 \n
 Agenda https://datatracker.ietf.org/meeting/89/materials/agenda-89-netmod\n
 \n
 Session materials: https://datatracker.ietf.org/meeting/89/session/netmod\n
 \n
 See in schedule: https://datatracker.ietf.org/meeting/89/agenda#row-89-2014-03-05-wed-1300-ops-netmod\n
END:VEVENT
BEGIN:VEVENT
UID:ietf-89-5162-dime
SUMMARY:dime - Diameter Maintenance and Extensions
LOCATION:Richmond/Chelsea/Tower
STATUS:CONFIRMED
CLASS:PUBLIC
DTSTART;TZID=Europe/London:20140306T090000
DTEND;TZID=Europe/London:20140306T113000
DTSTAMP:20161222T095705Z
URL:https://datatracker.ietf.org/meeting/89/materials/agenda-89-dime
DESCRIPTION:Morning Session I\n
 \n
 Agenda https://datatracker.ietf.org/meeting/89/materials/agenda-89-dime\n
 \n
 Session materials: https://datatracker.ietf.org/meeting/89/session/dime\n
 \n
 See in schedule: https://datatracker.ietf.org/meeting/89/agenda#row-89-2014-03-06-thu-0900-ops-dime\n
END:VEVENT
BEGIN:VEVENT
UID:ietf-89-5179-v6ops
SUMMARY:v6ops - IPv6 Operations
LOCATION:Sovereign
STATUS:CONFIRMED
CLASS:PUBLIC
DTSTART;TZID=Europe/London:20140306T130000
DTEND;TZID=Europe/London:20140306T150000
DTSTAMP:20161222T095705Z
URL:https://datatracker.ietf.org/meeting/89/materials/agenda-89-v6ops
DESCRIPTION:Afternoon Session I\n
 \n
 Agenda https://datatracker.ietf.org/meeting/89/materials/agenda-89-v6ops\n
 \n
 Session materials: https://datatracker.ietf.org/meeting/89/session/v6ops\n
 \n
 See in schedule: https://datatracker.ietf.org/meeting/89/agenda#row-89-2014-03-06-thu-1300-ops-v6ops\n
END:VEVENT
BEGIN:VEVENT
UID:ietf-89-5192-wpkops
SUMMARY:wpkops - Web PKI OPS
LOCATION:Richmond/Chelsea/Tower
STATUS:CONFIRMED
CLASS:PUBLIC
DTSTART;TZID=Europe/London:20140306T170000
DTEND;TZID=Europe/London:20140306T183000
DTSTAMP:20161222T095705Z
URL:https://datatracker.ietf.org/meeting/89/materials/agenda-89-wpkops
DESCRIPTION:Afternoon Session III\n
 \n
 Agenda https://datatracker.ietf.org/meeting/89/materials/agenda-89-wpkops\n
 \n
 Session materials: https://datatracker.ietf.org/meeting/89/session/wpkops\n
 \n
 See in schedule: https://datatracker.ietf.org/meeting/89/agenda#row-89-2014-03-06-thu-1700-ops-wpkops\n
END:VEVENT
BEGIN:VEVENT
UID:ietf-89-5336-dnsop
SUMMARY:dnsop - Domain Name System Operations (NEW)
LOCATION:Sovereign
STATUS:CONFIRMED
CLASS:PUBLIC
DTSTART;TZID=Europe/London:20140306T184000
DTEND;TZID=Europe/London:20140306T204000
DTSTAMP:20161222T095705Z
URL:https://datatracker.ietf.org/meeting/89/materials/agenda-89-dnsop
DESCRIPTION:Afternoon Session IV\n
 Note: NEW\n
 \n
 Agenda https://datatracker.ietf.org/meeting/89/materials/agenda-89-dnsop\n
 \n
 Session materials: https://datatracker.ietf.org/meeting/89/session/dnsop\n
 \n
 See in schedule: https://datatracker.ietf.org/meeting/89/agenda#row-89-2014-03-06-thu-1840-ops-dnsop\n
END:VEVENT
BEGIN:VEVENT
UID:ietf-89-5209-dnsop
SUMMARY:dnsop - Domain Name System Operations
LOCATION:Sovereign
STATUS:CONFIRMED
CLASS:PUBLIC
DTSTART;TZID=Europe/London:20140307T090000
DTEND;TZID=Europe/London:20140307T113000
DTSTAMP:20161222T095705Z
URL:https://datatracker.ietf.org/meeting/89/materials/agenda-89-dnsop
DESCRIPTION:Morning Session I\n
 \n
 Agenda https://datatracker.ietf.org/meeting/89/materials/agenda-89-dnsop\n
 \n
 Session materials: https://datatracker.ietf.org/meeting/89/session/dnsop\n
 \n
 See in schedule: https://datatracker.ietf.org/meeting/89/agenda#row-89-2014-03-07-fri-0900-ops-dnsop\n
END:VEVENT
BEGIN:VEVENT
UID:ietf-89-5205-lmap
SUMMARY:lmap - Large-Scale Measurement of Broadband Performance
LOCATION:Balmoral
STATUS:CONFIRMED
CLASS:PUBLIC
DTSTART;TZID=Europe/London:20140307T090000
DTEND;TZID=Europe/London:20140307T113000
DTSTAMP:20161222T095705Z
URL:https://datatracker.ietf.org/meeting/89/materials/agenda-89-lmap
DESCRIPTION:Morning Session I\n
 \n
 Agenda https://datatracker.ietf.org/meeting/89/materials/agenda-89-lmap\n
 \n
 Session materials: https://datatracker.ietf.org/meeting/89/session/lmap\n
 \n
 See in schedule: https://datatracker.ietf.org/meeting/89/agenda#row-89-2014-03-07-fri-0900-ops-lmap\n
END:VEVENT
BEGIN:VEVENT
UID:ietf-89-5212-bmwg
SUMMARY:bmwg - Benchmarking Methodology
LOCATION:Richmond/Chelsea/Tower
STATUS:CONFIRMED
CLASS:PUBLIC
DTSTART;TZID=Europe/London:20140307T115000
DTEND;TZID=Europe/London:20140307T132000
DTSTAMP:20161222T095705Z
URL:https://datatracker.ietf.org/meeting/89/materials/agenda-89-bmwg
DESCRIPTION:Afternoon Session 1\n
 \n
 Agenda https://datatracker.ietf.org/meeting/89/materials/agenda-89-bmwg\n
 \n
 Session materials: https://datatracker.ietf.org/meeting/89/session/bmwg\n
 \n
 See in schedule: https://datatracker.ietf.org/meeting/89/agenda#row-89-2014-03-07-fri-1150-ops-bmwg\n
END:VEVENT
END:VCALENDAR
