BEGIN:VCALENDAR
VERSION:2.0
METHOD:PUBLISH
PRODID:-//IETF//datatracker.ietf.org ical agenda//EN
BEGIN:VTIMEZONE
TZID:Europe/London
X-LIC-LOCATION:Europe/London
BEGIN:DAYLIGHT
TZOFFSETFROM:+0000
TZOFFSETTO:+0100
TZNAME:BST
DTSTART:19810329T010000
RRULE:FREQ=YEARLY;BYMONTH=3;BYDAY=-1SU
END:DAYLIGHT
BEGIN:STANDARD
TZOFFSETFROM:+0100
TZOFFSETTO:+0000
TZNAME:GMT
DTSTART:19961027T020000
RRULE:FREQ=YEARLY;BYMONTH=10;BYDAY=-1SU
END:STANDARD
BEGIN:STANDARD
TZOFFSETFROM:-000115
TZOFFSETTO:+0000
TZNAME:GMT
DTSTART:18471201T000000
RDATE:18471201T000000
END:STANDARD
BEGIN:DAYLIGHT
TZOFFSETFROM:+0000
TZOFFSETTO:+0100
TZNAME:BST
DTSTART:19160521T020000
RDATE:19160521T020000
RDATE:19170408T020000
RDATE:19180324T020000
RDATE:19190330T020000
RDATE:19200328T020000
RDATE:19210403T020000
RDATE:19220326T020000
RDATE:19230422T020000
RDATE:19240413T020000
RDATE:19250419T020000
RDATE:19260418T020000
RDATE:19270410T020000
RDATE:19280422T020000
RDATE:19290421T020000
RDATE:19300413T020000
RDATE:19310419T020000
RDATE:19320417T020000
RDATE:19330409T020000
RDATE:19340422T020000
RDATE:19350414T020000
RDATE:19360419T020000
RDATE:19370418T020000
RDATE:19380410T020000
RDATE:19390416T020000
RDATE:19400225T020000
RDATE:19460414T020000
RDATE:19470316T020000
RDATE:19480314T020000
RDATE:19490403T020000
RDATE:19500416T020000
RDATE:19510415T020000
RDATE:19520420T020000
RDATE:19530419T020000
RDATE:19540411T020000
RDATE:19550417T020000
RDATE:19560422T020000
RDATE:19570414T020000
RDATE:19580420T020000
RDATE:19590419T020000
RDATE:19600410T020000
RDATE:19610326T020000
RDATE:19620325T020000
RDATE:19630331T020000
RDATE:19640322T020000
RDATE:19650321T020000
RDATE:19660320T020000
RDATE:19670319T020000
RDATE:19680218T020000
RDATE:19720319T020000
RDATE:19730318T020000
RDATE:19740317T020000
RDATE:19750316T020000
RDATE:19760321T020000
RDATE:19770320T020000
RDATE:19780319T020000
RDATE:19790318T020000
RDATE:19800316T020000
END:DAYLIGHT
BEGIN:STANDARD
TZOFFSETFROM:+0100
TZOFFSETTO:+0000
TZNAME:GMT
DTSTART:19161001T030000
RDATE:19161001T030000
RDATE:19170917T030000
RDATE:19180930T030000
RDATE:19190929T030000
RDATE:19201025T030000
RDATE:19211003T030000
RDATE:19221008T030000
RDATE:19230916T030000
RDATE:19240921T030000
RDATE:19251004T030000
RDATE:19261003T030000
RDATE:19271002T030000
RDATE:19281007T030000
RDATE:19291006T030000
RDATE:19301005T030000
RDATE:19311004T030000
RDATE:19321002T030000
RDATE:19331008T030000
RDATE:19341007T030000
RDATE:19351006T030000
RDATE:19361004T030000
RDATE:19371003T030000
RDATE:19381002T030000
RDATE:19391119T030000
RDATE:19451007T030000
RDATE:19461006T030000
RDATE:19471102T030000
RDATE:19481031T030000
RDATE:19491030T030000
RDATE:19501022T030000
RDATE:19511021T030000
RDATE:19521026T030000
RDATE:19531004T030000
RDATE:19541003T030000
RDATE:19551002T030000
RDATE:19561007T030000
RDATE:19571006T030000
RDATE:19581005T030000
RDATE:19591004T030000
RDATE:19601002T030000
RDATE:19611029T030000
RDATE:19621028T030000
RDATE:19631027T030000
RDATE:19641025T030000
RDATE:19651024T030000
RDATE:19661023T030000
RDATE:19671029T030000
RDATE:19711031T030000
RDATE:19721029T030000
RDATE:19731028T030000
RDATE:19741027T030000
RDATE:19751026T030000
RDATE:19761024T030000
RDATE:19771023T030000
RDATE:19781029T030000
RDATE:19791028T030000
RDATE:19801026T030000
RDATE:19811025T020000
RDATE:19821024T020000
RDATE:19831023T020000
RDATE:19841028T020000
RDATE:19851027T020000
RDATE:19861026T020000
RDATE:19871025T020000
RDATE:19881023T020000
RDATE:19891029T020000
RDATE:19901028T020000
RDATE:19911027T020000
RDATE:19921025T020000
RDATE:19931024T020000
RDATE:19941023T020000
RDATE:19951022T020000
END:STANDARD
BEGIN:DAYLIGHT
TZOFFSETFROM:+0100
TZOFFSETTO:+0200
TZNAME:BDST
DTSTART:19410504T020000
RDATE:19410504T020000
RDATE:19420405T020000
RDATE:19430404T020000
RDATE:19440402T020000
RDATE:19450402T020000
RDATE:19470413T020000
END:DAYLIGHT
BEGIN:DAYLIGHT
TZOFFSETFROM:+0200
TZOFFSETTO:+0100
TZNAME:BST
DTSTART:19410810T030000
RDATE:19410810T030000
RDATE:19420809T030000
RDATE:19430815T030000
RDATE:19440917T030000
RDATE:19450715T030000
RDATE:19470810T030000
END:DAYLIGHT
BEGIN:STANDARD
TZOFFSETFROM:+0100
TZOFFSETTO:+0100
TZNAME:BST
DTSTART:19681027T000000
RDATE:19681027T000000
END:STANDARD
BEGIN:STANDARD
TZOFFSETFROM:+0000
TZOFFSETTO:+0000
TZNAME:GMT
DTSTART:19960101T000000
RDATE:19960101T000000
END:STANDARD
END:VTIMEZONE
BEGIN:VEVENT
UID:ietf-89-5048-mmusic
SUMMARY:mmusic - Multiparty Multimedia Session Control
LOCATION:Viscount
STATUS:CONFIRMED
CLASS:PUBLIC
DTSTART;TZID=Europe/London:20140303T090000
DTEND;TZID=Europe/London:20140303T113000
DTSTAMP:20161222T095705Z
URL:https://datatracker.ietf.org/meeting/89/materials/agenda-89-mmusic
DESCRIPTION:Morning Session I\n
 \n
 Agenda https://datatracker.ietf.org/meeting/89/materials/agenda-89-mmusic\n
 \n
 Session materials: https://datatracker.ietf.org/meeting/89/session/mmusic\n
 \n
 See in schedule: https://datatracker.ietf.org/meeting/89/agenda#row-89-2014-03-03-mon-0900-rai-mmusic\n
END:VEVENT
BEGIN:VEVENT
UID:ietf-89-5045-stir
SUMMARY:stir - Secure Telephone Identity Revisited
LOCATION:Balmoral
STATUS:CONFIRMED
CLASS:PUBLIC
DTSTART;TZID=Europe/London:20140303T090000
DTEND;TZID=Europe/London:20140303T113000
DTSTAMP:20161222T095705Z
URL:https://datatracker.ietf.org/meeting/89/materials/agenda-89-stir
DESCRIPTION:Morning Session I\n
 \n
 Agenda https://datatracker.ietf.org/meeting/89/materials/agenda-89-stir\n
 \n
 Session materials: https://datatracker.ietf.org/meeting/89/session/stir\n
 \n
 See in schedule: https://datatracker.ietf.org/meeting/89/agenda#row-89-2014-03-03-mon-0900-rai-stir\n
END:VEVENT
BEGIN:VEVENT
UID:ietf-89-5056-avtcore
SUMMARY:avtcore - Audio/Video Transport Core Maintenance
LOCATION:Buckingham
STATUS:CONFIRMED
CLASS:PUBLIC
DTSTART;TZID=Europe/London:20140303T130000
DTEND;TZID=Europe/London:20140303T150000
DTSTAMP:20161222T095705Z
URL:https://datatracker.ietf.org/meeting/89/materials/agenda-89-avtcore
DESCRIPTION:Afternoon Session I\n
 \n
 Agenda https://datatracker.ietf.org/meeting/89/materials/agenda-89-avtcore\n
 \n
 Session materials: https://datatracker.ietf.org/meeting/89/session/avtcore\n
 \n
 See in schedule: https://datatracker.ietf.org/meeting/89/agenda#row-89-2014-03-03-mon-1300-rai-avtcore\n
END:VEVENT
BEGIN:VEVENT
UID:ietf-89-5227-dispatch
SUMMARY:dispatch - Dispatch
LOCATION:Blenheim
STATUS:CONFIRMED
CLASS:PUBLIC
DTSTART;TZID=Europe/London:20140303T152000
DTEND;TZID=Europe/London:20140303T162000
DTSTAMP:20161222T095705Z
URL:https://datatracker.ietf.org/meeting/89/materials/agenda-89-dispatch
DESCRIPTION:Afternoon Session II\n
 \n
 Agenda https://datatracker.ietf.org/meeting/89/materials/agenda-89-dispatch\n
 \n
 Session materials: https://datatracker.ietf.org/meeting/89/session/dispatch\n
 \n
 See in schedule: https://datatracker.ietf.org/meeting/89/agenda#row-89-2014-03-03-mon-1520-rai-dispatch\n
END:VEVENT
BEGIN:VEVENT
UID:ietf-89-5077-sipcore
SUMMARY:sipcore - Session Initiation Protocol Core
LOCATION:Blenheim
STATUS:CONFIRMED
CLASS:PUBLIC
DTSTART;TZID=Europe/London:20140303T163000
DTEND;TZID=Europe/London:20140303T173000
DTSTAMP:20161222T095705Z
DESCRIPTION:Afternoon Session III\n
 \n
 Session materials: https://datatracker.ietf.org/meeting/89/session/sipcore\n
 \n
 See in schedule: https://datatracker.ietf.org/meeting/89/agenda#row-89-2014-03-03-mon-1630-rai-sipcore\n
END:VEVENT
BEGIN:VEVENT
UID:ietf-89-5087-rtcweb
SUMMARY:rtcweb - Real-Time Communication in WEB-browsers
LOCATION:Blenheim
STATUS:CONFIRMED
CLASS:PUBLIC
DTSTART;TZID=Europe/London:20140304T090000
DTEND;TZID=Europe/London:20140304T113000
DTSTAMP:20161222T095705Z
URL:https://datatracker.ietf.org/meeting/89/materials/agenda-89-rtcweb
DESCRIPTION:Morning Session I\n
 \n
 Agenda https://datatracker.ietf.org/meeting/89/materials/agenda-89-rtcweb\n
 \n
 Session materials: https://datatracker.ietf.org/meeting/89/session/rtcweb\n
 \n
 See in schedule: https://datatracker.ietf.org/meeting/89/agenda#row-89-2014-03-04-tue-0900-rai-rtcweb\n
END:VEVENT
BEGIN:VEVENT
UID:ietf-89-5095-insipid
SUMMARY:insipid - INtermediary-safe SIP session ID
LOCATION:Balmoral
STATUS:CONFIRMED
CLASS:PUBLIC
DTSTART;TZID=Europe/London:20140304T130000
DTEND;TZID=Europe/London:20140304T140000
DTSTAMP:20161222T095705Z
URL:https://datatracker.ietf.org/meeting/89/materials/agenda-89-insipid
DESCRIPTION:Afternoon Session I\n
 \n
 Agenda https://datatracker.ietf.org/meeting/89/materials/agenda-89-insipid\n
 \n
 Session materials: https://datatracker.ietf.org/meeting/89/session/insipid\n
 \n
 See in schedule: https://datatracker.ietf.org/meeting/89/agenda#row-89-2014-03-04-tue-1300-rai-insipid\n
END:VEVENT
BEGIN:VEVENT
UID:ietf-89-5094-geopriv
SUMMARY:geopriv - Geographic Location/Privacy
LOCATION:Park Suite
STATUS:CONFIRMED
CLASS:PUBLIC
DTSTART;TZID=Europe/London:20140304T130000
DTEND;TZID=Europe/London:20140304T140000
DTSTAMP:20161222T095705Z
URL:https://datatracker.ietf.org/meeting/89/materials/agenda-89-geopriv
DESCRIPTION:Afternoon Session I\n
 \n
 Agenda https://datatracker.ietf.org/meeting/89/materials/agenda-89-geopriv\n
 \n
 Session materials: https://datatracker.ietf.org/meeting/89/session/geopriv\n
 \n
 See in schedule: https://datatracker.ietf.org/meeting/89/agenda#row-89-2014-03-04-tue-1300-rai-geopriv\n
END:VEVENT
BEGIN:VEVENT
UID:ietf-89-5103-bfcpbis
SUMMARY:bfcpbis - Binary Floor Control Protocol Bis 
LOCATION:Palace C
STATUS:CONFIRMED
CLASS:PUBLIC
DTSTART;TZID=Europe/London:20140304T142000
DTEND;TZID=Europe/London:20140304T155000
DTSTAMP:20161222T095705Z
URL:https://datatracker.ietf.org/meeting/89/materials/agenda-89-bfcpbis
DESCRIPTION:Afternoon Session II\n
 \n
 Agenda https://datatracker.ietf.org/meeting/89/materials/agenda-89-bfcpbis\n
 \n
 Session materials: https://datatracker.ietf.org/meeting/89/session/bfcpbis\n
 \n
 See in schedule: https://datatracker.ietf.org/meeting/89/agenda#row-89-2014-03-04-tue-1420-rai-bfcpbis\n
END:VEVENT
BEGIN:VEVENT
UID:ietf-89-5105-xmpp
SUMMARY:xmpp - Extensible Messaging and Presence Protocol
LOCATION:Balmoral
STATUS:CONFIRMED
CLASS:PUBLIC
DTSTART;TZID=Europe/London:20140304T142000
DTEND;TZID=Europe/London:20140304T155000
DTSTAMP:20161222T095705Z
URL:https://datatracker.ietf.org/meeting/89/materials/agenda-89-xmpp
DESCRIPTION:Afternoon Session II\n
 \n
 Agenda https://datatracker.ietf.org/meeting/89/materials/agenda-89-xmpp\n
 \n
 Session materials: https://datatracker.ietf.org/meeting/89/session/xmpp\n
 \n
 See in schedule: https://datatracker.ietf.org/meeting/89/agenda#row-89-2014-03-04-tue-1420-rai-xmpp\n
END:VEVENT
BEGIN:VEVENT
UID:ietf-89-5126-rtcweb
SUMMARY:rtcweb - Real-Time Communication in WEB-browsers
LOCATION:Buckingham
STATUS:CONFIRMED
CLASS:PUBLIC
DTSTART;TZID=Europe/London:20140305T090000
DTEND;TZID=Europe/London:20140305T113000
DTSTAMP:20161222T095705Z
URL:https://datatracker.ietf.org/meeting/89/materials/agenda-89-rtcweb
DESCRIPTION:Morning Session I\n
 \n
 Agenda https://datatracker.ietf.org/meeting/89/materials/agenda-89-rtcweb\n
 \n
 Session materials: https://datatracker.ietf.org/meeting/89/session/rtcweb\n
 \n
 See in schedule: https://datatracker.ietf.org/meeting/89/agenda#row-89-2014-03-05-wed-0900-rai-rtcweb\n
END:VEVENT
BEGIN:VEVENT
UID:ietf-89-5134-clue
SUMMARY:clue - ControLling mUltiple streams for tElepresence
LOCATION:Park Suite
STATUS:CONFIRMED
CLASS:PUBLIC
DTSTART;TZID=Europe/London:20140305T130000
DTEND;TZID=Europe/London:20140305T150000
DTSTAMP:20161222T095705Z
URL:https://datatracker.ietf.org/meeting/89/materials/agenda-89-clue
DESCRIPTION:Afternoon Session I\n
 \n
 Agenda https://datatracker.ietf.org/meeting/89/materials/agenda-89-clue\n
 \n
 Session materials: https://datatracker.ietf.org/meeting/89/session/clue\n
 \n
 See in schedule: https://datatracker.ietf.org/meeting/89/agenda#row-89-2014-03-05-wed-1300-rai-clue\n
END:VEVENT
BEGIN:VEVENT
UID:ietf-89-5242-xrblock
SUMMARY:xrblock - Metric Blocks for use with RTCP's Extended Report Framework
LOCATION:Richmond/Chelsea/Tower
STATUS:CONFIRMED
CLASS:PUBLIC
DTSTART;TZID=Europe/London:20140305T152000
DTEND;TZID=Europe/London:20140305T162000
DTSTAMP:20161222T095705Z
URL:https://datatracker.ietf.org/meeting/89/materials/agenda-89-xrblock
DESCRIPTION:Afternoon Session II\n
 \n
 Agenda https://datatracker.ietf.org/meeting/89/materials/agenda-89-xrblock\n
 \n
 Session materials: https://datatracker.ietf.org/meeting/89/session/xrblock\n
 \n
 See in schedule: https://datatracker.ietf.org/meeting/89/agenda#row-89-2014-03-05-wed-1520-rai-xrblock\n
END:VEVENT
BEGIN:VEVENT
UID:ietf-89-5152-ecrit
SUMMARY:ecrit - Emergency Context Resolution with Internet Technologies
LOCATION:Richmond/Chelsea/Tower
STATUS:CONFIRMED
CLASS:PUBLIC
DTSTART;TZID=Europe/London:20140305T163000
DTEND;TZID=Europe/London:20140305T173000
DTSTAMP:20161222T095705Z
URL:https://datatracker.ietf.org/meeting/89/materials/agenda-89-ecrit
DESCRIPTION:Afternoon Session III\n
 \n
 Agenda https://datatracker.ietf.org/meeting/89/materials/agenda-89-ecrit\n
 \n
 Session materials: https://datatracker.ietf.org/meeting/89/session/ecrit\n
 \n
 See in schedule: https://datatracker.ietf.org/meeting/89/agenda#row-89-2014-03-05-wed-1630-rai-ecrit\n
END:VEVENT
BEGIN:VEVENT
UID:ietf-89-5154-payload
SUMMARY:payload - Audio/Video Transport Payloads
LOCATION:Park Suite
STATUS:CONFIRMED
CLASS:PUBLIC
DTSTART;TZID=Europe/London:20140305T163000
DTEND;TZID=Europe/London:20140305T173000
DTSTAMP:20161222T095705Z
URL:https://datatracker.ietf.org/meeting/89/materials/agenda-89-payload
DESCRIPTION:Afternoon Session III\n
 \n
 Agenda https://datatracker.ietf.org/meeting/89/materials/agenda-89-payload\n
 \n
 Session materials: https://datatracker.ietf.org/meeting/89/session/payload\n
 \n
 See in schedule: https://datatracker.ietf.org/meeting/89/agenda#row-89-2014-03-05-wed-1630-rai-payload\n
END:VEVENT
BEGIN:VEVENT
UID:ietf-89-5166-mmusic
SUMMARY:mmusic - Multiparty Multimedia Session Control
LOCATION:Buckingham
STATUS:CONFIRMED
CLASS:PUBLIC
DTSTART;TZID=Europe/London:20140306T090000
DTEND;TZID=Europe/London:20140306T113000
DTSTAMP:20161222T095705Z
URL:https://datatracker.ietf.org/meeting/89/materials/agenda-89-mmusic
DESCRIPTION:Morning Session I\n
 \n
 Agenda https://datatracker.ietf.org/meeting/89/materials/agenda-89-mmusic\n
 \n
 Session materials: https://datatracker.ietf.org/meeting/89/session/mmusic\n
 \n
 See in schedule: https://datatracker.ietf.org/meeting/89/agenda#row-89-2014-03-06-thu-0900-rai-mmusic\n
END:VEVENT
BEGIN:VEVENT
UID:ietf-89-5173-sipcore
SUMMARY:sipcore - Session Initiation Protocol Core
LOCATION:Palace C
STATUS:CONFIRMED
CLASS:PUBLIC
DTSTART;TZID=Europe/London:20140306T130000
DTEND;TZID=Europe/London:20140306T150000
DTSTAMP:20161222T095705Z
URL:https://datatracker.ietf.org/meeting/89/materials/agenda-89-sipcore
DESCRIPTION:Afternoon Session I\n
 \n
 Agenda https://datatracker.ietf.org/meeting/89/materials/agenda-89-sipcore\n
 \n
 Session materials: https://datatracker.ietf.org/meeting/89/session/sipcore\n
 \n
 See in schedule: https://datatracker.ietf.org/meeting/89/agenda#row-89-2014-03-06-thu-1300-rai-sipcore\n
END:VEVENT
BEGIN:VEVENT
UID:ietf-89-5186-avtext
SUMMARY:avtext - Audio/Video Transport Extensions (1605-1830)
LOCATION:Buckingham
STATUS:CONFIRMED
CLASS:PUBLIC
DTSTART;TZID=Europe/London:20140306T152000
DTEND;TZID=Europe/London:20140306T165000
DTSTAMP:20161222T095705Z
URL:https://datatracker.ietf.org/meeting/89/materials/agenda-89-avtext
DESCRIPTION:Afternoon Session II\n
 Note: 1605-1830\n
 \n
 Agenda https://datatracker.ietf.org/meeting/89/materials/agenda-89-avtext\n
 \n
 Session materials: https://datatracker.ietf.org/meeting/89/session/avtext\n
 \n
 See in schedule: https://datatracker.ietf.org/meeting/89/agenda#row-89-2014-03-06-thu-1520-rai-avtext\n
END:VEVENT
BEGIN:VEVENT
UID:ietf-89-5186-straw
SUMMARY:straw - Sip Traversal Required for Applications to Work (1520-1605)
LOCATION:Buckingham
STATUS:CONFIRMED
CLASS:PUBLIC
DTSTART;TZID=Europe/London:20140306T152000
DTEND;TZID=Europe/London:20140306T165000
DTSTAMP:20161222T095705Z
URL:https://datatracker.ietf.org/meeting/89/materials/agenda-89-straw
DESCRIPTION:Afternoon Session II\n
 Note: 1520-1605\n
 \n
 Agenda https://datatracker.ietf.org/meeting/89/materials/agenda-89-straw\n
 \n
 Session materials: https://datatracker.ietf.org/meeting/89/session/straw\n
 \n
 See in schedule: https://datatracker.ietf.org/meeting/89/agenda#row-89-2014-03-06-thu-1520-rai-straw\n
END:VEVENT
BEGIN:VEVENT
UID:ietf-89-5196-avtext
SUMMARY:avtext - Audio/Video Transport Extensions (1605-1830)
LOCATION:Buckingham
STATUS:CONFIRMED
CLASS:PUBLIC
DTSTART;TZID=Europe/London:20140306T170000
DTEND;TZID=Europe/London:20140306T183000
DTSTAMP:20161222T095705Z
URL:https://datatracker.ietf.org/meeting/89/materials/agenda-89-avtext
DESCRIPTION:Afternoon Session III\n
 Note: 1605-1830\n
 \n
 Agenda https://datatracker.ietf.org/meeting/89/materials/agenda-89-avtext\n
 \n
 Session materials: https://datatracker.ietf.org/meeting/89/session/avtext\n
 \n
 See in schedule: https://datatracker.ietf.org/meeting/89/agenda#row-89-2014-03-06-thu-1700-rai-avtext\n
END:VEVENT
BEGIN:VEVENT
UID:ietf-89-5204-clue
SUMMARY:clue - ControLling mUltiple streams for tElepresence
LOCATION:Park Suite
STATUS:CONFIRMED
CLASS:PUBLIC
DTSTART;TZID=Europe/London:20140307T090000
DTEND;TZID=Europe/London:20140307T113000
DTSTAMP:20161222T095705Z
URL:https://datatracker.ietf.org/meeting/89/materials/agenda-89-clue
DESCRIPTION:Morning Session I\n
 \n
 Agenda https://datatracker.ietf.org/meeting/89/materials/agenda-89-clue\n
 \n
 Session materials: https://datatracker.ietf.org/meeting/89/session/clue\n
 \n
 See in schedule: https://datatracker.ietf.org/meeting/89/agenda#row-89-2014-03-07-fri-0900-rai-clue\n
END:VEVENT
BEGIN:VEVENT
UID:ietf-89-5214-siprec
SUMMARY:siprec - SIP Recording
LOCATION:Park Suite
STATUS:CONFIRMED
CLASS:PUBLIC
DTSTART;TZID=Europe/London:20140307T115000
DTEND;TZID=Europe/London:20140307T132000
DTSTAMP:20161222T095705Z
URL:https://datatracker.ietf.org/meeting/89/materials/agenda-89-siprec
DESCRIPTION:Afternoon Session 1\n
 \n
 Agenda https://datatracker.ietf.org/meeting/89/materials/agenda-89-siprec\n
 \n
 Session materials: https://datatracker.ietf.org/meeting/89/session/siprec\n
 \n
 See in schedule: https://datatracker.ietf.org/meeting/89/agenda#row-89-2014-03-07-fri-1150-rai-siprec\n
END:VEVENT
END:VCALENDAR
