BEGIN:VCALENDAR
VERSION:2.0
METHOD:PUBLISH
PRODID:-//IETF//datatracker.ietf.org ical agenda//EN
BEGIN:VTIMEZONE
TZID:Europe/London
X-LIC-LOCATION:Europe/London
BEGIN:DAYLIGHT
TZOFFSETFROM:+0000
TZOFFSETTO:+0100
TZNAME:BST
DTSTART:19810329T010000
RRULE:FREQ=YEARLY;BYMONTH=3;BYDAY=-1SU
END:DAYLIGHT
BEGIN:STANDARD
TZOFFSETFROM:+0100
TZOFFSETTO:+0000
TZNAME:GMT
DTSTART:19961027T020000
RRULE:FREQ=YEARLY;BYMONTH=10;BYDAY=-1SU
END:STANDARD
BEGIN:STANDARD
TZOFFSETFROM:-000115
TZOFFSETTO:+0000
TZNAME:GMT
DTSTART:18471201T000000
RDATE:18471201T000000
END:STANDARD
BEGIN:DAYLIGHT
TZOFFSETFROM:+0000
TZOFFSETTO:+0100
TZNAME:BST
DTSTART:19160521T020000
RDATE:19160521T020000
RDATE:19170408T020000
RDATE:19180324T020000
RDATE:19190330T020000
RDATE:19200328T020000
RDATE:19210403T020000
RDATE:19220326T020000
RDATE:19230422T020000
RDATE:19240413T020000
RDATE:19250419T020000
RDATE:19260418T020000
RDATE:19270410T020000
RDATE:19280422T020000
RDATE:19290421T020000
RDATE:19300413T020000
RDATE:19310419T020000
RDATE:19320417T020000
RDATE:19330409T020000
RDATE:19340422T020000
RDATE:19350414T020000
RDATE:19360419T020000
RDATE:19370418T020000
RDATE:19380410T020000
RDATE:19390416T020000
RDATE:19400225T020000
RDATE:19460414T020000
RDATE:19470316T020000
RDATE:19480314T020000
RDATE:19490403T020000
RDATE:19500416T020000
RDATE:19510415T020000
RDATE:19520420T020000
RDATE:19530419T020000
RDATE:19540411T020000
RDATE:19550417T020000
RDATE:19560422T020000
RDATE:19570414T020000
RDATE:19580420T020000
RDATE:19590419T020000
RDATE:19600410T020000
RDATE:19610326T020000
RDATE:19620325T020000
RDATE:19630331T020000
RDATE:19640322T020000
RDATE:19650321T020000
RDATE:19660320T020000
RDATE:19670319T020000
RDATE:19680218T020000
RDATE:19720319T020000
RDATE:19730318T020000
RDATE:19740317T020000
RDATE:19750316T020000
RDATE:19760321T020000
RDATE:19770320T020000
RDATE:19780319T020000
RDATE:19790318T020000
RDATE:19800316T020000
END:DAYLIGHT
BEGIN:STANDARD
TZOFFSETFROM:+0100
TZOFFSETTO:+0000
TZNAME:GMT
DTSTART:19161001T030000
RDATE:19161001T030000
RDATE:19170917T030000
RDATE:19180930T030000
RDATE:19190929T030000
RDATE:19201025T030000
RDATE:19211003T030000
RDATE:19221008T030000
RDATE:19230916T030000
RDATE:19240921T030000
RDATE:19251004T030000
RDATE:19261003T030000
RDATE:19271002T030000
RDATE:19281007T030000
RDATE:19291006T030000
RDATE:19301005T030000
RDATE:19311004T030000
RDATE:19321002T030000
RDATE:19331008T030000
RDATE:19341007T030000
RDATE:19351006T030000
RDATE:19361004T030000
RDATE:19371003T030000
RDATE:19381002T030000
RDATE:19391119T030000
RDATE:19451007T030000
RDATE:19461006T030000
RDATE:19471102T030000
RDATE:19481031T030000
RDATE:19491030T030000
RDATE:19501022T030000
RDATE:19511021T030000
RDATE:19521026T030000
RDATE:19531004T030000
RDATE:19541003T030000
RDATE:19551002T030000
RDATE:19561007T030000
RDATE:19571006T030000
RDATE:19581005T030000
RDATE:19591004T030000
RDATE:19601002T030000
RDATE:19611029T030000
RDATE:19621028T030000
RDATE:19631027T030000
RDATE:19641025T030000
RDATE:19651024T030000
RDATE:19661023T030000
RDATE:19671029T030000
RDATE:19711031T030000
RDATE:19721029T030000
RDATE:19731028T030000
RDATE:19741027T030000
RDATE:19751026T030000
RDATE:19761024T030000
RDATE:19771023T030000
RDATE:19781029T030000
RDATE:19791028T030000
RDATE:19801026T030000
RDATE:19811025T020000
RDATE:19821024T020000
RDATE:19831023T020000
RDATE:19841028T020000
RDATE:19851027T020000
RDATE:19861026T020000
RDATE:19871025T020000
RDATE:19881023T020000
RDATE:19891029T020000
RDATE:19901028T020000
RDATE:19911027T020000
RDATE:19921025T020000
RDATE:19931024T020000
RDATE:19941023T020000
RDATE:19951022T020000
END:STANDARD
BEGIN:DAYLIGHT
TZOFFSETFROM:+0100
TZOFFSETTO:+0200
TZNAME:BDST
DTSTART:19410504T020000
RDATE:19410504T020000
RDATE:19420405T020000
RDATE:19430404T020000
RDATE:19440402T020000
RDATE:19450402T020000
RDATE:19470413T020000
END:DAYLIGHT
BEGIN:DAYLIGHT
TZOFFSETFROM:+0200
TZOFFSETTO:+0100
TZNAME:BST
DTSTART:19410810T030000
RDATE:19410810T030000
RDATE:19420809T030000
RDATE:19430815T030000
RDATE:19440917T030000
RDATE:19450715T030000
RDATE:19470810T030000
END:DAYLIGHT
BEGIN:STANDARD
TZOFFSETFROM:+0100
TZOFFSETTO:+0100
TZNAME:BST
DTSTART:19681027T000000
RDATE:19681027T000000
END:STANDARD
BEGIN:STANDARD
TZOFFSETFROM:+0000
TZOFFSETTO:+0000
TZNAME:GMT
DTSTART:19960101T000000
RDATE:19960101T000000
END:STANDARD
END:VTIMEZONE
BEGIN:VEVENT
UID:ietf-89-5042-ospf
SUMMARY:ospf - Open Shortest Path First IGP
LOCATION:Richmond/Chelsea/Tower
STATUS:CONFIRMED
CLASS:PUBLIC
DTSTART;TZID=Europe/London:20140303T090000
DTEND;TZID=Europe/London:20140303T113000
DTSTAMP:20161222T095705Z
URL:https://datatracker.ietf.org/meeting/89/materials/agenda-89-ospf
DESCRIPTION:Morning Session I\n
 \n
 Agenda https://datatracker.ietf.org/meeting/89/materials/agenda-89-ospf\n
 \n
 Session materials: https://datatracker.ietf.org/meeting/89/session/ospf\n
 \n
 See in schedule: https://datatracker.ietf.org/meeting/89/agenda#row-89-2014-03-03-mon-0900-rtg-ospf\n
END:VEVENT
BEGIN:VEVENT
UID:ietf-89-5049-sfc
SUMMARY:sfc - Service Function Chaining
LOCATION:Sovereign
STATUS:CONFIRMED
CLASS:PUBLIC
DTSTART;TZID=Europe/London:20140303T090000
DTEND;TZID=Europe/London:20140303T113000
DTSTAMP:20161222T095705Z
URL:https://datatracker.ietf.org/meeting/89/materials/agenda-89-sfc
DESCRIPTION:Morning Session I\n
 \n
 Agenda https://datatracker.ietf.org/meeting/89/materials/agenda-89-sfc\n
 \n
 Session materials: https://datatracker.ietf.org/meeting/89/session/sfc\n
 \n
 See in schedule: https://datatracker.ietf.org/meeting/89/agenda#row-89-2014-03-03-mon-0900-rtg-sfc\n
END:VEVENT
BEGIN:VEVENT
UID:ietf-89-5058-nvo3
SUMMARY:nvo3 - Network Virtualization Overlays
LOCATION:Viscount
STATUS:CONFIRMED
CLASS:PUBLIC
DTSTART;TZID=Europe/London:20140303T130000
DTEND;TZID=Europe/London:20140303T150000
DTSTAMP:20161222T095705Z
URL:https://datatracker.ietf.org/meeting/89/materials/agenda-89-nvo3
DESCRIPTION:Afternoon Session I\n
 \n
 Agenda https://datatracker.ietf.org/meeting/89/materials/agenda-89-nvo3\n
 \n
 Session materials: https://datatracker.ietf.org/meeting/89/session/nvo3\n
 \n
 See in schedule: https://datatracker.ietf.org/meeting/89/agenda#row-89-2014-03-03-mon-1300-rtg-nvo3\n
END:VEVENT
BEGIN:VEVENT
UID:ietf-89-5226-l2vpn
SUMMARY:l2vpn - Layer 2 Virtual Private Networks
LOCATION:Buckingham
STATUS:CONFIRMED
CLASS:PUBLIC
DTSTART;TZID=Europe/London:20140303T152000
DTEND;TZID=Europe/London:20140303T162000
DTSTAMP:20161222T095705Z
URL:https://datatracker.ietf.org/meeting/89/materials/agenda-89-l2vpn
DESCRIPTION:Afternoon Session II\n
 \n
 Agenda https://datatracker.ietf.org/meeting/89/materials/agenda-89-l2vpn\n
 \n
 Session materials: https://datatracker.ietf.org/meeting/89/session/l2vpn\n
 \n
 See in schedule: https://datatracker.ietf.org/meeting/89/agenda#row-89-2014-03-03-mon-1520-rtg-l2vpn\n
END:VEVENT
BEGIN:VEVENT
UID:ietf-89-5076-l2vpn
SUMMARY:l2vpn - Layer 2 Virtual Private Networks
LOCATION:Buckingham
STATUS:CONFIRMED
CLASS:PUBLIC
DTSTART;TZID=Europe/London:20140303T163000
DTEND;TZID=Europe/London:20140303T173000
DTSTAMP:20161222T095705Z
URL:https://datatracker.ietf.org/meeting/89/materials/agenda-89-l2vpn
DESCRIPTION:Afternoon Session III\n
 \n
 Agenda https://datatracker.ietf.org/meeting/89/materials/agenda-89-l2vpn\n
 \n
 Session materials: https://datatracker.ietf.org/meeting/89/session/l2vpn\n
 \n
 See in schedule: https://datatracker.ietf.org/meeting/89/agenda#row-89-2014-03-03-mon-1630-rtg-l2vpn\n
END:VEVENT
BEGIN:VEVENT
UID:ietf-89-5086-pce
SUMMARY:pce - Path Computation Element
LOCATION:Buckingham
STATUS:CONFIRMED
CLASS:PUBLIC
DTSTART;TZID=Europe/London:20140304T090000
DTEND;TZID=Europe/London:20140304T113000
DTSTAMP:20161222T095705Z
URL:https://datatracker.ietf.org/meeting/89/materials/agenda-89-pce
DESCRIPTION:Morning Session I\n
 \n
 Agenda https://datatracker.ietf.org/meeting/89/materials/agenda-89-pce\n
 \n
 Session materials: https://datatracker.ietf.org/meeting/89/session/pce\n
 \n
 See in schedule: https://datatracker.ietf.org/meeting/89/agenda#row-89-2014-03-04-tue-0900-rtg-pce\n
END:VEVENT
BEGIN:VEVENT
UID:ietf-89-5085-sidr
SUMMARY:sidr - Secure Inter-Domain Routing
LOCATION:Balmoral
STATUS:CONFIRMED
CLASS:PUBLIC
DTSTART;TZID=Europe/London:20140304T090000
DTEND;TZID=Europe/London:20140304T113000
DTSTAMP:20161222T095705Z
URL:https://datatracker.ietf.org/meeting/89/materials/agenda-89-sidr
DESCRIPTION:Morning Session I\n
 \n
 Agenda https://datatracker.ietf.org/meeting/89/materials/agenda-89-sidr\n
 \n
 Session materials: https://datatracker.ietf.org/meeting/89/session/sidr\n
 \n
 See in schedule: https://datatracker.ietf.org/meeting/89/agenda#row-89-2014-03-04-tue-0900-rtg-sidr\n
END:VEVENT
BEGIN:VEVENT
UID:ietf-89-5099-mpls
SUMMARY:mpls - Multiprotocol Label Switching
LOCATION:Sovereign
STATUS:CONFIRMED
CLASS:PUBLIC
DTSTART;TZID=Europe/London:20140304T130000
DTEND;TZID=Europe/London:20140304T140000
DTSTAMP:20161222T095705Z
URL:https://datatracker.ietf.org/meeting/89/materials/agenda-89-mpls
DESCRIPTION:Afternoon Session I\n
 \n
 Agenda https://datatracker.ietf.org/meeting/89/materials/agenda-89-mpls\n
 \n
 Session materials: https://datatracker.ietf.org/meeting/89/session/mpls\n
 \n
 See in schedule: https://datatracker.ietf.org/meeting/89/agenda#row-89-2014-03-04-tue-1300-rtg-mpls\n
END:VEVENT
BEGIN:VEVENT
UID:ietf-89-5107-isis
SUMMARY:isis - IS-IS for IP Internets
LOCATION:Blenheim
STATUS:CONFIRMED
CLASS:PUBLIC
DTSTART;TZID=Europe/London:20140304T142000
DTEND;TZID=Europe/London:20140304T155000
DTSTAMP:20161222T095705Z
URL:https://datatracker.ietf.org/meeting/89/materials/agenda-89-isis
DESCRIPTION:Afternoon Session II\n
 \n
 Agenda https://datatracker.ietf.org/meeting/89/materials/agenda-89-isis\n
 \n
 Session materials: https://datatracker.ietf.org/meeting/89/session/isis\n
 \n
 See in schedule: https://datatracker.ietf.org/meeting/89/agenda#row-89-2014-03-04-tue-1420-rtg-isis\n
END:VEVENT
BEGIN:VEVENT
UID:ietf-89-5106-pwe3
SUMMARY:pwe3 - Pseudowire Emulation Edge to Edge
LOCATION:Buckingham
STATUS:CONFIRMED
CLASS:PUBLIC
DTSTART;TZID=Europe/London:20140304T142000
DTEND;TZID=Europe/London:20140304T155000
DTSTAMP:20161222T095705Z
URL:https://datatracker.ietf.org/meeting/89/materials/agenda-89-pwe3
DESCRIPTION:Afternoon Session II\n
 \n
 Agenda https://datatracker.ietf.org/meeting/89/materials/agenda-89-pwe3\n
 \n
 Session materials: https://datatracker.ietf.org/meeting/89/session/pwe3\n
 \n
 See in schedule: https://datatracker.ietf.org/meeting/89/agenda#row-89-2014-03-04-tue-1420-rtg-pwe3\n
END:VEVENT
BEGIN:VEVENT
UID:ietf-89-5117-l3vpn
SUMMARY:l3vpn - Layer 3 Virtual Private Networks
LOCATION:Blenheim
STATUS:CONFIRMED
CLASS:PUBLIC
DTSTART;TZID=Europe/London:20140304T161000
DTEND;TZID=Europe/London:20140304T184000
DTSTAMP:20161222T095705Z
URL:https://datatracker.ietf.org/meeting/89/materials/agenda-89-l3vpn
DESCRIPTION:Afternoon Session III\n
 \n
 Agenda https://datatracker.ietf.org/meeting/89/materials/agenda-89-l3vpn\n
 \n
 Session materials: https://datatracker.ietf.org/meeting/89/session/l3vpn\n
 \n
 See in schedule: https://datatracker.ietf.org/meeting/89/agenda#row-89-2014-03-04-tue-1610-rtg-l3vpn\n
END:VEVENT
BEGIN:VEVENT
UID:ietf-89-5127-i2rs
SUMMARY:i2rs - Interface to the Routing System
LOCATION:Blenheim
STATUS:CONFIRMED
CLASS:PUBLIC
DTSTART;TZID=Europe/London:20140305T090000
DTEND;TZID=Europe/London:20140305T113000
DTSTAMP:20161222T095705Z
URL:https://datatracker.ietf.org/meeting/89/materials/agenda-89-i2rs
DESCRIPTION:Morning Session I\n
 \n
 Agenda https://datatracker.ietf.org/meeting/89/materials/agenda-89-i2rs\n
 \n
 Session materials: https://datatracker.ietf.org/meeting/89/session/i2rs\n
 \n
 See in schedule: https://datatracker.ietf.org/meeting/89/agenda#row-89-2014-03-05-wed-0900-rtg-i2rs\n
END:VEVENT
BEGIN:VEVENT
UID:ietf-89-5123-manet
SUMMARY:manet - Mobile Ad-hoc Networks
LOCATION:Palace C
STATUS:CONFIRMED
CLASS:PUBLIC
DTSTART;TZID=Europe/London:20140305T090000
DTEND;TZID=Europe/London:20140305T113000
DTSTAMP:20161222T095705Z
URL:https://datatracker.ietf.org/meeting/89/materials/agenda-89-manet
DESCRIPTION:Morning Session I\n
 \n
 Agenda https://datatracker.ietf.org/meeting/89/materials/agenda-89-manet\n
 \n
 Session materials: https://datatracker.ietf.org/meeting/89/session/manet\n
 \n
 See in schedule: https://datatracker.ietf.org/meeting/89/agenda#row-89-2014-03-05-wed-0900-rtg-manet\n
END:VEVENT
BEGIN:VEVENT
UID:ietf-89-5132-pim
SUMMARY:pim - Protocol Independent Multicast
LOCATION:Richmond/Chelsea/Tower
STATUS:CONFIRMED
CLASS:PUBLIC
DTSTART;TZID=Europe/London:20140305T130000
DTEND;TZID=Europe/London:20140305T150000
DTSTAMP:20161222T095705Z
URL:https://datatracker.ietf.org/meeting/89/materials/agenda-89-pim
DESCRIPTION:Afternoon Session I\n
 \n
 Agenda https://datatracker.ietf.org/meeting/89/materials/agenda-89-pim\n
 \n
 Session materials: https://datatracker.ietf.org/meeting/89/session/pim\n
 \n
 See in schedule: https://datatracker.ietf.org/meeting/89/agenda#row-89-2014-03-05-wed-1300-rtg-pim\n
END:VEVENT
BEGIN:VEVENT
UID:ietf-89-5139-spring
SUMMARY:spring - Source Packet Routing in Networking
LOCATION:Sovereign
STATUS:CONFIRMED
CLASS:PUBLIC
DTSTART;TZID=Europe/London:20140305T130000
DTEND;TZID=Europe/London:20140305T150000
DTSTAMP:20161222T095705Z
URL:https://datatracker.ietf.org/meeting/89/materials/agenda-89-spring
DESCRIPTION:Afternoon Session I\n
 \n
 Agenda https://datatracker.ietf.org/meeting/89/materials/agenda-89-spring\n
 \n
 Session materials: https://datatracker.ietf.org/meeting/89/session/spring\n
 \n
 See in schedule: https://datatracker.ietf.org/meeting/89/agenda#row-89-2014-03-05-wed-1300-rtg-spring\n
END:VEVENT
BEGIN:VEVENT
UID:ietf-89-5246-rtgarea
SUMMARY:rtgarea - Routing Area Open Meeting
LOCATION:Buckingham
STATUS:CONFIRMED
CLASS:PUBLIC
DTSTART;TZID=Europe/London:20140305T152000
DTEND;TZID=Europe/London:20140305T162000
DTSTAMP:20161222T095705Z
URL:https://datatracker.ietf.org/meeting/89/materials/agenda-89-rtgarea
DESCRIPTION:Afternoon Session II\n
 \n
 Agenda https://datatracker.ietf.org/meeting/89/materials/agenda-89-rtgarea\n
 \n
 Session materials: https://datatracker.ietf.org/meeting/89/session/rtgarea\n
 \n
 See in schedule: https://datatracker.ietf.org/meeting/89/agenda#row-89-2014-03-05-wed-1520-rtg-rtgarea\n
END:VEVENT
BEGIN:VEVENT
UID:ietf-89-5156-karp
SUMMARY:karp - Keying and Authentication for Routing Protocols
LOCATION:Buckingham
STATUS:CONFIRMED
CLASS:PUBLIC
DTSTART;TZID=Europe/London:20140305T163000
DTEND;TZID=Europe/London:20140305T173000
DTSTAMP:20161222T095705Z
DESCRIPTION:Afternoon Session III\n
 \n
 Session materials: https://datatracker.ietf.org/meeting/89/session/karp\n
 \n
 See in schedule: https://datatracker.ietf.org/meeting/89/agenda#row-89-2014-03-05-wed-1630-rtg-karp\n
END:VEVENT
BEGIN:VEVENT
UID:ietf-89-5167-ccamp
SUMMARY:ccamp - Common Control and Measurement Plane
LOCATION:Blenheim
STATUS:CONFIRMED
CLASS:PUBLIC
DTSTART;TZID=Europe/London:20140306T090000
DTEND;TZID=Europe/London:20140306T113000
DTSTAMP:20161222T095705Z
URL:https://datatracker.ietf.org/meeting/89/materials/agenda-89-ccamp
DESCRIPTION:Morning Session I\n
 \n
 Agenda https://datatracker.ietf.org/meeting/89/materials/agenda-89-ccamp\n
 \n
 Session materials: https://datatracker.ietf.org/meeting/89/session/ccamp\n
 \n
 See in schedule: https://datatracker.ietf.org/meeting/89/agenda#row-89-2014-03-06-thu-0900-rtg-ccamp\n
END:VEVENT
BEGIN:VEVENT
UID:ietf-89-5177-idr
SUMMARY:idr - Inter-Domain Routing
LOCATION:Blenheim
STATUS:CONFIRMED
CLASS:PUBLIC
DTSTART;TZID=Europe/London:20140306T130000
DTEND;TZID=Europe/London:20140306T150000
DTSTAMP:20161222T095705Z
URL:https://datatracker.ietf.org/meeting/89/materials/agenda-89-idr
DESCRIPTION:Afternoon Session I\n
 \n
 Agenda https://datatracker.ietf.org/meeting/89/materials/agenda-89-idr\n
 \n
 Session materials: https://datatracker.ietf.org/meeting/89/session/idr\n
 \n
 See in schedule: https://datatracker.ietf.org/meeting/89/agenda#row-89-2014-03-06-thu-1300-rtg-idr\n
END:VEVENT
BEGIN:VEVENT
UID:ietf-89-5189-mpls
SUMMARY:mpls - Multiprotocol Label Switching
LOCATION:Sovereign
STATUS:CONFIRMED
CLASS:PUBLIC
DTSTART;TZID=Europe/London:20140306T152000
DTEND;TZID=Europe/London:20140306T165000
DTSTAMP:20161222T095705Z
URL:https://datatracker.ietf.org/meeting/89/materials/agenda-89-mpls
DESCRIPTION:Afternoon Session II\n
 \n
 Agenda https://datatracker.ietf.org/meeting/89/materials/agenda-89-mpls\n
 \n
 Session materials: https://datatracker.ietf.org/meeting/89/session/mpls\n
 \n
 See in schedule: https://datatracker.ietf.org/meeting/89/agenda#row-89-2014-03-06-thu-1520-rtg-mpls\n
END:VEVENT
BEGIN:VEVENT
UID:ietf-89-5188-roll
SUMMARY:roll - Routing Over Low power and Lossy networks
LOCATION:Viscount
STATUS:CONFIRMED
CLASS:PUBLIC
DTSTART;TZID=Europe/London:20140306T152000
DTEND;TZID=Europe/London:20140306T165000
DTSTAMP:20161222T095705Z
URL:https://datatracker.ietf.org/meeting/89/materials/agenda-89-roll
DESCRIPTION:Afternoon Session II\n
 \n
 Agenda https://datatracker.ietf.org/meeting/89/materials/agenda-89-roll\n
 \n
 Session materials: https://datatracker.ietf.org/meeting/89/session/roll\n
 \n
 See in schedule: https://datatracker.ietf.org/meeting/89/agenda#row-89-2014-03-06-thu-1520-rtg-roll\n
END:VEVENT
BEGIN:VEVENT
UID:ietf-89-5199-mpls
SUMMARY:mpls - Multiprotocol Label Switching
LOCATION:Sovereign
STATUS:CONFIRMED
CLASS:PUBLIC
DTSTART;TZID=Europe/London:20140306T170000
DTEND;TZID=Europe/London:20140306T183000
DTSTAMP:20161222T095705Z
URL:https://datatracker.ietf.org/meeting/89/materials/agenda-89-mpls
DESCRIPTION:Afternoon Session III\n
 \n
 Agenda https://datatracker.ietf.org/meeting/89/materials/agenda-89-mpls\n
 \n
 Session materials: https://datatracker.ietf.org/meeting/89/session/mpls\n
 \n
 See in schedule: https://datatracker.ietf.org/meeting/89/agenda#row-89-2014-03-06-thu-1700-rtg-mpls\n
END:VEVENT
BEGIN:VEVENT
UID:ietf-89-5207-rtgwg
SUMMARY:rtgwg - Routing Area Working Group
LOCATION:Blenheim
STATUS:CONFIRMED
CLASS:PUBLIC
DTSTART;TZID=Europe/London:20140307T090000
DTEND;TZID=Europe/London:20140307T113000
DTSTAMP:20161222T095705Z
URL:https://datatracker.ietf.org/meeting/89/materials/agenda-89-rtgwg
DESCRIPTION:Morning Session I\n
 \n
 Agenda https://datatracker.ietf.org/meeting/89/materials/agenda-89-rtgwg\n
 \n
 Session materials: https://datatracker.ietf.org/meeting/89/session/rtgwg\n
 \n
 See in schedule: https://datatracker.ietf.org/meeting/89/agenda#row-89-2014-03-07-fri-0900-rtg-rtgwg\n
END:VEVENT
BEGIN:VEVENT
UID:ietf-89-5219-ccamp
SUMMARY:ccamp - Common Control and Measurement Plane
LOCATION:Sovereign
STATUS:CONFIRMED
CLASS:PUBLIC
DTSTART;TZID=Europe/London:20140307T115000
DTEND;TZID=Europe/London:20140307T132000
DTSTAMP:20161222T095705Z
URL:https://datatracker.ietf.org/meeting/89/materials/agenda-89-ccamp
DESCRIPTION:Afternoon Session 1\n
 \n
 Agenda https://datatracker.ietf.org/meeting/89/materials/agenda-89-ccamp\n
 \n
 Session materials: https://datatracker.ietf.org/meeting/89/session/ccamp\n
 \n
 See in schedule: https://datatracker.ietf.org/meeting/89/agenda#row-89-2014-03-07-fri-1150-rtg-ccamp\n
END:VEVENT
END:VCALENDAR
