BEGIN:VCALENDAR
VERSION:2.0
METHOD:PUBLISH
PRODID:-//IETF//datatracker.ietf.org ical agenda//EN
BEGIN:VTIMEZONE
TZID:Europe/London
X-LIC-LOCATION:Europe/London
BEGIN:DAYLIGHT
TZOFFSETFROM:+0000
TZOFFSETTO:+0100
TZNAME:BST
DTSTART:19810329T010000
RRULE:FREQ=YEARLY;BYMONTH=3;BYDAY=-1SU
END:DAYLIGHT
BEGIN:STANDARD
TZOFFSETFROM:+0100
TZOFFSETTO:+0000
TZNAME:GMT
DTSTART:19961027T020000
RRULE:FREQ=YEARLY;BYMONTH=10;BYDAY=-1SU
END:STANDARD
BEGIN:STANDARD
TZOFFSETFROM:-000115
TZOFFSETTO:+0000
TZNAME:GMT
DTSTART:18471201T000000
RDATE:18471201T000000
END:STANDARD
BEGIN:DAYLIGHT
TZOFFSETFROM:+0000
TZOFFSETTO:+0100
TZNAME:BST
DTSTART:19160521T020000
RDATE:19160521T020000
RDATE:19170408T020000
RDATE:19180324T020000
RDATE:19190330T020000
RDATE:19200328T020000
RDATE:19210403T020000
RDATE:19220326T020000
RDATE:19230422T020000
RDATE:19240413T020000
RDATE:19250419T020000
RDATE:19260418T020000
RDATE:19270410T020000
RDATE:19280422T020000
RDATE:19290421T020000
RDATE:19300413T020000
RDATE:19310419T020000
RDATE:19320417T020000
RDATE:19330409T020000
RDATE:19340422T020000
RDATE:19350414T020000
RDATE:19360419T020000
RDATE:19370418T020000
RDATE:19380410T020000
RDATE:19390416T020000
RDATE:19400225T020000
RDATE:19460414T020000
RDATE:19470316T020000
RDATE:19480314T020000
RDATE:19490403T020000
RDATE:19500416T020000
RDATE:19510415T020000
RDATE:19520420T020000
RDATE:19530419T020000
RDATE:19540411T020000
RDATE:19550417T020000
RDATE:19560422T020000
RDATE:19570414T020000
RDATE:19580420T020000
RDATE:19590419T020000
RDATE:19600410T020000
RDATE:19610326T020000
RDATE:19620325T020000
RDATE:19630331T020000
RDATE:19640322T020000
RDATE:19650321T020000
RDATE:19660320T020000
RDATE:19670319T020000
RDATE:19680218T020000
RDATE:19720319T020000
RDATE:19730318T020000
RDATE:19740317T020000
RDATE:19750316T020000
RDATE:19760321T020000
RDATE:19770320T020000
RDATE:19780319T020000
RDATE:19790318T020000
RDATE:19800316T020000
END:DAYLIGHT
BEGIN:STANDARD
TZOFFSETFROM:+0100
TZOFFSETTO:+0000
TZNAME:GMT
DTSTART:19161001T030000
RDATE:19161001T030000
RDATE:19170917T030000
RDATE:19180930T030000
RDATE:19190929T030000
RDATE:19201025T030000
RDATE:19211003T030000
RDATE:19221008T030000
RDATE:19230916T030000
RDATE:19240921T030000
RDATE:19251004T030000
RDATE:19261003T030000
RDATE:19271002T030000
RDATE:19281007T030000
RDATE:19291006T030000
RDATE:19301005T030000
RDATE:19311004T030000
RDATE:19321002T030000
RDATE:19331008T030000
RDATE:19341007T030000
RDATE:19351006T030000
RDATE:19361004T030000
RDATE:19371003T030000
RDATE:19381002T030000
RDATE:19391119T030000
RDATE:19451007T030000
RDATE:19461006T030000
RDATE:19471102T030000
RDATE:19481031T030000
RDATE:19491030T030000
RDATE:19501022T030000
RDATE:19511021T030000
RDATE:19521026T030000
RDATE:19531004T030000
RDATE:19541003T030000
RDATE:19551002T030000
RDATE:19561007T030000
RDATE:19571006T030000
RDATE:19581005T030000
RDATE:19591004T030000
RDATE:19601002T030000
RDATE:19611029T030000
RDATE:19621028T030000
RDATE:19631027T030000
RDATE:19641025T030000
RDATE:19651024T030000
RDATE:19661023T030000
RDATE:19671029T030000
RDATE:19711031T030000
RDATE:19721029T030000
RDATE:19731028T030000
RDATE:19741027T030000
RDATE:19751026T030000
RDATE:19761024T030000
RDATE:19771023T030000
RDATE:19781029T030000
RDATE:19791028T030000
RDATE:19801026T030000
RDATE:19811025T020000
RDATE:19821024T020000
RDATE:19831023T020000
RDATE:19841028T020000
RDATE:19851027T020000
RDATE:19861026T020000
RDATE:19871025T020000
RDATE:19881023T020000
RDATE:19891029T020000
RDATE:19901028T020000
RDATE:19911027T020000
RDATE:19921025T020000
RDATE:19931024T020000
RDATE:19941023T020000
RDATE:19951022T020000
END:STANDARD
BEGIN:DAYLIGHT
TZOFFSETFROM:+0100
TZOFFSETTO:+0200
TZNAME:BDST
DTSTART:19410504T020000
RDATE:19410504T020000
RDATE:19420405T020000
RDATE:19430404T020000
RDATE:19440402T020000
RDATE:19450402T020000
RDATE:19470413T020000
END:DAYLIGHT
BEGIN:DAYLIGHT
TZOFFSETFROM:+0200
TZOFFSETTO:+0100
TZNAME:BST
DTSTART:19410810T030000
RDATE:19410810T030000
RDATE:19420809T030000
RDATE:19430815T030000
RDATE:19440917T030000
RDATE:19450715T030000
RDATE:19470810T030000
END:DAYLIGHT
BEGIN:STANDARD
TZOFFSETFROM:+0100
TZOFFSETTO:+0100
TZNAME:BST
DTSTART:19681027T000000
RDATE:19681027T000000
END:STANDARD
BEGIN:STANDARD
TZOFFSETFROM:+0000
TZOFFSETTO:+0000
TZNAME:GMT
DTSTART:19960101T000000
RDATE:19960101T000000
END:STANDARD
END:VTIMEZONE
BEGIN:VEVENT
UID:ietf-89-5044-tcpm
SUMMARY:tcpm - TCP Maintenance and Minor Extensions
LOCATION:Park Suite
STATUS:CONFIRMED
CLASS:PUBLIC
DTSTART;TZID=Europe/London:20140303T090000
DTEND;TZID=Europe/London:20140303T113000
DTSTAMP:20161222T095705Z
URL:https://datatracker.ietf.org/meeting/89/materials/agenda-89-tcpm
DESCRIPTION:Morning Session I\n
 \n
 Agenda https://datatracker.ietf.org/meeting/89/materials/agenda-89-tcpm\n
 \n
 Session materials: https://datatracker.ietf.org/meeting/89/session/tcpm\n
 \n
 See in schedule: https://datatracker.ietf.org/meeting/89/agenda#row-89-2014-03-03-mon-0900-tsv-tcpm\n
END:VEVENT
BEGIN:VEVENT
UID:ietf-89-5053-ippm
SUMMARY:ippm - IP Performance Metrics
LOCATION:Palace C
STATUS:CONFIRMED
CLASS:PUBLIC
DTSTART;TZID=Europe/London:20140303T130000
DTEND;TZID=Europe/London:20140303T150000
DTSTAMP:20161222T095705Z
URL:https://datatracker.ietf.org/meeting/89/materials/agenda-89-ippm
DESCRIPTION:Afternoon Session I\n
 \n
 Agenda https://datatracker.ietf.org/meeting/89/materials/agenda-89-ippm\n
 \n
 Session materials: https://datatracker.ietf.org/meeting/89/session/ippm\n
 \n
 See in schedule: https://datatracker.ietf.org/meeting/89/agenda#row-89-2014-03-03-mon-1300-tsv-ippm\n
END:VEVENT
BEGIN:VEVENT
UID:ietf-89-5055-mptcp
SUMMARY:mptcp - Multipath TCP
LOCATION:Balmoral
STATUS:CONFIRMED
CLASS:PUBLIC
DTSTART;TZID=Europe/London:20140303T130000
DTEND;TZID=Europe/London:20140303T150000
DTSTAMP:20161222T095705Z
URL:https://datatracker.ietf.org/meeting/89/materials/agenda-89-mptcp
DESCRIPTION:Afternoon Session I\n
 \n
 Agenda https://datatracker.ietf.org/meeting/89/materials/agenda-89-mptcp\n
 \n
 Session materials: https://datatracker.ietf.org/meeting/89/session/mptcp\n
 \n
 See in schedule: https://datatracker.ietf.org/meeting/89/agenda#row-89-2014-03-03-mon-1300-tsv-mptcp\n
END:VEVENT
BEGIN:VEVENT
UID:ietf-89-5088-vnfpool
SUMMARY:vnfpool - Virtualized Network Function Pool
LOCATION:Viscount
STATUS:CONFIRMED
CLASS:PUBLIC
DTSTART;TZID=Europe/London:20140304T090000
DTEND;TZID=Europe/London:20140304T113000
DTSTAMP:20161222T095705Z
URL:https://datatracker.ietf.org/meeting/89/materials/agenda-89-vnfpool
DESCRIPTION:Morning Session I\n
 \n
 Agenda https://datatracker.ietf.org/meeting/89/materials/agenda-89-vnfpool\n
 \n
 Session materials: https://datatracker.ietf.org/meeting/89/session/vnfpool\n
 \n
 See in schedule: https://datatracker.ietf.org/meeting/89/agenda#row-89-2014-03-04-tue-0900-tsv-vnfpool\n
END:VEVENT
BEGIN:VEVENT
UID:ietf-89-5096-tcmtf
SUMMARY:tcmtf - Tunneling Compressed Multiplexed Traffic Flows
LOCATION:Buckingham
STATUS:CONFIRMED
CLASS:PUBLIC
DTSTART;TZID=Europe/London:20140304T130000
DTEND;TZID=Europe/London:20140304T140000
DTSTAMP:20161222T095705Z
URL:https://datatracker.ietf.org/meeting/89/materials/agenda-89-tcmtf
DESCRIPTION:Afternoon Session I\n
 \n
 Agenda https://datatracker.ietf.org/meeting/89/materials/agenda-89-tcmtf\n
 \n
 Session materials: https://datatracker.ietf.org/meeting/89/session/tcmtf\n
 \n
 See in schedule: https://datatracker.ietf.org/meeting/89/agenda#row-89-2014-03-04-tue-1300-tsv-tcmtf\n
END:VEVENT
BEGIN:VEVENT
UID:ietf-89-5109-aqm
SUMMARY:aqm - Active Queue Management and Packet Scheduling
LOCATION:Sovereign
STATUS:CONFIRMED
CLASS:PUBLIC
DTSTART;TZID=Europe/London:20140304T142000
DTEND;TZID=Europe/London:20140304T155000
DTSTAMP:20161222T095705Z
URL:https://datatracker.ietf.org/meeting/89/materials/agenda-89-aqm
DESCRIPTION:Afternoon Session II\n
 \n
 Agenda https://datatracker.ietf.org/meeting/89/materials/agenda-89-aqm\n
 \n
 Session materials: https://datatracker.ietf.org/meeting/89/session/aqm\n
 \n
 See in schedule: https://datatracker.ietf.org/meeting/89/agenda#row-89-2014-03-04-tue-1420-tsv-aqm\n
END:VEVENT
BEGIN:VEVENT
UID:ietf-89-5112-ppsp
SUMMARY:ppsp - Peer to Peer Streaming Protocol
LOCATION:Richmond/Chelsea/Tower
STATUS:CONFIRMED
CLASS:PUBLIC
DTSTART;TZID=Europe/London:20140304T161000
DTEND;TZID=Europe/London:20140304T184000
DTSTAMP:20161222T095705Z
URL:https://datatracker.ietf.org/meeting/89/materials/agenda-89-ppsp
DESCRIPTION:Afternoon Session III\n
 \n
 Agenda https://datatracker.ietf.org/meeting/89/materials/agenda-89-ppsp\n
 \n
 Session materials: https://datatracker.ietf.org/meeting/89/session/ppsp\n
 \n
 See in schedule: https://datatracker.ietf.org/meeting/89/agenda#row-89-2014-03-04-tue-1610-tsv-ppsp\n
END:VEVENT
BEGIN:VEVENT
UID:ietf-89-5119-rmcat
SUMMARY:rmcat - RTP Media Congestion Avoidance Techniques
LOCATION:Sovereign
STATUS:CONFIRMED
CLASS:PUBLIC
DTSTART;TZID=Europe/London:20140304T161000
DTEND;TZID=Europe/London:20140304T184000
DTSTAMP:20161222T095705Z
URL:https://datatracker.ietf.org/meeting/89/materials/agenda-89-rmcat
DESCRIPTION:Afternoon Session III\n
 \n
 Agenda https://datatracker.ietf.org/meeting/89/materials/agenda-89-rmcat\n
 \n
 Session materials: https://datatracker.ietf.org/meeting/89/session/rmcat\n
 \n
 See in schedule: https://datatracker.ietf.org/meeting/89/agenda#row-89-2014-03-04-tue-1610-tsv-rmcat\n
END:VEVENT
BEGIN:VEVENT
UID:ietf-89-5122-nfsv4
SUMMARY:nfsv4 - Network File System Version 4
LOCATION:Richmond/Chelsea/Tower
STATUS:CONFIRMED
CLASS:PUBLIC
DTSTART;TZID=Europe/London:20140305T090000
DTEND;TZID=Europe/London:20140305T113000
DTSTAMP:20161222T095705Z
URL:https://datatracker.ietf.org/meeting/89/materials/agenda-89-nfsv4
DESCRIPTION:Morning Session I\n
 \n
 Agenda https://datatracker.ietf.org/meeting/89/materials/agenda-89-nfsv4\n
 \n
 Session materials: https://datatracker.ietf.org/meeting/89/session/nfsv4\n
 \n
 See in schedule: https://datatracker.ietf.org/meeting/89/agenda#row-89-2014-03-05-wed-0900-tsv-nfsv4\n
END:VEVENT
BEGIN:VEVENT
UID:ietf-89-5138-taps
SUMMARY:taps - Transport Services
LOCATION:Viscount
STATUS:CONFIRMED
CLASS:PUBLIC
DTSTART;TZID=Europe/London:20140305T130000
DTEND;TZID=Europe/London:20140305T150000
DTSTAMP:20161222T095705Z
URL:https://datatracker.ietf.org/meeting/89/materials/agenda-89-taps
DESCRIPTION:Afternoon Session I\n
 \n
 Agenda https://datatracker.ietf.org/meeting/89/materials/agenda-89-taps\n
 \n
 Session materials: https://datatracker.ietf.org/meeting/89/session/taps\n
 \n
 See in schedule: https://datatracker.ietf.org/meeting/89/agenda#row-89-2014-03-05-wed-1300-tsv-taps\n
END:VEVENT
BEGIN:VEVENT
UID:ietf-89-5248-tsvwg
SUMMARY:tsvwg - Transport Area Working Group
LOCATION:Viscount
STATUS:CONFIRMED
CLASS:PUBLIC
DTSTART;TZID=Europe/London:20140305T152000
DTEND;TZID=Europe/London:20140305T162000
DTSTAMP:20161222T095705Z
URL:https://datatracker.ietf.org/meeting/89/materials/agenda-89-tsvwg
DESCRIPTION:Afternoon Session II\n
 \n
 Agenda https://datatracker.ietf.org/meeting/89/materials/agenda-89-tsvwg\n
 \n
 Session materials: https://datatracker.ietf.org/meeting/89/session/tsvwg\n
 \n
 See in schedule: https://datatracker.ietf.org/meeting/89/agenda#row-89-2014-03-05-wed-1520-tsv-tsvwg\n
END:VEVENT
BEGIN:VEVENT
UID:ietf-89-5157-tram
SUMMARY:tram - TURN Revised and Modernized
LOCATION:Blenheim
STATUS:CONFIRMED
CLASS:PUBLIC
DTSTART;TZID=Europe/London:20140305T163000
DTEND;TZID=Europe/London:20140305T173000
DTSTAMP:20161222T095705Z
URL:https://datatracker.ietf.org/meeting/89/materials/agenda-89-tram
DESCRIPTION:Afternoon Session III\n
 \n
 Agenda https://datatracker.ietf.org/meeting/89/materials/agenda-89-tram\n
 \n
 Session materials: https://datatracker.ietf.org/meeting/89/session/tram\n
 \n
 See in schedule: https://datatracker.ietf.org/meeting/89/agenda#row-89-2014-03-05-wed-1630-tsv-tram\n
END:VEVENT
BEGIN:VEVENT
UID:ietf-89-5168-tsvarea
SUMMARY:tsvarea - Transport Area Open Meeting
LOCATION:Viscount
STATUS:CONFIRMED
CLASS:PUBLIC
DTSTART;TZID=Europe/London:20140306T090000
DTEND;TZID=Europe/London:20140306T113000
DTSTAMP:20161222T095705Z
URL:https://datatracker.ietf.org/meeting/89/materials/agenda-89-tsvarea
DESCRIPTION:Morning Session I\n
 \n
 Agenda https://datatracker.ietf.org/meeting/89/materials/agenda-89-tsvarea\n
 \n
 Session materials: https://datatracker.ietf.org/meeting/89/session/tsvarea\n
 \n
 See in schedule: https://datatracker.ietf.org/meeting/89/agenda#row-89-2014-03-06-thu-0900-tsv-tsvarea\n
END:VEVENT
BEGIN:VEVENT
UID:ietf-89-5174-cdni
SUMMARY:cdni - Content Delivery Networks Interconnection
LOCATION:Park Suite
STATUS:CONFIRMED
CLASS:PUBLIC
DTSTART;TZID=Europe/London:20140306T130000
DTEND;TZID=Europe/London:20140306T150000
DTSTAMP:20161222T095705Z
URL:https://datatracker.ietf.org/meeting/89/materials/agenda-89-cdni
DESCRIPTION:Afternoon Session I\n
 \n
 Agenda https://datatracker.ietf.org/meeting/89/materials/agenda-89-cdni\n
 \n
 Session materials: https://datatracker.ietf.org/meeting/89/session/cdni\n
 \n
 See in schedule: https://datatracker.ietf.org/meeting/89/agenda#row-89-2014-03-06-thu-1300-tsv-cdni\n
END:VEVENT
BEGIN:VEVENT
UID:ietf-89-5175-tcpm
SUMMARY:tcpm - TCP Maintenance and Minor Extensions
LOCATION:Balmoral
STATUS:CONFIRMED
CLASS:PUBLIC
DTSTART;TZID=Europe/London:20140306T130000
DTEND;TZID=Europe/London:20140306T150000
DTSTAMP:20161222T095705Z
URL:https://datatracker.ietf.org/meeting/89/materials/agenda-89-tcpm
DESCRIPTION:Afternoon Session I\n
 \n
 Agenda https://datatracker.ietf.org/meeting/89/materials/agenda-89-tcpm\n
 \n
 Session materials: https://datatracker.ietf.org/meeting/89/session/tcpm\n
 \n
 See in schedule: https://datatracker.ietf.org/meeting/89/agenda#row-89-2014-03-06-thu-1300-tsv-tcpm\n
END:VEVENT
BEGIN:VEVENT
UID:ietf-89-5185-alto
SUMMARY:alto - Application-Layer Traffic Optimization
LOCATION:Balmoral
STATUS:CONFIRMED
CLASS:PUBLIC
DTSTART;TZID=Europe/London:20140306T152000
DTEND;TZID=Europe/London:20140306T165000
DTSTAMP:20161222T095705Z
URL:https://datatracker.ietf.org/meeting/89/materials/agenda-89-alto
DESCRIPTION:Afternoon Session II\n
 \n
 Agenda https://datatracker.ietf.org/meeting/89/materials/agenda-89-alto\n
 \n
 Session materials: https://datatracker.ietf.org/meeting/89/session/alto\n
 \n
 See in schedule: https://datatracker.ietf.org/meeting/89/agenda#row-89-2014-03-06-thu-1520-tsv-alto\n
END:VEVENT
BEGIN:VEVENT
UID:ietf-89-5206-tsvwg
SUMMARY:tsvwg - Transport Area Working Group
LOCATION:Buckingham
STATUS:CONFIRMED
CLASS:PUBLIC
DTSTART;TZID=Europe/London:20140307T090000
DTEND;TZID=Europe/London:20140307T113000
DTSTAMP:20161222T095705Z
URL:https://datatracker.ietf.org/meeting/89/materials/agenda-89-tsvwg
DESCRIPTION:Morning Session I\n
 \n
 Agenda https://datatracker.ietf.org/meeting/89/materials/agenda-89-tsvwg\n
 \n
 Session materials: https://datatracker.ietf.org/meeting/89/session/tsvwg\n
 \n
 See in schedule: https://datatracker.ietf.org/meeting/89/agenda#row-89-2014-03-07-fri-0900-tsv-tsvwg\n
END:VEVENT
END:VCALENDAR
