BEGIN:VCALENDAR
VERSION:2.0
METHOD:PUBLISH
PRODID:-//IETF//datatracker.ietf.org ical agenda//EN
BEGIN:VTIMEZONE
TZID:America/Toronto
X-LIC-LOCATION:America/Toronto
BEGIN:DAYLIGHT
TZOFFSETFROM:-0500
TZOFFSETTO:-0400
TZNAME:EDT
DTSTART:20070311T020000
RRULE:FREQ=YEARLY;BYMONTH=3;BYDAY=2SU
END:DAYLIGHT
BEGIN:STANDARD
TZOFFSETFROM:-0400
TZOFFSETTO:-0500
TZNAME:EST
DTSTART:20071104T020000
RRULE:FREQ=YEARLY;BYMONTH=11;BYDAY=1SU
END:STANDARD
BEGIN:STANDARD
TZOFFSETFROM:-051732
TZOFFSETTO:-0500
TZNAME:EST
DTSTART:18950101T000000
RDATE:18950101T000000
END:STANDARD
BEGIN:DAYLIGHT
TZOFFSETFROM:-0500
TZOFFSETTO:-0400
TZNAME:EDT
DTSTART:19180414T020000
RDATE:19180414T020000
RDATE:19190330T233000
RDATE:19200502T020000
RDATE:19210515T020000
RDATE:19220514T020000
RDATE:19230513T020000
RDATE:19240504T020000
RDATE:19250503T020000
RDATE:19260502T020000
RDATE:19270501T020000
RDATE:19280429T020000
RDATE:19290428T020000
RDATE:19300427T020000
RDATE:19310426T020000
RDATE:19320501T020000
RDATE:19330430T020000
RDATE:19340429T020000
RDATE:19350428T020000
RDATE:19360426T020000
RDATE:19370425T020000
RDATE:19380424T020000
RDATE:19390430T020000
RDATE:19400428T020000
RDATE:19460428T020000
RDATE:19470427T000000
RDATE:19480425T000000
RDATE:19490424T000000
RDATE:19500430T020000
RDATE:19510429T020000
RDATE:19520427T020000
RDATE:19530426T020000
RDATE:19540425T020000
RDATE:19550424T020000
RDATE:19560429T020000
RDATE:19570428T020000
RDATE:19580427T020000
RDATE:19590426T020000
RDATE:19600424T020000
RDATE:19610430T020000
RDATE:19620429T020000
RDATE:19630428T020000
RDATE:19640426T020000
RDATE:19650425T020000
RDATE:19660424T020000
RDATE:19670430T020000
RDATE:19680428T020000
RDATE:19690427T020000
RDATE:19700426T020000
RDATE:19710425T020000
RDATE:19720430T020000
RDATE:19730429T020000
RDATE:19740428T020000
RDATE:19750427T020000
RDATE:19760425T020000
RDATE:19770424T020000
RDATE:19780430T020000
RDATE:19790429T020000
RDATE:19800427T020000
RDATE:19810426T020000
RDATE:19820425T020000
RDATE:19830424T020000
RDATE:19840429T020000
RDATE:19850428T020000
RDATE:19860427T020000
RDATE:19870405T020000
RDATE:19880403T020000
RDATE:19890402T020000
RDATE:19900401T020000
RDATE:19910407T020000
RDATE:19920405T020000
RDATE:19930404T020000
RDATE:19940403T020000
RDATE:19950402T020000
RDATE:19960407T020000
RDATE:19970406T020000
RDATE:19980405T020000
RDATE:19990404T020000
RDATE:20000402T020000
RDATE:20010401T020000
RDATE:20020407T020000
RDATE:20030406T020000
RDATE:20040404T020000
RDATE:20050403T020000
RDATE:20060402T020000
END:DAYLIGHT
BEGIN:STANDARD
TZOFFSETFROM:-0400
TZOFFSETTO:-0500
TZNAME:EST
DTSTART:19181027T020000
RDATE:19181027T020000
RDATE:19191026T000000
RDATE:19200926T000000
RDATE:19210915T020000
RDATE:19220917T020000
RDATE:19230916T020000
RDATE:19240921T020000
RDATE:19250920T020000
RDATE:19260919T020000
RDATE:19270925T020000
RDATE:19280930T020000
RDATE:19290929T020000
RDATE:19300928T020000
RDATE:19310927T020000
RDATE:19320925T020000
RDATE:19331001T020000
RDATE:19340930T020000
RDATE:19350929T020000
RDATE:19360927T020000
RDATE:19370926T020000
RDATE:19380925T020000
RDATE:19390924T020000
RDATE:19450930T020000
RDATE:19460929T020000
RDATE:19470928T000000
RDATE:19480926T000000
RDATE:19491127T000000
RDATE:19501126T020000
RDATE:19510930T020000
RDATE:19520928T020000
RDATE:19530927T020000
RDATE:19540926T020000
RDATE:19550925T020000
RDATE:19560930T020000
RDATE:19571027T020000
RDATE:19581026T020000
RDATE:19591025T020000
RDATE:19601030T020000
RDATE:19611029T020000
RDATE:19621028T020000
RDATE:19631027T020000
RDATE:19641025T020000
RDATE:19651031T020000
RDATE:19661030T020000
RDATE:19671029T020000
RDATE:19681027T020000
RDATE:19691026T020000
RDATE:19701025T020000
RDATE:19711031T020000
RDATE:19721029T020000
RDATE:19731028T020000
RDATE:19741027T020000
RDATE:19751026T020000
RDATE:19761031T020000
RDATE:19771030T020000
RDATE:19781029T020000
RDATE:19791028T020000
RDATE:19801026T020000
RDATE:19811025T020000
RDATE:19821031T020000
RDATE:19831030T020000
RDATE:19841028T020000
RDATE:19851027T020000
RDATE:19861026T020000
RDATE:19871025T020000
RDATE:19881030T020000
RDATE:19891029T020000
RDATE:19901028T020000
RDATE:19911027T020000
RDATE:19921025T020000
RDATE:19931031T020000
RDATE:19941030T020000
RDATE:19951029T020000
RDATE:19961027T020000
RDATE:19971026T020000
RDATE:19981025T020000
RDATE:19991031T020000
RDATE:20001029T020000
RDATE:20011028T020000
RDATE:20021027T020000
RDATE:20031026T020000
RDATE:20041031T020000
RDATE:20051030T020000
RDATE:20061029T020000
END:STANDARD
BEGIN:STANDARD
TZOFFSETFROM:-0500
TZOFFSETTO:-0500
TZNAME:EST
DTSTART:19190101T000000
RDATE:19190101T000000
RDATE:19460101T000000
RDATE:19740101T000000
END:STANDARD
BEGIN:DAYLIGHT
TZOFFSETFROM:-0400
TZOFFSETTO:-0400
TZNAME:EWT
DTSTART:19420209T020000
RDATE:19420209T020000
END:DAYLIGHT
BEGIN:DAYLIGHT
TZOFFSETFROM:-0400
TZOFFSETTO:-0400
TZNAME:EPT
DTSTART:19450814T190000
RDATE:19450814T190000
END:DAYLIGHT
END:VTIMEZONE
BEGIN:VEVENT
UID:ietf-90-5348-ntp
SUMMARY:ntp - Network Time Protocol (Combined with TICTOC)
LOCATION:Salon A
STATUS:CONFIRMED
CLASS:PUBLIC
DTSTART;TZID=America/Toronto:20140721T090000
DTEND;TZID=America/Toronto:20140721T113000
DTSTAMP:20161222T095705Z
URL:https://datatracker.ietf.org/meeting/90/materials/agenda-90-ntp
DESCRIPTION:Morning Session I\n
 Note: Combined with TICTOC\n
 \n
 Agenda https://datatracker.ietf.org/meeting/90/materials/agenda-90-ntp\n
 \n
 Session materials: https://datatracker.ietf.org/meeting/90/session/ntp\n
 \n
 See in schedule: https://datatracker.ietf.org/meeting/90/agenda#row-90-2014-07-21-mon-0900-int-ntp\n
END:VEVENT
BEGIN:VEVENT
UID:ietf-90-5348-tictoc
SUMMARY:tictoc - Timing over IP Connection and Transfer of Clock (Combined with NTP)
LOCATION:Salon A
STATUS:CONFIRMED
CLASS:PUBLIC
DTSTART;TZID=America/Toronto:20140721T090000
DTEND;TZID=America/Toronto:20140721T113000
DTSTAMP:20161222T095705Z
URL:https://datatracker.ietf.org/meeting/90/materials/agenda-90-tictoc
DESCRIPTION:Morning Session I\n
 Note: Combined with NTP\n
 \n
 Agenda https://datatracker.ietf.org/meeting/90/materials/agenda-90-tictoc\n
 \n
 Session materials: https://datatracker.ietf.org/meeting/90/session/tictoc\n
 \n
 See in schedule: https://datatracker.ietf.org/meeting/90/agenda#row-90-2014-07-21-mon-0900-int-tictoc\n
END:VEVENT
BEGIN:VEVENT
UID:ietf-90-5349-trill
SUMMARY:trill - Transparent Interconnection of Lots of Links
LOCATION:Manitoba
STATUS:CONFIRMED
CLASS:PUBLIC
DTSTART;TZID=America/Toronto:20140721T090000
DTEND;TZID=America/Toronto:20140721T113000
DTSTAMP:20161222T095705Z
URL:https://datatracker.ietf.org/meeting/90/materials/agenda-90-trill
DESCRIPTION:Morning Session I\n
 \n
 Agenda https://datatracker.ietf.org/meeting/90/materials/agenda-90-trill\n
 \n
 Session materials: https://datatracker.ietf.org/meeting/90/session/trill\n
 \n
 See in schedule: https://datatracker.ietf.org/meeting/90/agenda#row-90-2014-07-21-mon-0900-int-trill\n
END:VEVENT
BEGIN:VEVENT
UID:ietf-90-5354-intarea
SUMMARY:intarea - Internet Area Working Group
LOCATION:Ballroom
STATUS:CONFIRMED
CLASS:PUBLIC
DTSTART;TZID=America/Toronto:20140721T130000
DTEND;TZID=America/Toronto:20140721T150000
DTSTAMP:20161222T095705Z
URL:https://datatracker.ietf.org/meeting/90/materials/agenda-90-intarea
DESCRIPTION:Afternoon Session I\n
 \n
 Agenda https://datatracker.ietf.org/meeting/90/materials/agenda-90-intarea\n
 \n
 Session materials: https://datatracker.ietf.org/meeting/90/session/intarea\n
 \n
 See in schedule: https://datatracker.ietf.org/meeting/90/agenda#row-90-2014-07-21-mon-1300-int-intarea\n
END:VEVENT
BEGIN:VEVENT
UID:ietf-90-5528-6tisch
SUMMARY:6tisch - IPv6 over the TSCH mode of IEEE 802.15.4e
LOCATION:Territories
STATUS:CONFIRMED
CLASS:PUBLIC
DTSTART;TZID=America/Toronto:20140721T152000
DTEND;TZID=America/Toronto:20140721T165000
DTSTAMP:20161222T095705Z
URL:https://datatracker.ietf.org/meeting/90/materials/agenda-90-6tisch
DESCRIPTION:Afternoon Session II\n
 \n
 Agenda https://datatracker.ietf.org/meeting/90/materials/agenda-90-6tisch\n
 \n
 Session materials: https://datatracker.ietf.org/meeting/90/session/6tisch\n
 \n
 See in schedule: https://datatracker.ietf.org/meeting/90/agenda#row-90-2014-07-21-mon-1520-int-6tisch\n
END:VEVENT
BEGIN:VEVENT
UID:ietf-90-5388-lwig
SUMMARY:lwig - Light-Weight Implementation Guidance
LOCATION:Ontario
STATUS:CONFIRMED
CLASS:PUBLIC
DTSTART;TZID=America/Toronto:20140722T130000
DTEND;TZID=America/Toronto:20140722T140000
DTSTAMP:20161222T095705Z
URL:https://datatracker.ietf.org/meeting/90/materials/agenda-90-lwig
DESCRIPTION:Afternoon Session I\n
 \n
 Agenda https://datatracker.ietf.org/meeting/90/materials/agenda-90-lwig\n
 \n
 Session materials: https://datatracker.ietf.org/meeting/90/session/lwig\n
 \n
 See in schedule: https://datatracker.ietf.org/meeting/90/agenda#row-90-2014-07-22-tue-1300-int-lwig\n
END:VEVENT
BEGIN:VEVENT
UID:ietf-90-5418-mif
SUMMARY:mif - Multiple Interfaces
LOCATION:Territories
STATUS:CONFIRMED
CLASS:PUBLIC
DTSTART;TZID=America/Toronto:20140722T164000
DTEND;TZID=America/Toronto:20140722T184000
DTSTAMP:20161222T095705Z
URL:https://datatracker.ietf.org/meeting/90/materials/agenda-90-mif
DESCRIPTION:Afternoon Session III\n
 \n
 Agenda https://datatracker.ietf.org/meeting/90/materials/agenda-90-mif\n
 \n
 Session materials: https://datatracker.ietf.org/meeting/90/session/mif\n
 \n
 See in schedule: https://datatracker.ietf.org/meeting/90/agenda#row-90-2014-07-22-tue-1640-int-mif\n
END:VEVENT
BEGIN:VEVENT
UID:ietf-90-5424-dhc
SUMMARY:dhc - Dynamic Host Configuration
LOCATION:Salon B
STATUS:CONFIRMED
CLASS:PUBLIC
DTSTART;TZID=America/Toronto:20140723T090000
DTEND;TZID=America/Toronto:20140723T113000
DTSTAMP:20161222T095705Z
URL:https://datatracker.ietf.org/meeting/90/materials/agenda-90-dhc
DESCRIPTION:Morning Session I\n
 \n
 Agenda https://datatracker.ietf.org/meeting/90/materials/agenda-90-dhc\n
 \n
 Session materials: https://datatracker.ietf.org/meeting/90/session/dhc\n
 \n
 See in schedule: https://datatracker.ietf.org/meeting/90/agenda#row-90-2014-07-23-wed-0900-int-dhc\n
END:VEVENT
BEGIN:VEVENT
UID:ietf-90-5455-6lo
SUMMARY:6lo - IPv6 over Networks of Resource-constrained Nodes
LOCATION:Tudor 7/8
STATUS:CONFIRMED
CLASS:PUBLIC
DTSTART;TZID=America/Toronto:20140724T090000
DTEND;TZID=America/Toronto:20140724T113000
DTSTAMP:20161222T095705Z
URL:https://datatracker.ietf.org/meeting/90/materials/agenda-90-6lo
DESCRIPTION:Morning Session I\n
 \n
 Agenda https://datatracker.ietf.org/meeting/90/materials/agenda-90-6lo\n
 \n
 Session materials: https://datatracker.ietf.org/meeting/90/session/6lo\n
 \n
 See in schedule: https://datatracker.ietf.org/meeting/90/agenda#row-90-2014-07-24-thu-0900-int-6lo\n
END:VEVENT
BEGIN:VEVENT
UID:ietf-90-5458-pcp
SUMMARY:pcp - Port Control Protocol (CANCELED)
LOCATION:Salon A
STATUS:CONFIRMED
CLASS:PUBLIC
DTSTART;TZID=America/Toronto:20140724T090000
DTEND;TZID=America/Toronto:20140724T113000
DTSTAMP:20161222T095705Z
DESCRIPTION:Morning Session I\n
 Note: CANCELED\n
 \n
 Session materials: https://datatracker.ietf.org/meeting/90/session/pcp\n
 \n
 See in schedule: https://datatracker.ietf.org/meeting/90/agenda#row-90-2014-07-24-thu-0900-int-pcp\n
END:VEVENT
BEGIN:VEVENT
UID:ietf-90-5468-netext
SUMMARY:netext - Network-Based Mobility Extensions
LOCATION:Salon B
STATUS:CONFIRMED
CLASS:PUBLIC
DTSTART;TZID=America/Toronto:20140724T130000
DTEND;TZID=America/Toronto:20140724T150000
DTSTAMP:20161222T095705Z
URL:https://datatracker.ietf.org/meeting/90/materials/agenda-90-netext
DESCRIPTION:Afternoon Session I\n
 \n
 Agenda https://datatracker.ietf.org/meeting/90/materials/agenda-90-netext\n
 \n
 Session materials: https://datatracker.ietf.org/meeting/90/session/netext\n
 \n
 See in schedule: https://datatracker.ietf.org/meeting/90/agenda#row-90-2014-07-24-thu-1300-int-netext\n
END:VEVENT
BEGIN:VEVENT
UID:ietf-90-5465-softwire
SUMMARY:softwire - Softwires
LOCATION:Ontario
STATUS:CONFIRMED
CLASS:PUBLIC
DTSTART;TZID=America/Toronto:20140724T130000
DTEND;TZID=America/Toronto:20140724T150000
DTSTAMP:20161222T095705Z
URL:https://datatracker.ietf.org/meeting/90/materials/agenda-90-softwire
DESCRIPTION:Afternoon Session I\n
 \n
 Agenda https://datatracker.ietf.org/meeting/90/materials/agenda-90-softwire\n
 \n
 Session materials: https://datatracker.ietf.org/meeting/90/session/softwire\n
 \n
 See in schedule: https://datatracker.ietf.org/meeting/90/agenda#row-90-2014-07-24-thu-1300-int-softwire\n
END:VEVENT
BEGIN:VEVENT
UID:ietf-90-5484-dmm
SUMMARY:dmm - Distributed Mobility Management
LOCATION:Territories
STATUS:CONFIRMED
CLASS:PUBLIC
DTSTART;TZID=America/Toronto:20140724T152000
DTEND;TZID=America/Toronto:20140724T172000
DTSTAMP:20161222T095705Z
URL:https://datatracker.ietf.org/meeting/90/materials/agenda-90-dmm
DESCRIPTION:Afternoon Session II\n
 \n
 Agenda https://datatracker.ietf.org/meeting/90/materials/agenda-90-dmm\n
 \n
 Session materials: https://datatracker.ietf.org/meeting/90/session/dmm\n
 \n
 See in schedule: https://datatracker.ietf.org/meeting/90/agenda#row-90-2014-07-24-thu-1520-int-dmm\n
END:VEVENT
BEGIN:VEVENT
UID:ietf-90-5483-dnssd
SUMMARY:dnssd - Extensions for Scalable DNS Service Discovery 
LOCATION:Canadian
STATUS:CONFIRMED
CLASS:PUBLIC
DTSTART;TZID=America/Toronto:20140724T152000
DTEND;TZID=America/Toronto:20140724T172000
DTSTAMP:20161222T095705Z
URL:https://datatracker.ietf.org/meeting/90/materials/agenda-90-dnssd
DESCRIPTION:Afternoon Session II\n
 \n
 Agenda https://datatracker.ietf.org/meeting/90/materials/agenda-90-dnssd\n
 \n
 Session materials: https://datatracker.ietf.org/meeting/90/session/dnssd\n
 \n
 See in schedule: https://datatracker.ietf.org/meeting/90/agenda#row-90-2014-07-24-thu-1520-int-dnssd\n
END:VEVENT
BEGIN:VEVENT
UID:ietf-90-5494-sunset4
SUMMARY:sunset4 - Sunsetting IPv4
LOCATION:Canadian
STATUS:CONFIRMED
CLASS:PUBLIC
DTSTART;TZID=America/Toronto:20140724T173000
DTEND;TZID=America/Toronto:20140724T183000
DTSTAMP:20161222T095705Z
URL:https://datatracker.ietf.org/meeting/90/materials/agenda-90-sunset4
DESCRIPTION:Afternoon Session III\n
 \n
 Agenda https://datatracker.ietf.org/meeting/90/materials/agenda-90-sunset4\n
 \n
 Session materials: https://datatracker.ietf.org/meeting/90/session/sunset4\n
 \n
 See in schedule: https://datatracker.ietf.org/meeting/90/agenda#row-90-2014-07-24-thu-1730-int-sunset4\n
END:VEVENT
BEGIN:VEVENT
UID:ietf-90-5495-lisp
SUMMARY:lisp - Locator/ID Separation Protocol
LOCATION:Territories
STATUS:CONFIRMED
CLASS:PUBLIC
DTSTART;TZID=America/Toronto:20140724T173000
DTEND;TZID=America/Toronto:20140724T183000
DTSTAMP:20161222T095705Z
URL:https://datatracker.ietf.org/meeting/90/materials/agenda-90-lisp
DESCRIPTION:Afternoon Session III\n
 \n
 Agenda https://datatracker.ietf.org/meeting/90/materials/agenda-90-lisp\n
 \n
 Session materials: https://datatracker.ietf.org/meeting/90/session/lisp\n
 \n
 See in schedule: https://datatracker.ietf.org/meeting/90/agenda#row-90-2014-07-24-thu-1730-int-lisp\n
END:VEVENT
BEGIN:VEVENT
UID:ietf-90-5505-homenet
SUMMARY:homenet - Home Networking
LOCATION:Canadian
STATUS:CONFIRMED
CLASS:PUBLIC
DTSTART;TZID=America/Toronto:20140725T090000
DTEND;TZID=America/Toronto:20140725T113000
DTSTAMP:20161222T095705Z
URL:https://datatracker.ietf.org/meeting/90/materials/agenda-90-homenet
DESCRIPTION:Morning Session I\n
 \n
 Agenda https://datatracker.ietf.org/meeting/90/materials/agenda-90-homenet\n
 \n
 Session materials: https://datatracker.ietf.org/meeting/90/session/homenet\n
 \n
 See in schedule: https://datatracker.ietf.org/meeting/90/agenda#row-90-2014-07-25-fri-0900-int-homenet\n
END:VEVENT
BEGIN:VEVENT
UID:ietf-90-5508-dmm
SUMMARY:dmm - Distributed Mobility Management
LOCATION:Ballroom
STATUS:CONFIRMED
CLASS:PUBLIC
DTSTART;TZID=America/Toronto:20140725T115000
DTEND;TZID=America/Toronto:20140725T132000
DTSTAMP:20161222T095704Z
URL:https://datatracker.ietf.org/meeting/90/materials/agenda-90-dmm
DESCRIPTION:Afternoon Session I\n
 \n
 Agenda https://datatracker.ietf.org/meeting/90/materials/agenda-90-dmm\n
 \n
 Session materials: https://datatracker.ietf.org/meeting/90/session/dmm\n
 \n
 See in schedule: https://datatracker.ietf.org/meeting/90/agenda#row-90-2014-07-25-fri-1150-int-dmm\n
END:VEVENT
END:VCALENDAR
