BEGIN:VCALENDAR
VERSION:2.0
METHOD:PUBLISH
PRODID:-//IETF//datatracker.ietf.org ical agenda//EN
BEGIN:VTIMEZONE
TZID:America/Toronto
X-LIC-LOCATION:America/Toronto
BEGIN:DAYLIGHT
TZOFFSETFROM:-0500
TZOFFSETTO:-0400
TZNAME:EDT
DTSTART:20070311T020000
RRULE:FREQ=YEARLY;BYMONTH=3;BYDAY=2SU
END:DAYLIGHT
BEGIN:STANDARD
TZOFFSETFROM:-0400
TZOFFSETTO:-0500
TZNAME:EST
DTSTART:20071104T020000
RRULE:FREQ=YEARLY;BYMONTH=11;BYDAY=1SU
END:STANDARD
BEGIN:STANDARD
TZOFFSETFROM:-051732
TZOFFSETTO:-0500
TZNAME:EST
DTSTART:18950101T000000
RDATE:18950101T000000
END:STANDARD
BEGIN:DAYLIGHT
TZOFFSETFROM:-0500
TZOFFSETTO:-0400
TZNAME:EDT
DTSTART:19180414T020000
RDATE:19180414T020000
RDATE:19190330T233000
RDATE:19200502T020000
RDATE:19210515T020000
RDATE:19220514T020000
RDATE:19230513T020000
RDATE:19240504T020000
RDATE:19250503T020000
RDATE:19260502T020000
RDATE:19270501T020000
RDATE:19280429T020000
RDATE:19290428T020000
RDATE:19300427T020000
RDATE:19310426T020000
RDATE:19320501T020000
RDATE:19330430T020000
RDATE:19340429T020000
RDATE:19350428T020000
RDATE:19360426T020000
RDATE:19370425T020000
RDATE:19380424T020000
RDATE:19390430T020000
RDATE:19400428T020000
RDATE:19460428T020000
RDATE:19470427T000000
RDATE:19480425T000000
RDATE:19490424T000000
RDATE:19500430T020000
RDATE:19510429T020000
RDATE:19520427T020000
RDATE:19530426T020000
RDATE:19540425T020000
RDATE:19550424T020000
RDATE:19560429T020000
RDATE:19570428T020000
RDATE:19580427T020000
RDATE:19590426T020000
RDATE:19600424T020000
RDATE:19610430T020000
RDATE:19620429T020000
RDATE:19630428T020000
RDATE:19640426T020000
RDATE:19650425T020000
RDATE:19660424T020000
RDATE:19670430T020000
RDATE:19680428T020000
RDATE:19690427T020000
RDATE:19700426T020000
RDATE:19710425T020000
RDATE:19720430T020000
RDATE:19730429T020000
RDATE:19740428T020000
RDATE:19750427T020000
RDATE:19760425T020000
RDATE:19770424T020000
RDATE:19780430T020000
RDATE:19790429T020000
RDATE:19800427T020000
RDATE:19810426T020000
RDATE:19820425T020000
RDATE:19830424T020000
RDATE:19840429T020000
RDATE:19850428T020000
RDATE:19860427T020000
RDATE:19870405T020000
RDATE:19880403T020000
RDATE:19890402T020000
RDATE:19900401T020000
RDATE:19910407T020000
RDATE:19920405T020000
RDATE:19930404T020000
RDATE:19940403T020000
RDATE:19950402T020000
RDATE:19960407T020000
RDATE:19970406T020000
RDATE:19980405T020000
RDATE:19990404T020000
RDATE:20000402T020000
RDATE:20010401T020000
RDATE:20020407T020000
RDATE:20030406T020000
RDATE:20040404T020000
RDATE:20050403T020000
RDATE:20060402T020000
END:DAYLIGHT
BEGIN:STANDARD
TZOFFSETFROM:-0400
TZOFFSETTO:-0500
TZNAME:EST
DTSTART:19181027T020000
RDATE:19181027T020000
RDATE:19191026T000000
RDATE:19200926T000000
RDATE:19210915T020000
RDATE:19220917T020000
RDATE:19230916T020000
RDATE:19240921T020000
RDATE:19250920T020000
RDATE:19260919T020000
RDATE:19270925T020000
RDATE:19280930T020000
RDATE:19290929T020000
RDATE:19300928T020000
RDATE:19310927T020000
RDATE:19320925T020000
RDATE:19331001T020000
RDATE:19340930T020000
RDATE:19350929T020000
RDATE:19360927T020000
RDATE:19370926T020000
RDATE:19380925T020000
RDATE:19390924T020000
RDATE:19450930T020000
RDATE:19460929T020000
RDATE:19470928T000000
RDATE:19480926T000000
RDATE:19491127T000000
RDATE:19501126T020000
RDATE:19510930T020000
RDATE:19520928T020000
RDATE:19530927T020000
RDATE:19540926T020000
RDATE:19550925T020000
RDATE:19560930T020000
RDATE:19571027T020000
RDATE:19581026T020000
RDATE:19591025T020000
RDATE:19601030T020000
RDATE:19611029T020000
RDATE:19621028T020000
RDATE:19631027T020000
RDATE:19641025T020000
RDATE:19651031T020000
RDATE:19661030T020000
RDATE:19671029T020000
RDATE:19681027T020000
RDATE:19691026T020000
RDATE:19701025T020000
RDATE:19711031T020000
RDATE:19721029T020000
RDATE:19731028T020000
RDATE:19741027T020000
RDATE:19751026T020000
RDATE:19761031T020000
RDATE:19771030T020000
RDATE:19781029T020000
RDATE:19791028T020000
RDATE:19801026T020000
RDATE:19811025T020000
RDATE:19821031T020000
RDATE:19831030T020000
RDATE:19841028T020000
RDATE:19851027T020000
RDATE:19861026T020000
RDATE:19871025T020000
RDATE:19881030T020000
RDATE:19891029T020000
RDATE:19901028T020000
RDATE:19911027T020000
RDATE:19921025T020000
RDATE:19931031T020000
RDATE:19941030T020000
RDATE:19951029T020000
RDATE:19961027T020000
RDATE:19971026T020000
RDATE:19981025T020000
RDATE:19991031T020000
RDATE:20001029T020000
RDATE:20011028T020000
RDATE:20021027T020000
RDATE:20031026T020000
RDATE:20041031T020000
RDATE:20051030T020000
RDATE:20061029T020000
END:STANDARD
BEGIN:STANDARD
TZOFFSETFROM:-0500
TZOFFSETTO:-0500
TZNAME:EST
DTSTART:19190101T000000
RDATE:19190101T000000
RDATE:19460101T000000
RDATE:19740101T000000
END:STANDARD
BEGIN:DAYLIGHT
TZOFFSETFROM:-0400
TZOFFSETTO:-0400
TZNAME:EWT
DTSTART:19420209T020000
RDATE:19420209T020000
END:DAYLIGHT
BEGIN:DAYLIGHT
TZOFFSETFROM:-0400
TZOFFSETTO:-0400
TZNAME:EPT
DTSTART:19450814T190000
RDATE:19450814T190000
END:DAYLIGHT
END:VTIMEZONE
BEGIN:VEVENT
UID:ietf-90-5343-pce
SUMMARY:pce - Path Computation Element
LOCATION:Ballroom
STATUS:CONFIRMED
CLASS:PUBLIC
DTSTART;TZID=America/Toronto:20140721T090000
DTEND;TZID=America/Toronto:20140721T113000
DTSTAMP:20161222T095705Z
URL:https://datatracker.ietf.org/meeting/90/materials/agenda-90-pce
DESCRIPTION:Morning Session I\n
 \n
 Agenda https://datatracker.ietf.org/meeting/90/materials/agenda-90-pce\n
 \n
 Session materials: https://datatracker.ietf.org/meeting/90/session/pce\n
 \n
 See in schedule: https://datatracker.ietf.org/meeting/90/agenda#row-90-2014-07-21-mon-0900-rtg-pce\n
END:VEVENT
BEGIN:VEVENT
UID:ietf-90-5362-l2vpn
SUMMARY:l2vpn - Layer 2 Virtual Private Networks
LOCATION:Canadian
STATUS:CONFIRMED
CLASS:PUBLIC
DTSTART;TZID=America/Toronto:20140721T130000
DTEND;TZID=America/Toronto:20140721T150000
DTSTAMP:20161222T095705Z
URL:https://datatracker.ietf.org/meeting/90/materials/agenda-90-l2vpn
DESCRIPTION:Afternoon Session I\n
 \n
 Agenda https://datatracker.ietf.org/meeting/90/materials/agenda-90-l2vpn\n
 \n
 Session materials: https://datatracker.ietf.org/meeting/90/session/l2vpn\n
 \n
 See in schedule: https://datatracker.ietf.org/meeting/90/agenda#row-90-2014-07-21-mon-1300-rtg-l2vpn\n
END:VEVENT
BEGIN:VEVENT
UID:ietf-90-5358-ospf
SUMMARY:ospf - Open Shortest Path First IGP
LOCATION:Salon B
STATUS:CONFIRMED
CLASS:PUBLIC
DTSTART;TZID=America/Toronto:20140721T130000
DTEND;TZID=America/Toronto:20140721T150000
DTSTAMP:20161222T095705Z
URL:https://datatracker.ietf.org/meeting/90/materials/agenda-90-ospf
DESCRIPTION:Afternoon Session I\n
 \n
 Agenda https://datatracker.ietf.org/meeting/90/materials/agenda-90-ospf\n
 \n
 Session materials: https://datatracker.ietf.org/meeting/90/session/ospf\n
 \n
 See in schedule: https://datatracker.ietf.org/meeting/90/agenda#row-90-2014-07-21-mon-1300-rtg-ospf\n
END:VEVENT
BEGIN:VEVENT
UID:ietf-90-5523-bfd
SUMMARY:bfd - Bidirectional Forwarding Detection
LOCATION:Salon B
STATUS:CONFIRMED
CLASS:PUBLIC
DTSTART;TZID=America/Toronto:20140721T152000
DTEND;TZID=America/Toronto:20140721T165000
DTSTAMP:20161222T095705Z
URL:https://datatracker.ietf.org/meeting/90/materials/agenda-90-bfd
DESCRIPTION:Afternoon Session II\n
 \n
 Agenda https://datatracker.ietf.org/meeting/90/materials/agenda-90-bfd\n
 \n
 Session materials: https://datatracker.ietf.org/meeting/90/session/bfd\n
 \n
 See in schedule: https://datatracker.ietf.org/meeting/90/agenda#row-90-2014-07-21-mon-1520-rtg-bfd\n
END:VEVENT
BEGIN:VEVENT
UID:ietf-90-5521-ccamp
SUMMARY:ccamp - Common Control and Measurement Plane
LOCATION:Tudor 7/8
STATUS:CONFIRMED
CLASS:PUBLIC
DTSTART;TZID=America/Toronto:20140721T152000
DTEND;TZID=America/Toronto:20140721T165000
DTSTAMP:20161222T095705Z
URL:https://datatracker.ietf.org/meeting/90/materials/agenda-90-ccamp
DESCRIPTION:Afternoon Session II\n
 \n
 Agenda https://datatracker.ietf.org/meeting/90/materials/agenda-90-ccamp\n
 \n
 Session materials: https://datatracker.ietf.org/meeting/90/session/ccamp\n
 \n
 See in schedule: https://datatracker.ietf.org/meeting/90/agenda#row-90-2014-07-21-mon-1520-rtg-ccamp\n
END:VEVENT
BEGIN:VEVENT
UID:ietf-90-5525-forces
SUMMARY:forces - Forwarding and Control Element Separation
LOCATION:Manitoba
STATUS:CONFIRMED
CLASS:PUBLIC
DTSTART;TZID=America/Toronto:20140721T152000
DTEND;TZID=America/Toronto:20140721T165000
DTSTAMP:20161222T095705Z
URL:https://datatracker.ietf.org/meeting/90/materials/agenda-90-forces
DESCRIPTION:Afternoon Session II\n
 \n
 Agenda https://datatracker.ietf.org/meeting/90/materials/agenda-90-forces\n
 \n
 Session materials: https://datatracker.ietf.org/meeting/90/session/forces\n
 \n
 See in schedule: https://datatracker.ietf.org/meeting/90/agenda#row-90-2014-07-21-mon-1520-rtg-forces\n
END:VEVENT
BEGIN:VEVENT
UID:ietf-90-5378-idr
SUMMARY:idr - Inter-Domain Routing
LOCATION:Tudor 7/8
STATUS:CONFIRMED
CLASS:PUBLIC
DTSTART;TZID=America/Toronto:20140722T090000
DTEND;TZID=America/Toronto:20140722T113000
DTSTAMP:20161222T095705Z
URL:https://datatracker.ietf.org/meeting/90/materials/agenda-90-idr
DESCRIPTION:Morning Session I\n
 \n
 Agenda https://datatracker.ietf.org/meeting/90/materials/agenda-90-idr\n
 \n
 Session materials: https://datatracker.ietf.org/meeting/90/session/idr\n
 \n
 See in schedule: https://datatracker.ietf.org/meeting/90/agenda#row-90-2014-07-22-tue-0900-rtg-idr\n
END:VEVENT
BEGIN:VEVENT
UID:ietf-90-5384-mpls
SUMMARY:mpls - Multiprotocol Label Switching
LOCATION:Canadian
STATUS:CONFIRMED
CLASS:PUBLIC
DTSTART;TZID=America/Toronto:20140722T090000
DTEND;TZID=America/Toronto:20140722T113000
DTSTAMP:20161222T095705Z
URL:https://datatracker.ietf.org/meeting/90/materials/agenda-90-mpls
DESCRIPTION:Morning Session I\n
 \n
 Agenda https://datatracker.ietf.org/meeting/90/materials/agenda-90-mpls\n
 \n
 Session materials: https://datatracker.ietf.org/meeting/90/session/mpls\n
 \n
 See in schedule: https://datatracker.ietf.org/meeting/90/agenda#row-90-2014-07-22-tue-0900-rtg-mpls\n
END:VEVENT
BEGIN:VEVENT
UID:ietf-90-5406-i2rs
SUMMARY:i2rs - Interface to the Routing System
LOCATION:Canadian
STATUS:CONFIRMED
CLASS:PUBLIC
DTSTART;TZID=America/Toronto:20140722T142000
DTEND;TZID=America/Toronto:20140722T162000
DTSTAMP:20161222T095705Z
URL:https://datatracker.ietf.org/meeting/90/materials/agenda-90-i2rs
DESCRIPTION:Afternoon Session II\n
 \n
 Agenda https://datatracker.ietf.org/meeting/90/materials/agenda-90-i2rs\n
 \n
 Session materials: https://datatracker.ietf.org/meeting/90/session/i2rs\n
 \n
 See in schedule: https://datatracker.ietf.org/meeting/90/agenda#row-90-2014-07-22-tue-1420-rtg-i2rs\n
END:VEVENT
BEGIN:VEVENT
UID:ietf-90-5404-manet
SUMMARY:manet - Mobile Ad-hoc Networks
LOCATION:Manitoba
STATUS:CONFIRMED
CLASS:PUBLIC
DTSTART;TZID=America/Toronto:20140722T142000
DTEND;TZID=America/Toronto:20140722T162000
DTSTAMP:20161222T095705Z
URL:https://datatracker.ietf.org/meeting/90/materials/agenda-90-manet
DESCRIPTION:Afternoon Session II\n
 \n
 Agenda https://datatracker.ietf.org/meeting/90/materials/agenda-90-manet\n
 \n
 Session materials: https://datatracker.ietf.org/meeting/90/session/manet\n
 \n
 See in schedule: https://datatracker.ietf.org/meeting/90/agenda#row-90-2014-07-22-tue-1420-rtg-manet\n
END:VEVENT
BEGIN:VEVENT
UID:ietf-90-5414-pim
SUMMARY:pim - Protocol Independent Multicast
LOCATION:Salon A
STATUS:CONFIRMED
CLASS:PUBLIC
DTSTART;TZID=America/Toronto:20140722T164000
DTEND;TZID=America/Toronto:20140722T184000
DTSTAMP:20161222T095705Z
URL:https://datatracker.ietf.org/meeting/90/materials/agenda-90-pim
DESCRIPTION:Afternoon Session III\n
 \n
 Agenda https://datatracker.ietf.org/meeting/90/materials/agenda-90-pim\n
 \n
 Session materials: https://datatracker.ietf.org/meeting/90/session/pim\n
 \n
 See in schedule: https://datatracker.ietf.org/meeting/90/agenda#row-90-2014-07-22-tue-1640-rtg-pim\n
END:VEVENT
BEGIN:VEVENT
UID:ietf-90-5429-ccamp
SUMMARY:ccamp - Common Control and Measurement Plane
LOCATION:Territories
STATUS:CONFIRMED
CLASS:PUBLIC
DTSTART;TZID=America/Toronto:20140723T090000
DTEND;TZID=America/Toronto:20140723T113000
DTSTAMP:20161222T095705Z
URL:https://datatracker.ietf.org/meeting/90/materials/agenda-90-ccamp
DESCRIPTION:Morning Session I\n
 \n
 Agenda https://datatracker.ietf.org/meeting/90/materials/agenda-90-ccamp\n
 \n
 Session materials: https://datatracker.ietf.org/meeting/90/session/ccamp\n
 \n
 See in schedule: https://datatracker.ietf.org/meeting/90/agenda#row-90-2014-07-23-wed-0900-rtg-ccamp\n
END:VEVENT
BEGIN:VEVENT
UID:ietf-90-5428-sfc
SUMMARY:sfc - Service Function Chaining
LOCATION:Canadian
STATUS:CONFIRMED
CLASS:PUBLIC
DTSTART;TZID=America/Toronto:20140723T090000
DTEND;TZID=America/Toronto:20140723T113000
DTSTAMP:20161222T095705Z
URL:https://datatracker.ietf.org/meeting/90/materials/agenda-90-sfc
DESCRIPTION:Morning Session I\n
 \n
 Agenda https://datatracker.ietf.org/meeting/90/materials/agenda-90-sfc\n
 \n
 Session materials: https://datatracker.ietf.org/meeting/90/session/sfc\n
 \n
 See in schedule: https://datatracker.ietf.org/meeting/90/agenda#row-90-2014-07-23-wed-0900-rtg-sfc\n
END:VEVENT
BEGIN:VEVENT
UID:ietf-90-5440-roll
SUMMARY:roll - Routing Over Low power and Lossy networks
LOCATION:Territories
STATUS:CONFIRMED
CLASS:PUBLIC
DTSTART;TZID=America/Toronto:20140723T130000
DTEND;TZID=America/Toronto:20140723T150000
DTSTAMP:20161222T095705Z
URL:https://datatracker.ietf.org/meeting/90/materials/agenda-90-roll
DESCRIPTION:Afternoon Session I\n
 \n
 Agenda https://datatracker.ietf.org/meeting/90/materials/agenda-90-roll\n
 \n
 Session materials: https://datatracker.ietf.org/meeting/90/session/roll\n
 \n
 See in schedule: https://datatracker.ietf.org/meeting/90/agenda#row-90-2014-07-23-wed-1300-rtg-roll\n
END:VEVENT
BEGIN:VEVENT
UID:ietf-90-5439-spring
SUMMARY:spring - Source Packet Routing in Networking
LOCATION:Canadian
STATUS:CONFIRMED
CLASS:PUBLIC
DTSTART;TZID=America/Toronto:20140723T130000
DTEND;TZID=America/Toronto:20140723T150000
DTSTAMP:20161222T095705Z
URL:https://datatracker.ietf.org/meeting/90/materials/agenda-90-spring
DESCRIPTION:Afternoon Session I\n
 \n
 Agenda https://datatracker.ietf.org/meeting/90/materials/agenda-90-spring\n
 \n
 Session materials: https://datatracker.ietf.org/meeting/90/session/spring\n
 \n
 See in schedule: https://datatracker.ietf.org/meeting/90/agenda#row-90-2014-07-23-wed-1300-rtg-spring\n
END:VEVENT
BEGIN:VEVENT
UID:ietf-90-5531-l3vpn
SUMMARY:l3vpn - Layer 3 Virtual Private Networks
LOCATION:Ontario
STATUS:CONFIRMED
CLASS:PUBLIC
DTSTART;TZID=America/Toronto:20140723T152000
DTEND;TZID=America/Toronto:20140723T165000
DTSTAMP:20161222T095705Z
URL:https://datatracker.ietf.org/meeting/90/materials/agenda-90-l3vpn
DESCRIPTION:Afternoon Session II\n
 \n
 Agenda https://datatracker.ietf.org/meeting/90/materials/agenda-90-l3vpn\n
 \n
 Session materials: https://datatracker.ietf.org/meeting/90/session/l3vpn\n
 \n
 See in schedule: https://datatracker.ietf.org/meeting/90/agenda#row-90-2014-07-23-wed-1520-rtg-l3vpn\n
END:VEVENT
BEGIN:VEVENT
UID:ietf-90-5530-rtgwg
SUMMARY:rtgwg - Routing Area Working Group
LOCATION:Ballroom
STATUS:CONFIRMED
CLASS:PUBLIC
DTSTART;TZID=America/Toronto:20140723T152000
DTEND;TZID=America/Toronto:20140723T165000
DTSTAMP:20161222T095705Z
URL:https://datatracker.ietf.org/meeting/90/materials/agenda-90-rtgwg
DESCRIPTION:Afternoon Session II\n
 \n
 Agenda https://datatracker.ietf.org/meeting/90/materials/agenda-90-rtgwg\n
 \n
 Session materials: https://datatracker.ietf.org/meeting/90/session/rtgwg\n
 \n
 See in schedule: https://datatracker.ietf.org/meeting/90/agenda#row-90-2014-07-23-wed-1520-rtg-rtgwg\n
END:VEVENT
BEGIN:VEVENT
UID:ietf-90-5454-nvo3
SUMMARY:nvo3 - Network Virtualization Overlays
LOCATION:Ontario
STATUS:CONFIRMED
CLASS:PUBLIC
DTSTART;TZID=America/Toronto:20140724T090000
DTEND;TZID=America/Toronto:20140724T113000
DTSTAMP:20161222T095705Z
URL:https://datatracker.ietf.org/meeting/90/materials/agenda-90-nvo3
DESCRIPTION:Morning Session I\n
 \n
 Agenda https://datatracker.ietf.org/meeting/90/materials/agenda-90-nvo3\n
 \n
 Session materials: https://datatracker.ietf.org/meeting/90/session/nvo3\n
 \n
 See in schedule: https://datatracker.ietf.org/meeting/90/agenda#row-90-2014-07-24-thu-0900-rtg-nvo3\n
END:VEVENT
BEGIN:VEVENT
UID:ietf-90-5466-actn
SUMMARY:actn - Abstraction and Control of Transport Networks
LOCATION:Tudor 7/8
STATUS:CONFIRMED
CLASS:PUBLIC
DTSTART;TZID=America/Toronto:20140724T130000
DTEND;TZID=America/Toronto:20140724T150000
DTSTAMP:20161222T095705Z
URL:https://datatracker.ietf.org/meeting/90/materials/agenda-90-actn
DESCRIPTION:Afternoon Session I\n
 \n
 Agenda https://datatracker.ietf.org/meeting/90/materials/agenda-90-actn\n
 \n
 Session materials: https://datatracker.ietf.org/meeting/90/session/actn\n
 \n
 See in schedule: https://datatracker.ietf.org/meeting/90/agenda#row-90-2014-07-24-thu-1300-rtg-actn\n
END:VEVENT
BEGIN:VEVENT
UID:ietf-90-5476-rtgarea
SUMMARY:rtgarea - Routing Area Open Meeting
LOCATION:Ontario
STATUS:CONFIRMED
CLASS:PUBLIC
DTSTART;TZID=America/Toronto:20140724T152000
DTEND;TZID=America/Toronto:20140724T172000
DTSTAMP:20161222T095705Z
URL:https://datatracker.ietf.org/meeting/90/materials/agenda-90-rtgarea
DESCRIPTION:Afternoon Session II\n
 \n
 Agenda https://datatracker.ietf.org/meeting/90/materials/agenda-90-rtgarea\n
 \n
 Session materials: https://datatracker.ietf.org/meeting/90/session/rtgarea\n
 \n
 See in schedule: https://datatracker.ietf.org/meeting/90/agenda#row-90-2014-07-24-thu-1520-rtg-rtgarea\n
END:VEVENT
BEGIN:VEVENT
UID:ietf-90-5488-isis
SUMMARY:isis - IS-IS for IP Internets
LOCATION:Tudor 7/8
STATUS:CONFIRMED
CLASS:PUBLIC
DTSTART;TZID=America/Toronto:20140724T173000
DTEND;TZID=America/Toronto:20140724T183000
DTSTAMP:20161222T095705Z
URL:https://datatracker.ietf.org/meeting/90/materials/agenda-90-isis
DESCRIPTION:Afternoon Session III\n
 \n
 Agenda https://datatracker.ietf.org/meeting/90/materials/agenda-90-isis\n
 \n
 Session materials: https://datatracker.ietf.org/meeting/90/session/isis\n
 \n
 See in schedule: https://datatracker.ietf.org/meeting/90/agenda#row-90-2014-07-24-thu-1730-rtg-isis\n
END:VEVENT
BEGIN:VEVENT
UID:ietf-90-5492-pwe3
SUMMARY:pwe3 - Pseudowire Emulation Edge to Edge
LOCATION:Manitoba
STATUS:CONFIRMED
CLASS:PUBLIC
DTSTART;TZID=America/Toronto:20140724T173000
DTEND;TZID=America/Toronto:20140724T183000
DTSTAMP:20161222T095705Z
URL:https://datatracker.ietf.org/meeting/90/materials/agenda-90-pwe3
DESCRIPTION:Afternoon Session III\n
 \n
 Agenda https://datatracker.ietf.org/meeting/90/materials/agenda-90-pwe3\n
 \n
 Session materials: https://datatracker.ietf.org/meeting/90/session/pwe3\n
 \n
 See in schedule: https://datatracker.ietf.org/meeting/90/agenda#row-90-2014-07-24-thu-1730-rtg-pwe3\n
END:VEVENT
BEGIN:VEVENT
UID:ietf-90-5497-mpls
SUMMARY:mpls - Multiprotocol Label Switching
LOCATION:Ballroom
STATUS:CONFIRMED
CLASS:PUBLIC
DTSTART;TZID=America/Toronto:20140725T090000
DTEND;TZID=America/Toronto:20140725T113000
DTSTAMP:20161222T095705Z
URL:https://datatracker.ietf.org/meeting/90/materials/agenda-90-mpls
DESCRIPTION:Morning Session I\n
 \n
 Agenda https://datatracker.ietf.org/meeting/90/materials/agenda-90-mpls\n
 \n
 Session materials: https://datatracker.ietf.org/meeting/90/session/mpls\n
 \n
 See in schedule: https://datatracker.ietf.org/meeting/90/agenda#row-90-2014-07-25-fri-0900-rtg-mpls\n
END:VEVENT
BEGIN:VEVENT
UID:ietf-90-5506-sidr
SUMMARY:sidr - Secure Inter-Domain Routing
LOCATION:Territories
STATUS:CONFIRMED
CLASS:PUBLIC
DTSTART;TZID=America/Toronto:20140725T090000
DTEND;TZID=America/Toronto:20140725T113000
DTSTAMP:20161222T095705Z
URL:https://datatracker.ietf.org/meeting/90/materials/agenda-90-sidr
DESCRIPTION:Morning Session I\n
 \n
 Agenda https://datatracker.ietf.org/meeting/90/materials/agenda-90-sidr\n
 \n
 Session materials: https://datatracker.ietf.org/meeting/90/session/sidr\n
 \n
 See in schedule: https://datatracker.ietf.org/meeting/90/agenda#row-90-2014-07-25-fri-0900-rtg-sidr\n
END:VEVENT
END:VCALENDAR
