BEGIN:VCALENDAR
VERSION:2.0
METHOD:PUBLISH
PRODID:-//IETF//datatracker.ietf.org ical agenda//EN
BEGIN:VTIMEZONE
TZID:America/Toronto
X-LIC-LOCATION:America/Toronto
BEGIN:DAYLIGHT
TZOFFSETFROM:-0500
TZOFFSETTO:-0400
TZNAME:EDT
DTSTART:20070311T020000
RRULE:FREQ=YEARLY;BYMONTH=3;BYDAY=2SU
END:DAYLIGHT
BEGIN:STANDARD
TZOFFSETFROM:-0400
TZOFFSETTO:-0500
TZNAME:EST
DTSTART:20071104T020000
RRULE:FREQ=YEARLY;BYMONTH=11;BYDAY=1SU
END:STANDARD
BEGIN:STANDARD
TZOFFSETFROM:-051732
TZOFFSETTO:-0500
TZNAME:EST
DTSTART:18950101T000000
RDATE:18950101T000000
END:STANDARD
BEGIN:DAYLIGHT
TZOFFSETFROM:-0500
TZOFFSETTO:-0400
TZNAME:EDT
DTSTART:19180414T020000
RDATE:19180414T020000
RDATE:19190330T233000
RDATE:19200502T020000
RDATE:19210515T020000
RDATE:19220514T020000
RDATE:19230513T020000
RDATE:19240504T020000
RDATE:19250503T020000
RDATE:19260502T020000
RDATE:19270501T020000
RDATE:19280429T020000
RDATE:19290428T020000
RDATE:19300427T020000
RDATE:19310426T020000
RDATE:19320501T020000
RDATE:19330430T020000
RDATE:19340429T020000
RDATE:19350428T020000
RDATE:19360426T020000
RDATE:19370425T020000
RDATE:19380424T020000
RDATE:19390430T020000
RDATE:19400428T020000
RDATE:19460428T020000
RDATE:19470427T000000
RDATE:19480425T000000
RDATE:19490424T000000
RDATE:19500430T020000
RDATE:19510429T020000
RDATE:19520427T020000
RDATE:19530426T020000
RDATE:19540425T020000
RDATE:19550424T020000
RDATE:19560429T020000
RDATE:19570428T020000
RDATE:19580427T020000
RDATE:19590426T020000
RDATE:19600424T020000
RDATE:19610430T020000
RDATE:19620429T020000
RDATE:19630428T020000
RDATE:19640426T020000
RDATE:19650425T020000
RDATE:19660424T020000
RDATE:19670430T020000
RDATE:19680428T020000
RDATE:19690427T020000
RDATE:19700426T020000
RDATE:19710425T020000
RDATE:19720430T020000
RDATE:19730429T020000
RDATE:19740428T020000
RDATE:19750427T020000
RDATE:19760425T020000
RDATE:19770424T020000
RDATE:19780430T020000
RDATE:19790429T020000
RDATE:19800427T020000
RDATE:19810426T020000
RDATE:19820425T020000
RDATE:19830424T020000
RDATE:19840429T020000
RDATE:19850428T020000
RDATE:19860427T020000
RDATE:19870405T020000
RDATE:19880403T020000
RDATE:19890402T020000
RDATE:19900401T020000
RDATE:19910407T020000
RDATE:19920405T020000
RDATE:19930404T020000
RDATE:19940403T020000
RDATE:19950402T020000
RDATE:19960407T020000
RDATE:19970406T020000
RDATE:19980405T020000
RDATE:19990404T020000
RDATE:20000402T020000
RDATE:20010401T020000
RDATE:20020407T020000
RDATE:20030406T020000
RDATE:20040404T020000
RDATE:20050403T020000
RDATE:20060402T020000
END:DAYLIGHT
BEGIN:STANDARD
TZOFFSETFROM:-0400
TZOFFSETTO:-0500
TZNAME:EST
DTSTART:19181027T020000
RDATE:19181027T020000
RDATE:19191026T000000
RDATE:19200926T000000
RDATE:19210915T020000
RDATE:19220917T020000
RDATE:19230916T020000
RDATE:19240921T020000
RDATE:19250920T020000
RDATE:19260919T020000
RDATE:19270925T020000
RDATE:19280930T020000
RDATE:19290929T020000
RDATE:19300928T020000
RDATE:19310927T020000
RDATE:19320925T020000
RDATE:19331001T020000
RDATE:19340930T020000
RDATE:19350929T020000
RDATE:19360927T020000
RDATE:19370926T020000
RDATE:19380925T020000
RDATE:19390924T020000
RDATE:19450930T020000
RDATE:19460929T020000
RDATE:19470928T000000
RDATE:19480926T000000
RDATE:19491127T000000
RDATE:19501126T020000
RDATE:19510930T020000
RDATE:19520928T020000
RDATE:19530927T020000
RDATE:19540926T020000
RDATE:19550925T020000
RDATE:19560930T020000
RDATE:19571027T020000
RDATE:19581026T020000
RDATE:19591025T020000
RDATE:19601030T020000
RDATE:19611029T020000
RDATE:19621028T020000
RDATE:19631027T020000
RDATE:19641025T020000
RDATE:19651031T020000
RDATE:19661030T020000
RDATE:19671029T020000
RDATE:19681027T020000
RDATE:19691026T020000
RDATE:19701025T020000
RDATE:19711031T020000
RDATE:19721029T020000
RDATE:19731028T020000
RDATE:19741027T020000
RDATE:19751026T020000
RDATE:19761031T020000
RDATE:19771030T020000
RDATE:19781029T020000
RDATE:19791028T020000
RDATE:19801026T020000
RDATE:19811025T020000
RDATE:19821031T020000
RDATE:19831030T020000
RDATE:19841028T020000
RDATE:19851027T020000
RDATE:19861026T020000
RDATE:19871025T020000
RDATE:19881030T020000
RDATE:19891029T020000
RDATE:19901028T020000
RDATE:19911027T020000
RDATE:19921025T020000
RDATE:19931031T020000
RDATE:19941030T020000
RDATE:19951029T020000
RDATE:19961027T020000
RDATE:19971026T020000
RDATE:19981025T020000
RDATE:19991031T020000
RDATE:20001029T020000
RDATE:20011028T020000
RDATE:20021027T020000
RDATE:20031026T020000
RDATE:20041031T020000
RDATE:20051030T020000
RDATE:20061029T020000
END:STANDARD
BEGIN:STANDARD
TZOFFSETFROM:-0500
TZOFFSETTO:-0500
TZNAME:EST
DTSTART:19190101T000000
RDATE:19190101T000000
RDATE:19460101T000000
RDATE:19740101T000000
END:STANDARD
BEGIN:DAYLIGHT
TZOFFSETFROM:-0400
TZOFFSETTO:-0400
TZNAME:EWT
DTSTART:19420209T020000
RDATE:19420209T020000
END:DAYLIGHT
BEGIN:DAYLIGHT
TZOFFSETFROM:-0400
TZOFFSETTO:-0400
TZNAME:EPT
DTSTART:19450814T190000
RDATE:19450814T190000
END:DAYLIGHT
END:VTIMEZONE
BEGIN:VEVENT
UID:ietf-90-5352-tcpm
SUMMARY:tcpm - TCP Maintenance and Minor Extensions
LOCATION:Territories
STATUS:CONFIRMED
CLASS:PUBLIC
DTSTART;TZID=America/Toronto:20140721T090000
DTEND;TZID=America/Toronto:20140721T113000
DTSTAMP:20161222T095705Z
URL:https://datatracker.ietf.org/meeting/90/materials/agenda-90-tcpm
DESCRIPTION:Morning Session I\n
 \n
 Agenda https://datatracker.ietf.org/meeting/90/materials/agenda-90-tcpm\n
 \n
 Session materials: https://datatracker.ietf.org/meeting/90/session/tcpm\n
 \n
 See in schedule: https://datatracker.ietf.org/meeting/90/agenda#row-90-2014-07-21-mon-0900-tsv-tcpm\n
END:VEVENT
BEGIN:VEVENT
UID:ietf-90-5356-mptcp
SUMMARY:mptcp - Multipath TCP
LOCATION:Tudor 7/8
STATUS:CONFIRMED
CLASS:PUBLIC
DTSTART;TZID=America/Toronto:20140721T130000
DTEND;TZID=America/Toronto:20140721T150000
DTSTAMP:20161222T095705Z
URL:https://datatracker.ietf.org/meeting/90/materials/agenda-90-mptcp
DESCRIPTION:Afternoon Session I\n
 \n
 Agenda https://datatracker.ietf.org/meeting/90/materials/agenda-90-mptcp\n
 \n
 Session materials: https://datatracker.ietf.org/meeting/90/session/mptcp\n
 \n
 See in schedule: https://datatracker.ietf.org/meeting/90/agenda#row-90-2014-07-21-mon-1300-tsv-mptcp\n
END:VEVENT
BEGIN:VEVENT
UID:ietf-90-5519-taps
SUMMARY:taps - Transport Services
LOCATION:Ballroom
STATUS:CONFIRMED
CLASS:PUBLIC
DTSTART;TZID=America/Toronto:20140721T152000
DTEND;TZID=America/Toronto:20140721T165000
DTSTAMP:20161222T095705Z
URL:https://datatracker.ietf.org/meeting/90/materials/agenda-90-taps
DESCRIPTION:Afternoon Session II\n
 \n
 Agenda https://datatracker.ietf.org/meeting/90/materials/agenda-90-taps\n
 \n
 Session materials: https://datatracker.ietf.org/meeting/90/session/taps\n
 \n
 See in schedule: https://datatracker.ietf.org/meeting/90/agenda#row-90-2014-07-21-mon-1520-tsv-taps\n
END:VEVENT
BEGIN:VEVENT
UID:ietf-90-5385-tsvwg
SUMMARY:tsvwg - Transport Area Working Group
LOCATION:Territories
STATUS:CONFIRMED
CLASS:PUBLIC
DTSTART;TZID=America/Toronto:20140722T090000
DTEND;TZID=America/Toronto:20140722T113000
DTSTAMP:20161222T095705Z
URL:https://datatracker.ietf.org/meeting/90/materials/agenda-90-tsvwg
DESCRIPTION:Morning Session I\n
 \n
 Agenda https://datatracker.ietf.org/meeting/90/materials/agenda-90-tsvwg\n
 \n
 Session materials: https://datatracker.ietf.org/meeting/90/session/tsvwg\n
 \n
 See in schedule: https://datatracker.ietf.org/meeting/90/agenda#row-90-2014-07-22-tue-0900-tsv-tsvwg\n
END:VEVENT
BEGIN:VEVENT
UID:ietf-90-5391-conex
SUMMARY:conex - Congestion Exposure (CANCELED)
LOCATION:Salon B
STATUS:CONFIRMED
CLASS:PUBLIC
DTSTART;TZID=America/Toronto:20140722T130000
DTEND;TZID=America/Toronto:20140722T140000
DTSTAMP:20161222T095705Z
DESCRIPTION:Afternoon Session I\n
 Note: CANCELED\n
 \n
 Session materials: https://datatracker.ietf.org/meeting/90/session/conex\n
 \n
 See in schedule: https://datatracker.ietf.org/meeting/90/agenda#row-90-2014-07-22-tue-1300-tsv-conex\n
END:VEVENT
BEGIN:VEVENT
UID:ietf-90-5395-tsvwg
SUMMARY:tsvwg - Transport Area Working Group
LOCATION:Canadian
STATUS:CONFIRMED
CLASS:PUBLIC
DTSTART;TZID=America/Toronto:20140722T130000
DTEND;TZID=America/Toronto:20140722T140000
DTSTAMP:20161222T095705Z
URL:https://datatracker.ietf.org/meeting/90/materials/agenda-90-tsvwg
DESCRIPTION:Afternoon Session I\n
 \n
 Agenda https://datatracker.ietf.org/meeting/90/materials/agenda-90-tsvwg\n
 \n
 Session materials: https://datatracker.ietf.org/meeting/90/session/tsvwg\n
 \n
 See in schedule: https://datatracker.ietf.org/meeting/90/agenda#row-90-2014-07-22-tue-1300-tsv-tsvwg\n
END:VEVENT
BEGIN:VEVENT
UID:ietf-90-5398-vnfpool
SUMMARY:vnfpool - Virtualized Network Function Pool
LOCATION:Ballroom
STATUS:CONFIRMED
CLASS:PUBLIC
DTSTART;TZID=America/Toronto:20140722T142000
DTEND;TZID=America/Toronto:20140722T162000
DTSTAMP:20161222T095705Z
URL:https://datatracker.ietf.org/meeting/90/materials/agenda-90-vnfpool
DESCRIPTION:Afternoon Session II\n
 \n
 Agenda https://datatracker.ietf.org/meeting/90/materials/agenda-90-vnfpool\n
 \n
 Session materials: https://datatracker.ietf.org/meeting/90/session/vnfpool\n
 \n
 See in schedule: https://datatracker.ietf.org/meeting/90/agenda#row-90-2014-07-22-tue-1420-tsv-vnfpool\n
END:VEVENT
BEGIN:VEVENT
UID:ietf-90-5410-aqm
SUMMARY:aqm - Active Queue Management and Packet Scheduling
LOCATION:Ontario
STATUS:CONFIRMED
CLASS:PUBLIC
DTSTART;TZID=America/Toronto:20140722T164000
DTEND;TZID=America/Toronto:20140722T184000
DTSTAMP:20161222T095705Z
URL:https://datatracker.ietf.org/meeting/90/materials/agenda-90-aqm
DESCRIPTION:Afternoon Session III\n
 \n
 Agenda https://datatracker.ietf.org/meeting/90/materials/agenda-90-aqm\n
 \n
 Session materials: https://datatracker.ietf.org/meeting/90/session/aqm\n
 \n
 See in schedule: https://datatracker.ietf.org/meeting/90/agenda#row-90-2014-07-22-tue-1640-tsv-aqm\n
END:VEVENT
BEGIN:VEVENT
UID:ietf-90-5413-ippm
SUMMARY:ippm - IP Performance Metrics
LOCATION:Salon B
STATUS:CONFIRMED
CLASS:PUBLIC
DTSTART;TZID=America/Toronto:20140722T164000
DTEND;TZID=America/Toronto:20140722T184000
DTSTAMP:20161222T095705Z
URL:https://datatracker.ietf.org/meeting/90/materials/agenda-90-ippm
DESCRIPTION:Afternoon Session III\n
 \n
 Agenda https://datatracker.ietf.org/meeting/90/materials/agenda-90-ippm\n
 \n
 Session materials: https://datatracker.ietf.org/meeting/90/session/ippm\n
 \n
 See in schedule: https://datatracker.ietf.org/meeting/90/agenda#row-90-2014-07-22-tue-1640-tsv-ippm\n
END:VEVENT
BEGIN:VEVENT
UID:ietf-90-5437-tram
SUMMARY:tram - TURN Revised and Modernized
LOCATION:Manitoba
STATUS:CONFIRMED
CLASS:PUBLIC
DTSTART;TZID=America/Toronto:20140723T130000
DTEND;TZID=America/Toronto:20140723T150000
DTSTAMP:20161222T095705Z
URL:https://datatracker.ietf.org/meeting/90/materials/agenda-90-tram
DESCRIPTION:Afternoon Session I\n
 \n
 Agenda https://datatracker.ietf.org/meeting/90/materials/agenda-90-tram\n
 \n
 Session materials: https://datatracker.ietf.org/meeting/90/session/tram\n
 \n
 See in schedule: https://datatracker.ietf.org/meeting/90/agenda#row-90-2014-07-23-wed-1300-tsv-tram\n
END:VEVENT
BEGIN:VEVENT
UID:ietf-90-5532-dtnwg
SUMMARY:dtnwg - Delay Tolerant Networking Working Group
LOCATION:Tudor 7/8
STATUS:CONFIRMED
CLASS:PUBLIC
DTSTART;TZID=America/Toronto:20140723T152000
DTEND;TZID=America/Toronto:20140723T165000
DTSTAMP:20161222T095705Z
URL:https://datatracker.ietf.org/meeting/90/materials/agenda-90-dtnwg
DESCRIPTION:Afternoon Session II\n
 \n
 Agenda https://datatracker.ietf.org/meeting/90/materials/agenda-90-dtnwg\n
 \n
 Session materials: https://datatracker.ietf.org/meeting/90/session/dtnwg\n
 \n
 See in schedule: https://datatracker.ietf.org/meeting/90/agenda#row-90-2014-07-23-wed-1520-tsv-dtnwg\n
END:VEVENT
BEGIN:VEVENT
UID:ietf-90-5473-ppsp
SUMMARY:ppsp - Peer to Peer Streaming Protocol
LOCATION:Territories
STATUS:CONFIRMED
CLASS:PUBLIC
DTSTART;TZID=America/Toronto:20140724T130000
DTEND;TZID=America/Toronto:20140724T150000
DTSTAMP:20161222T095705Z
URL:https://datatracker.ietf.org/meeting/90/materials/agenda-90-ppsp
DESCRIPTION:Afternoon Session I\n
 \n
 Agenda https://datatracker.ietf.org/meeting/90/materials/agenda-90-ppsp\n
 \n
 Session materials: https://datatracker.ietf.org/meeting/90/session/ppsp\n
 \n
 See in schedule: https://datatracker.ietf.org/meeting/90/agenda#row-90-2014-07-24-thu-1300-tsv-ppsp\n
END:VEVENT
BEGIN:VEVENT
UID:ietf-90-5464-rmcat
SUMMARY:rmcat - RTP Media Congestion Avoidance Techniques
LOCATION:Ballroom
STATUS:CONFIRMED
CLASS:PUBLIC
DTSTART;TZID=America/Toronto:20140724T130000
DTEND;TZID=America/Toronto:20140724T150000
DTSTAMP:20161222T095705Z
URL:https://datatracker.ietf.org/meeting/90/materials/agenda-90-rmcat
DESCRIPTION:Afternoon Session I\n
 \n
 Agenda https://datatracker.ietf.org/meeting/90/materials/agenda-90-rmcat\n
 \n
 Session materials: https://datatracker.ietf.org/meeting/90/session/rmcat\n
 \n
 See in schedule: https://datatracker.ietf.org/meeting/90/agenda#row-90-2014-07-24-thu-1300-tsv-rmcat\n
END:VEVENT
BEGIN:VEVENT
UID:ietf-90-5479-cdni
SUMMARY:cdni - Content Delivery Networks Interconnection
LOCATION:Salon B
STATUS:CONFIRMED
CLASS:PUBLIC
DTSTART;TZID=America/Toronto:20140724T152000
DTEND;TZID=America/Toronto:20140724T172000
DTSTAMP:20161222T095705Z
URL:https://datatracker.ietf.org/meeting/90/materials/agenda-90-cdni
DESCRIPTION:Afternoon Session II\n
 \n
 Agenda https://datatracker.ietf.org/meeting/90/materials/agenda-90-cdni\n
 \n
 Session materials: https://datatracker.ietf.org/meeting/90/session/cdni\n
 \n
 See in schedule: https://datatracker.ietf.org/meeting/90/agenda#row-90-2014-07-24-thu-1520-tsv-cdni\n
END:VEVENT
BEGIN:VEVENT
UID:ietf-90-5477-tcpinc
SUMMARY:tcpinc - TCP Increased Security
LOCATION:Tudor 7/8
STATUS:CONFIRMED
CLASS:PUBLIC
DTSTART;TZID=America/Toronto:20140724T152000
DTEND;TZID=America/Toronto:20140724T172000
DTSTAMP:20161222T095705Z
URL:https://datatracker.ietf.org/meeting/90/materials/agenda-90-tcpinc
DESCRIPTION:Afternoon Session II\n
 \n
 Agenda https://datatracker.ietf.org/meeting/90/materials/agenda-90-tcpinc\n
 \n
 Session materials: https://datatracker.ietf.org/meeting/90/session/tcpinc\n
 \n
 See in schedule: https://datatracker.ietf.org/meeting/90/agenda#row-90-2014-07-24-thu-1520-tsv-tcpinc\n
END:VEVENT
BEGIN:VEVENT
UID:ietf-90-5486-rmcat
SUMMARY:rmcat - RTP Media Congestion Avoidance Techniques
LOCATION:Ballroom
STATUS:CONFIRMED
CLASS:PUBLIC
DTSTART;TZID=America/Toronto:20140724T173000
DTEND;TZID=America/Toronto:20140724T183000
DTSTAMP:20161222T095705Z
URL:https://datatracker.ietf.org/meeting/90/materials/agenda-90-rmcat
DESCRIPTION:Afternoon Session III\n
 \n
 Agenda https://datatracker.ietf.org/meeting/90/materials/agenda-90-rmcat\n
 \n
 Session materials: https://datatracker.ietf.org/meeting/90/session/rmcat\n
 \n
 See in schedule: https://datatracker.ietf.org/meeting/90/agenda#row-90-2014-07-24-thu-1730-tsv-rmcat\n
END:VEVENT
BEGIN:VEVENT
UID:ietf-90-5502-nfsv4
SUMMARY:nfsv4 - Network File System Version 4
LOCATION:Salon A
STATUS:CONFIRMED
CLASS:PUBLIC
DTSTART;TZID=America/Toronto:20140725T090000
DTEND;TZID=America/Toronto:20140725T113000
DTSTAMP:20161222T095705Z
URL:https://datatracker.ietf.org/meeting/90/materials/agenda-90-nfsv4
DESCRIPTION:Morning Session I\n
 \n
 Agenda https://datatracker.ietf.org/meeting/90/materials/agenda-90-nfsv4\n
 \n
 Session materials: https://datatracker.ietf.org/meeting/90/session/nfsv4\n
 \n
 See in schedule: https://datatracker.ietf.org/meeting/90/agenda#row-90-2014-07-25-fri-0900-tsv-nfsv4\n
END:VEVENT
BEGIN:VEVENT
UID:ietf-90-5510-alto
SUMMARY:alto - Application-Layer Traffic Optimization
LOCATION:Tudor 7/8
STATUS:CONFIRMED
CLASS:PUBLIC
DTSTART;TZID=America/Toronto:20140725T115000
DTEND;TZID=America/Toronto:20140725T132000
DTSTAMP:20161222T095704Z
URL:https://datatracker.ietf.org/meeting/90/materials/agenda-90-alto
DESCRIPTION:Afternoon Session I\n
 \n
 Agenda https://datatracker.ietf.org/meeting/90/materials/agenda-90-alto\n
 \n
 Session materials: https://datatracker.ietf.org/meeting/90/session/alto\n
 \n
 See in schedule: https://datatracker.ietf.org/meeting/90/agenda#row-90-2014-07-25-fri-1150-tsv-alto\n
END:VEVENT
END:VCALENDAR
