BEGIN:VCALENDAR
VERSION:2.0
METHOD:PUBLISH
PRODID:-//IETF//datatracker.ietf.org ical agenda//EN
BEGIN:VTIMEZONE
TZID:Pacific/Honolulu
X-LIC-LOCATION:Pacific/Honolulu
BEGIN:STANDARD
TZOFFSETFROM:-103126
TZOFFSETTO:-1030
TZNAME:HST
DTSTART:18960113T120000
RDATE:18960113T120000
END:STANDARD
BEGIN:DAYLIGHT
TZOFFSETFROM:-1030
TZOFFSETTO:-0930
TZNAME:HDT
DTSTART:19330430T020000
RDATE:19330430T020000
RDATE:19420209T020000
END:DAYLIGHT
BEGIN:STANDARD
TZOFFSETFROM:-0930
TZOFFSETTO:-1030
TZNAME:HST
DTSTART:19330521T120000
RDATE:19330521T120000
RDATE:19450930T020000
END:STANDARD
BEGIN:STANDARD
TZOFFSETFROM:-1030
TZOFFSETTO:-1000
TZNAME:HST
DTSTART:19470608T020000
RDATE:19470608T020000
END:STANDARD
END:VTIMEZONE
BEGIN:VEVENT
UID:ietf-91-5653-appsawg
SUMMARY:appsawg - Applications Area Working Group (Combined with APPAREA)
LOCATION:Coral 2
STATUS:CONFIRMED
CLASS:PUBLIC
DTSTART;TZID=Pacific/Honolulu:20141110T090000
DTEND;TZID=Pacific/Honolulu:20141110T113000
DTSTAMP:20161222T095704Z
URL:https://datatracker.ietf.org/meeting/91/materials/agenda-91-appsawg
DESCRIPTION:Morning Session I\n
 Note: Combined with APPAREA\n
 \n
 Agenda https://datatracker.ietf.org/meeting/91/materials/agenda-91-appsawg\n
 \n
 Session materials: https://datatracker.ietf.org/meeting/91/session/appsawg\n
 \n
 See in schedule: https://datatracker.ietf.org/meeting/91/agenda#row-91-2014-11-10-mon-0900-app-appsawg\n
END:VEVENT
BEGIN:VEVENT
UID:ietf-91-5867-eppext
SUMMARY:eppext - Extensible Provisioning Protocol Extensions
LOCATION:Lehua Suite
STATUS:CONFIRMED
CLASS:PUBLIC
DTSTART;TZID=Pacific/Honolulu:20141110T152000
DTEND;TZID=Pacific/Honolulu:20141110T172000
DTSTAMP:20161222T095704Z
URL:https://datatracker.ietf.org/meeting/91/materials/agenda-91-eppext
DESCRIPTION:Afternoon Session II\n
 \n
 Agenda https://datatracker.ietf.org/meeting/91/materials/agenda-91-eppext\n
 \n
 Session materials: https://datatracker.ietf.org/meeting/91/session/eppext\n
 \n
 See in schedule: https://datatracker.ietf.org/meeting/91/agenda#row-91-2014-11-10-mon-1520-app-eppext\n
END:VEVENT
BEGIN:VEVENT
UID:ietf-91-5757-uta
SUMMARY:uta - Using TLS in Applications
LOCATION:Coral 2
STATUS:CONFIRMED
CLASS:PUBLIC
DTSTART;TZID=Pacific/Honolulu:20141111T090000
DTEND;TZID=Pacific/Honolulu:20141111T113000
DTSTAMP:20161222T095704Z
URL:https://datatracker.ietf.org/meeting/91/materials/agenda-91-uta
DESCRIPTION:Morning Session I\n
 \n
 Agenda https://datatracker.ietf.org/meeting/91/materials/agenda-91-uta\n
 \n
 Session materials: https://datatracker.ietf.org/meeting/91/session/uta\n
 \n
 See in schedule: https://datatracker.ietf.org/meeting/91/agenda#row-91-2014-11-11-tue-0900-app-uta\n
END:VEVENT
BEGIN:VEVENT
UID:ietf-91-5740-httpbis
SUMMARY:httpbis - Hypertext Transfer Protocol
LOCATION:Coral 1
STATUS:CONFIRMED
CLASS:PUBLIC
DTSTART;TZID=Pacific/Honolulu:20141111T130000
DTEND;TZID=Pacific/Honolulu:20141111T150000
DTSTAMP:20161222T095704Z
URL:https://datatracker.ietf.org/meeting/91/materials/agenda-91-httpbis
DESCRIPTION:Afternoon Session I\n
 \n
 Agenda https://datatracker.ietf.org/meeting/91/materials/agenda-91-httpbis\n
 \n
 Session materials: https://datatracker.ietf.org/meeting/91/session/httpbis\n
 \n
 See in schedule: https://datatracker.ietf.org/meeting/91/agenda#row-91-2014-11-11-tue-1300-app-httpbis\n
END:VEVENT
BEGIN:VEVENT
UID:ietf-91-5733-core
SUMMARY:core - Constrained RESTful Environments
LOCATION:Coral 2
STATUS:CONFIRMED
CLASS:PUBLIC
DTSTART;TZID=Pacific/Honolulu:20141111T152000
DTEND;TZID=Pacific/Honolulu:20141111T172000
DTSTAMP:20161222T095704Z
URL:https://datatracker.ietf.org/meeting/91/materials/agenda-91-core
DESCRIPTION:Afternoon Session II\n
 \n
 Agenda https://datatracker.ietf.org/meeting/91/materials/agenda-91-core\n
 \n
 Session materials: https://datatracker.ietf.org/meeting/91/session/core\n
 \n
 See in schedule: https://datatracker.ietf.org/meeting/91/agenda#row-91-2014-11-11-tue-1520-app-core\n
END:VEVENT
BEGIN:VEVENT
UID:ietf-91-5877-core
SUMMARY:core - Constrained RESTful Environments
LOCATION:Kahili
STATUS:CONFIRMED
CLASS:PUBLIC
DTSTART;TZID=Pacific/Honolulu:20141112T090000
DTEND;TZID=Pacific/Honolulu:20141112T113000
DTSTAMP:20161222T095704Z
URL:https://datatracker.ietf.org/meeting/91/materials/agenda-91-core
DESCRIPTION:Morning Session I\n
 \n
 Agenda https://datatracker.ietf.org/meeting/91/materials/agenda-91-core\n
 \n
 Session materials: https://datatracker.ietf.org/meeting/91/session/core\n
 \n
 See in schedule: https://datatracker.ietf.org/meeting/91/agenda#row-91-2014-11-12-wed-0900-app-core\n
END:VEVENT
BEGIN:VEVENT
UID:ietf-91-5775-httpbis
SUMMARY:httpbis - Hypertext Transfer Protocol
LOCATION:Coral 4
STATUS:CONFIRMED
CLASS:PUBLIC
DTSTART;TZID=Pacific/Honolulu:20141112T152000
DTEND;TZID=Pacific/Honolulu:20141112T165000
DTSTAMP:20161222T095704Z
URL:https://datatracker.ietf.org/meeting/91/materials/agenda-91-httpbis
DESCRIPTION:Afternoon Session II\n
 \n
 Agenda https://datatracker.ietf.org/meeting/91/materials/agenda-91-httpbis\n
 \n
 Session materials: https://datatracker.ietf.org/meeting/91/session/httpbis\n
 \n
 See in schedule: https://datatracker.ietf.org/meeting/91/agenda#row-91-2014-11-12-wed-1520-app-httpbis\n
END:VEVENT
BEGIN:VEVENT
UID:ietf-91-5685-arcmedia
SUMMARY:arcmedia - Archive Top Level Media Type 
LOCATION:Coral 2
STATUS:CONFIRMED
CLASS:PUBLIC
DTSTART;TZID=Pacific/Honolulu:20141113T152000
DTEND;TZID=Pacific/Honolulu:20141113T162000
DTSTAMP:20161222T095704Z
URL:https://datatracker.ietf.org/meeting/91/materials/agenda-91-arcmedia
DESCRIPTION:Afternoon Session II\n
 \n
 Agenda https://datatracker.ietf.org/meeting/91/materials/agenda-91-arcmedia\n
 \n
 Session materials: https://datatracker.ietf.org/meeting/91/session/arcmedia\n
 \n
 See in schedule: https://datatracker.ietf.org/meeting/91/agenda#row-91-2014-11-13-thu-1520-app-arcmedia\n
END:VEVENT
BEGIN:VEVENT
UID:ietf-91-5666-dmarc
SUMMARY:dmarc - Domain-based Message Authentication, Reporting & Conformance (09:00-10:00)
LOCATION:Hibiscus
STATUS:CONFIRMED
CLASS:PUBLIC
DTSTART;TZID=Pacific/Honolulu:20141114T090000
DTEND;TZID=Pacific/Honolulu:20141114T113000
DTSTAMP:20161222T095704Z
URL:https://datatracker.ietf.org/meeting/91/materials/agenda-91-dmarc
DESCRIPTION:Morning Session I\n
 Note: 09:00-10:00\n
 \n
 Agenda https://datatracker.ietf.org/meeting/91/materials/agenda-91-dmarc\n
 \n
 Session materials: https://datatracker.ietf.org/meeting/91/session/dmarc\n
 \n
 See in schedule: https://datatracker.ietf.org/meeting/91/agenda#row-91-2014-11-14-fri-0900-app-dmarc\n
END:VEVENT
BEGIN:VEVENT
UID:ietf-91-5666-precis
SUMMARY:precis - Preparation and Comparison of Internationalized Strings (10:30-11:30)
LOCATION:Hibiscus
STATUS:CONFIRMED
CLASS:PUBLIC
DTSTART;TZID=Pacific/Honolulu:20141114T090000
DTEND;TZID=Pacific/Honolulu:20141114T113000
DTSTAMP:20161222T095704Z
URL:https://datatracker.ietf.org/meeting/91/materials/agenda-91-precis
DESCRIPTION:Morning Session I\n
 Note: 10:30-11:30\n
 \n
 Agenda https://datatracker.ietf.org/meeting/91/materials/agenda-91-precis\n
 \n
 Session materials: https://datatracker.ietf.org/meeting/91/session/precis\n
 \n
 See in schedule: https://datatracker.ietf.org/meeting/91/agenda#row-91-2014-11-14-fri-0900-app-precis\n
END:VEVENT
BEGIN:VEVENT
UID:ietf-91-5746-scim
SUMMARY:scim - System for Cross-domain Identity Management
LOCATION:Hibiscus
STATUS:CONFIRMED
CLASS:PUBLIC
DTSTART;TZID=Pacific/Honolulu:20141114T115000
DTEND;TZID=Pacific/Honolulu:20141114T132000
DTSTAMP:20161222T095704Z
URL:https://datatracker.ietf.org/meeting/91/materials/agenda-91-scim
DESCRIPTION:Afternoon Session I\n
 \n
 Agenda https://datatracker.ietf.org/meeting/91/materials/agenda-91-scim\n
 \n
 Session materials: https://datatracker.ietf.org/meeting/91/session/scim\n
 \n
 See in schedule: https://datatracker.ietf.org/meeting/91/agenda#row-91-2014-11-14-fri-1150-app-scim\n
END:VEVENT
END:VCALENDAR
