BEGIN:VCALENDAR
VERSION:2.0
METHOD:PUBLISH
PRODID:-//IETF//datatracker.ietf.org ical agenda//EN
BEGIN:VTIMEZONE
TZID:Pacific/Honolulu
X-LIC-LOCATION:Pacific/Honolulu
BEGIN:STANDARD
TZOFFSETFROM:-103126
TZOFFSETTO:-1030
TZNAME:HST
DTSTART:18960113T120000
RDATE:18960113T120000
END:STANDARD
BEGIN:DAYLIGHT
TZOFFSETFROM:-1030
TZOFFSETTO:-0930
TZNAME:HDT
DTSTART:19330430T020000
RDATE:19330430T020000
RDATE:19420209T020000
END:DAYLIGHT
BEGIN:STANDARD
TZOFFSETFROM:-0930
TZOFFSETTO:-1030
TZNAME:HST
DTSTART:19330521T120000
RDATE:19330521T120000
RDATE:19450930T020000
END:STANDARD
BEGIN:STANDARD
TZOFFSETFROM:-1030
TZOFFSETTO:-1000
TZNAME:HST
DTSTART:19470608T020000
RDATE:19470608T020000
END:STANDARD
END:VTIMEZONE
BEGIN:VEVENT
UID:ietf-91-5795-tools
SUMMARY:Code Sprint
LOCATION:South Pacific 1
STATUS:CONFIRMED
CLASS:PUBLIC
DTSTART;TZID=Pacific/Honolulu:20141108T093000
DTEND;TZID=Pacific/Honolulu:20141108T180000
DTSTAMP:20161222T095704Z
DESCRIPTION:Code Sprint\n
 \n
 Session materials: https://datatracker.ietf.org/meeting/91/session/tools\n
 \n
 See in schedule: https://datatracker.ietf.org/meeting/91/agenda#row-91-2014-11-08-sat-0930-tools-code-sprint\n
END:VEVENT
BEGIN:VEVENT
UID:ietf-91-5794-iepg
SUMMARY:IEPG Meeting
LOCATION:Coral 2
STATUS:CONFIRMED
CLASS:PUBLIC
DTSTART;TZID=Pacific/Honolulu:20141109T100000
DTEND;TZID=Pacific/Honolulu:20141109T120000
DTSTAMP:20161222T095704Z
DESCRIPTION:IEPG Meeting\n
 \n
 Session materials: https://datatracker.ietf.org/meeting/91/session/iepg\n
 \n
 See in schedule: https://datatracker.ietf.org/meeting/91/agenda#row-91-2014-11-09-sun-1000-iepg-iepg-meeting\n
END:VEVENT
BEGIN:VEVENT
UID:ietf-91-5885-edu
SUMMARY:Introduction to the Security Area
LOCATION:Coral 2
STATUS:CONFIRMED
CLASS:PUBLIC
DTSTART;TZID=Pacific/Honolulu:20141109T130000
DTEND;TZID=Pacific/Honolulu:20141109T145000
DTSTAMP:20161222T095704Z
DESCRIPTION:Introduction to the Security Area\n
 \n
 Session materials: https://datatracker.ietf.org/meeting/91/session/edu\n
 \n
 See in schedule: https://datatracker.ietf.org/meeting/91/agenda#row-91-2014-11-09-sun-1300-edu-introduction-to-the-security-area\n
END:VEVENT
BEGIN:VEVENT
UID:ietf-91-5793-edu
SUMMARY:Newcomers' Orientation
LOCATION:Coral 1
STATUS:CONFIRMED
CLASS:PUBLIC
DTSTART;TZID=Pacific/Honolulu:20141109T130000
DTEND;TZID=Pacific/Honolulu:20141109T145000
DTSTAMP:20161222T095704Z
DESCRIPTION:Newcomers' Orientation\n
 \n
 Session materials: https://datatracker.ietf.org/meeting/91/session/edu\n
 \n
 See in schedule: https://datatracker.ietf.org/meeting/91/agenda#row-91-2014-11-09-sun-1300-edu-newcomers-orientation\n
END:VEVENT
BEGIN:VEVENT
UID:ietf-91-5907-edu
SUMMARY:YANG Advice and Editing Session
LOCATION:Lehua Suite
STATUS:CONFIRMED
CLASS:PUBLIC
DTSTART;TZID=Pacific/Honolulu:20141109T140000
DTEND;TZID=Pacific/Honolulu:20141109T170000
DTSTAMP:20161222T095704Z
DESCRIPTION:YANG Advice and Editing Session\n
 \n
 Session materials: https://datatracker.ietf.org/meeting/91/session/edu\n
 \n
 See in schedule: https://datatracker.ietf.org/meeting/91/agenda#row-91-2014-11-09-sun-1400-edu-yang-advice-and-editing-session\n
END:VEVENT
BEGIN:VEVENT
UID:ietf-91-5886-edu
SUMMARY:Presentation Skills
LOCATION:Coral 1
STATUS:CONFIRMED
CLASS:PUBLIC
DTSTART;TZID=Pacific/Honolulu:20141109T150000
DTEND;TZID=Pacific/Honolulu:20141109T165000
DTSTAMP:20161222T095704Z
DESCRIPTION:Presentation Skills\n
 \n
 Session materials: https://datatracker.ietf.org/meeting/91/session/edu\n
 \n
 See in schedule: https://datatracker.ietf.org/meeting/91/agenda#row-91-2014-11-09-sun-1500-edu-presentation-skills\n
END:VEVENT
BEGIN:VEVENT
UID:ietf-91-5663-bier
SUMMARY:bier - Bit Indexed Explicit Replication
LOCATION:Coral 4
STATUS:CONFIRMED
CLASS:PUBLIC
DTSTART;TZID=Pacific/Honolulu:20141110T130000
DTEND;TZID=Pacific/Honolulu:20141110T150000
DTSTAMP:20161222T095704Z
URL:https://datatracker.ietf.org/meeting/91/materials/agenda-91-bier
DESCRIPTION:Afternoon Session I\n
 \n
 Agenda https://datatracker.ietf.org/meeting/91/materials/agenda-91-bier\n
 \n
 Session materials: https://datatracker.ietf.org/meeting/91/session/bier\n
 \n
 See in schedule: https://datatracker.ietf.org/meeting/91/agenda#row-91-2014-11-10-mon-1300-rtg-bier\n
END:VEVENT
BEGIN:VEVENT
UID:ietf-91-5764-detnet
SUMMARY:detnet - Deterministic Networking
LOCATION:Coral 1
STATUS:CONFIRMED
CLASS:PUBLIC
DTSTART;TZID=Pacific/Honolulu:20141110T152000
DTEND;TZID=Pacific/Honolulu:20141110T172000
DTSTAMP:20161222T095704Z
URL:https://datatracker.ietf.org/meeting/91/materials/agenda-91-detnet
DESCRIPTION:Afternoon Session II\n
 \n
 Agenda https://datatracker.ietf.org/meeting/91/materials/agenda-91-detnet\n
 \n
 Session materials: https://datatracker.ietf.org/meeting/91/session/detnet\n
 \n
 See in schedule: https://datatracker.ietf.org/meeting/91/agenda#row-91-2014-11-10-mon-1520-int-detnet\n
END:VEVENT
BEGIN:VEVENT
UID:ietf-91-5820-iab
SUMMARY:Technical Plenary
LOCATION:Coral 3
STATUS:CONFIRMED
CLASS:PUBLIC
DTSTART;TZID=Pacific/Honolulu:20141110T185000
DTEND;TZID=Pacific/Honolulu:20141110T195000
DTSTAMP:20161222T095704Z
URL:https://datatracker.ietf.org/meeting/91/materials/agenda-91-iab-techplenary
DESCRIPTION:Technical Plenary\n
 \n
 Agenda https://datatracker.ietf.org/meeting/91/materials/agenda-91-iab-techplenary\n
 \n
 Session materials: https://datatracker.ietf.org/meeting/91/session/iab\n
 \n
 See in schedule: https://datatracker.ietf.org/meeting/91/agenda#row-91-2014-11-10-mon-1850-1plenary-iab\n
END:VEVENT
BEGIN:VEVENT
UID:ietf-91-5736-actn
SUMMARY:actn - Abstraction and Control of Transport Networks
LOCATION:Coral 3
STATUS:CONFIRMED
CLASS:PUBLIC
DTSTART;TZID=Pacific/Honolulu:20141111T152000
DTEND;TZID=Pacific/Honolulu:20141111T172000
DTSTAMP:20161222T095704Z
URL:https://datatracker.ietf.org/meeting/91/materials/agenda-91-actn
DESCRIPTION:Afternoon Session II\n
 \n
 Agenda https://datatracker.ietf.org/meeting/91/materials/agenda-91-actn\n
 \n
 Session materials: https://datatracker.ietf.org/meeting/91/session/actn\n
 \n
 See in schedule: https://datatracker.ietf.org/meeting/91/agenda#row-91-2014-11-11-tue-1520-rtg-actn\n
END:VEVENT
BEGIN:VEVENT
UID:ietf-91-5929-edu
SUMMARY:Working Group Chairs Training (For WG Chairs Only)
LOCATION:Coral 1
STATUS:CONFIRMED
CLASS:PUBLIC
DTSTART;TZID=Pacific/Honolulu:20141112T113000
DTEND;TZID=Pacific/Honolulu:20141112T123000
DTSTAMP:20161222T095704Z
DESCRIPTION:Working Group Chairs Training (For WG Chairs Only)\n
 \n
 Session materials: https://datatracker.ietf.org/meeting/91/session/edu\n
 \n
 See in schedule: https://datatracker.ietf.org/meeting/91/agenda#row-91-2014-11-12-wed-1130-edu-working-group-chairs-training-for-wg-chairs-only\n
END:VEVENT
BEGIN:VEVENT
UID:ietf-91-5796-iesg
SUMMARY:IETF Operations and Administration Plenary
LOCATION:Coral 3
STATUS:CONFIRMED
CLASS:PUBLIC
DTSTART;TZID=Pacific/Honolulu:20141112T171000
DTEND;TZID=Pacific/Honolulu:20141112T194000
DTSTAMP:20161222T095704Z
URL:https://datatracker.ietf.org/meeting/91/materials/agenda-91-iesg-opsplenary
DESCRIPTION:IETF Operations and Administration Plenary\n
 \n
 Agenda https://datatracker.ietf.org/meeting/91/materials/agenda-91-iesg-opsplenary\n
 \n
 Session materials: https://datatracker.ietf.org/meeting/91/session/iesg\n
 \n
 See in schedule: https://datatracker.ietf.org/meeting/91/agenda#row-91-2014-11-12-wed-1710-1plenary-iesg\n
END:VEVENT
BEGIN:VEVENT
UID:ietf-91-5694-netvc
SUMMARY:netvc - Internet Video Codec (CANCELLED)
LOCATION:Coral 5
STATUS:CONFIRMED
CLASS:PUBLIC
DTSTART;TZID=Pacific/Honolulu:20141113T130000
DTEND;TZID=Pacific/Honolulu:20141113T150000
DTSTAMP:20161222T095704Z
DESCRIPTION:Afternoon Session I\n
 Note: CANCELLED\n
 \n
 Session materials: https://datatracker.ietf.org/meeting/91/session/netvc\n
 \n
 See in schedule: https://datatracker.ietf.org/meeting/91/agenda#row-91-2014-11-13-thu-1300-rai-netvc\n
END:VEVENT
BEGIN:VEVENT
UID:ietf-91-5685-arcmedia
SUMMARY:arcmedia - Archive Top Level Media Type 
LOCATION:Coral 2
STATUS:CONFIRMED
CLASS:PUBLIC
DTSTART;TZID=Pacific/Honolulu:20141113T152000
DTEND;TZID=Pacific/Honolulu:20141113T162000
DTSTAMP:20161222T095704Z
URL:https://datatracker.ietf.org/meeting/91/materials/agenda-91-arcmedia
DESCRIPTION:Afternoon Session II\n
 \n
 Agenda https://datatracker.ietf.org/meeting/91/materials/agenda-91-arcmedia\n
 \n
 Session materials: https://datatracker.ietf.org/meeting/91/session/arcmedia\n
 \n
 See in schedule: https://datatracker.ietf.org/meeting/91/agenda#row-91-2014-11-13-thu-1520-app-arcmedia\n
END:VEVENT
BEGIN:VEVENT
UID:ietf-91-5676-i2nsf
SUMMARY:i2nsf - Interface to Network Security Functions
LOCATION:Coral 1
STATUS:CONFIRMED
CLASS:PUBLIC
DTSTART;TZID=Pacific/Honolulu:20141113T164000
DTEND;TZID=Pacific/Honolulu:20141113T191000
DTSTAMP:20161222T095704Z
URL:https://datatracker.ietf.org/meeting/91/materials/agenda-91-i2nsf
DESCRIPTION:Afternoon Session III\n
 \n
 Agenda https://datatracker.ietf.org/meeting/91/materials/agenda-91-i2nsf\n
 \n
 Session materials: https://datatracker.ietf.org/meeting/91/session/i2nsf\n
 \n
 See in schedule: https://datatracker.ietf.org/meeting/91/agenda#row-91-2014-11-13-thu-1640-sec-i2nsf\n
END:VEVENT
END:VCALENDAR
