BEGIN:VCALENDAR
VERSION:2.0
METHOD:PUBLISH
PRODID:-//IETF//datatracker.ietf.org ical agenda//EN
BEGIN:VTIMEZONE
TZID:Pacific/Honolulu
X-LIC-LOCATION:Pacific/Honolulu
BEGIN:STANDARD
TZOFFSETFROM:-103126
TZOFFSETTO:-1030
TZNAME:HST
DTSTART:18960113T120000
RDATE:18960113T120000
END:STANDARD
BEGIN:DAYLIGHT
TZOFFSETFROM:-1030
TZOFFSETTO:-0930
TZNAME:HDT
DTSTART:19330430T020000
RDATE:19330430T020000
RDATE:19420209T020000
END:DAYLIGHT
BEGIN:STANDARD
TZOFFSETFROM:-0930
TZOFFSETTO:-1030
TZNAME:HST
DTSTART:19330521T120000
RDATE:19330521T120000
RDATE:19450930T020000
END:STANDARD
BEGIN:STANDARD
TZOFFSETFROM:-1030
TZOFFSETTO:-1000
TZNAME:HST
DTSTART:19470608T020000
RDATE:19470608T020000
END:STANDARD
END:VTIMEZONE
BEGIN:VEVENT
UID:ietf-91-5664-ianaplan
SUMMARY:ianaplan - Planning for the IANA/NTIA Transition
LOCATION:Coral 3
STATUS:CONFIRMED
CLASS:PUBLIC
DTSTART;TZID=Pacific/Honolulu:20141110T130000
DTEND;TZID=Pacific/Honolulu:20141110T150000
DTSTAMP:20161222T095704Z
URL:https://datatracker.ietf.org/meeting/91/materials/agenda-91-ianaplan
DESCRIPTION:Afternoon Session I\n
 \n
 Agenda https://datatracker.ietf.org/meeting/91/materials/agenda-91-ianaplan\n
 \n
 Session materials: https://datatracker.ietf.org/meeting/91/session/ianaplan\n
 \n
 See in schedule: https://datatracker.ietf.org/meeting/91/agenda#row-91-2014-11-10-mon-1300-gen-ianaplan\n
END:VEVENT
END:VCALENDAR
