BEGIN:VCALENDAR
VERSION:2.0
METHOD:PUBLISH
PRODID:-//IETF//datatracker.ietf.org ical agenda//EN
BEGIN:VTIMEZONE
TZID:Pacific/Honolulu
X-LIC-LOCATION:Pacific/Honolulu
BEGIN:STANDARD
TZOFFSETFROM:-103126
TZOFFSETTO:-1030
TZNAME:HST
DTSTART:18960113T120000
RDATE:18960113T120000
END:STANDARD
BEGIN:DAYLIGHT
TZOFFSETFROM:-1030
TZOFFSETTO:-0930
TZNAME:HDT
DTSTART:19330430T020000
RDATE:19330430T020000
RDATE:19420209T020000
END:DAYLIGHT
BEGIN:STANDARD
TZOFFSETFROM:-0930
TZOFFSETTO:-1030
TZNAME:HST
DTSTART:19330521T120000
RDATE:19330521T120000
RDATE:19450930T020000
END:STANDARD
BEGIN:STANDARD
TZOFFSETFROM:-1030
TZOFFSETTO:-1000
TZNAME:HST
DTSTART:19470608T020000
RDATE:19470608T020000
END:STANDARD
END:VTIMEZONE
BEGIN:VEVENT
UID:ietf-91-6284-iab
SUMMARY:IAB Lunch with the IESG
STATUS:CONFIRMED
CLASS:PUBLIC
DTSTART;TZID=Pacific/Honolulu:20141109T113000
DTEND;TZID=Pacific/Honolulu:20141109T140000
DTSTAMP:20161222T095704Z
DESCRIPTION:Lunch\n
 \n
 Session materials: https://datatracker.ietf.org/meeting/91/session/iab\n
 \n
 See in schedule: https://datatracker.ietf.org/meeting/91/agenda#row-91-2014-11-09-sun-1130\n
END:VEVENT
BEGIN:VEVENT
UID:ietf-91-6286-iab
SUMMARY:IAB Meeting
STATUS:CONFIRMED
CLASS:PUBLIC
DTSTART;TZID=Pacific/Honolulu:20141109T140000
DTEND;TZID=Pacific/Honolulu:20141109T170000
DTSTAMP:20161222T095704Z
DESCRIPTION:Meeting\n
 \n
 Session materials: https://datatracker.ietf.org/meeting/91/session/iab\n
 \n
 See in schedule: https://datatracker.ietf.org/meeting/91/agenda#row-91-2014-11-09-sun-1400\n
END:VEVENT
BEGIN:VEVENT
UID:ietf-91-6294-iab
SUMMARY:IAB Breakfast with the IESG
STATUS:CONFIRMED
CLASS:PUBLIC
DTSTART;TZID=Pacific/Honolulu:20141110T070000
DTEND;TZID=Pacific/Honolulu:20141110T090000
DTSTAMP:20161222T095704Z
DESCRIPTION:Breakfast\n
 \n
 Session materials: https://datatracker.ietf.org/meeting/91/session/iab\n
 \n
 See in schedule: https://datatracker.ietf.org/meeting/91/agenda#row-91-2014-11-10-mon-0700\n
END:VEVENT
BEGIN:VEVENT
UID:ietf-91-5820-iab
SUMMARY:Technical Plenary
LOCATION:Coral 3
STATUS:CONFIRMED
CLASS:PUBLIC
DTSTART;TZID=Pacific/Honolulu:20141110T185000
DTEND;TZID=Pacific/Honolulu:20141110T195000
DTSTAMP:20161222T095704Z
URL:https://datatracker.ietf.org/meeting/91/materials/agenda-91-iab-techplenary
DESCRIPTION:Technical Plenary\n
 \n
 Agenda https://datatracker.ietf.org/meeting/91/materials/agenda-91-iab-techplenary\n
 \n
 Session materials: https://datatracker.ietf.org/meeting/91/session/iab\n
 \n
 See in schedule: https://datatracker.ietf.org/meeting/91/agenda#row-91-2014-11-10-mon-1850-1plenary-iab\n
END:VEVENT
BEGIN:VEVENT
UID:ietf-91-6304-iab
SUMMARY:IAB Breakfast
STATUS:CONFIRMED
CLASS:PUBLIC
DTSTART;TZID=Pacific/Honolulu:20141111T070000
DTEND;TZID=Pacific/Honolulu:20141111T090000
DTSTAMP:20161222T095704Z
DESCRIPTION:Breakfast\n
 \n
 Session materials: https://datatracker.ietf.org/meeting/91/session/iab\n
 \n
 See in schedule: https://datatracker.ietf.org/meeting/91/agenda#row-91-2014-11-11-tue-0700\n
END:VEVENT
BEGIN:VEVENT
UID:ietf-91-6305-iab
SUMMARY:Vendor Selection Committee Meeting
STATUS:CONFIRMED
CLASS:PUBLIC
DTSTART;TZID=Pacific/Honolulu:20141111T070000
DTEND;TZID=Pacific/Honolulu:20141111T080000
DTSTAMP:20161222T095704Z
DESCRIPTION:Meeting\n
 \n
 Session materials: https://datatracker.ietf.org/meeting/91/session/iab\n
 \n
 See in schedule: https://datatracker.ietf.org/meeting/91/agenda#row-91-2014-11-11-tue-0700\n
END:VEVENT
BEGIN:VEVENT
UID:ietf-91-6321-iab
SUMMARY:IAB Breakfast
STATUS:CONFIRMED
CLASS:PUBLIC
DTSTART;TZID=Pacific/Honolulu:20141113T070000
DTEND;TZID=Pacific/Honolulu:20141113T090000
DTSTAMP:20161222T095704Z
DESCRIPTION:Breakfast\n
 \n
 Session materials: https://datatracker.ietf.org/meeting/91/session/iab\n
 \n
 See in schedule: https://datatracker.ietf.org/meeting/91/agenda#row-91-2014-11-13-thu-0700\n
END:VEVENT
BEGIN:VEVENT
UID:ietf-91-6323-iab
SUMMARY:IAB Liaison Oversight
STATUS:CONFIRMED
CLASS:PUBLIC
DTSTART;TZID=Pacific/Honolulu:20141113T113000
DTEND;TZID=Pacific/Honolulu:20141113T130000
DTSTAMP:20161222T095704Z
DESCRIPTION:Meeting\n
 \n
 Session materials: https://datatracker.ietf.org/meeting/91/session/iab\n
 \n
 See in schedule: https://datatracker.ietf.org/meeting/91/agenda#row-91-2014-11-13-thu-1130\n
END:VEVENT
BEGIN:VEVENT
UID:ietf-91-6324-rsoc
SUMMARY:RSOC Lunch
STATUS:CONFIRMED
CLASS:PUBLIC
DTSTART;TZID=Pacific/Honolulu:20141113T113000
DTEND;TZID=Pacific/Honolulu:20141113T130000
DTSTAMP:20161222T095704Z
DESCRIPTION:Lunch\n
 \n
 Session materials: https://datatracker.ietf.org/meeting/91/session/rsoc\n
 \n
 See in schedule: https://datatracker.ietf.org/meeting/91/agenda#row-91-2014-11-13-thu-1130\n
END:VEVENT
BEGIN:VEVENT
UID:ietf-91-6329-iab
SUMMARY:IAB Lunch with the IESG
STATUS:CONFIRMED
CLASS:PUBLIC
DTSTART;TZID=Pacific/Honolulu:20141114T133000
DTEND;TZID=Pacific/Honolulu:20141114T150000
DTSTAMP:20161222T095704Z
DESCRIPTION:Lunch\n
 \n
 Session materials: https://datatracker.ietf.org/meeting/91/session/iab\n
 \n
 See in schedule: https://datatracker.ietf.org/meeting/91/agenda#row-91-2014-11-14-fri-1330\n
END:VEVENT
END:VCALENDAR
