BEGIN:VCALENDAR
VERSION:2.0
METHOD:PUBLISH
PRODID:-//IETF//datatracker.ietf.org ical agenda//EN
BEGIN:VTIMEZONE
TZID:Pacific/Honolulu
X-LIC-LOCATION:Pacific/Honolulu
BEGIN:STANDARD
TZOFFSETFROM:-103126
TZOFFSETTO:-1030
TZNAME:HST
DTSTART:18960113T120000
RDATE:18960113T120000
END:STANDARD
BEGIN:DAYLIGHT
TZOFFSETFROM:-1030
TZOFFSETTO:-0930
TZNAME:HDT
DTSTART:19330430T020000
RDATE:19330430T020000
RDATE:19420209T020000
END:DAYLIGHT
BEGIN:STANDARD
TZOFFSETFROM:-0930
TZOFFSETTO:-1030
TZNAME:HST
DTSTART:19330521T120000
RDATE:19330521T120000
RDATE:19450930T020000
END:STANDARD
BEGIN:STANDARD
TZOFFSETFROM:-1030
TZOFFSETTO:-1000
TZNAME:HST
DTSTART:19470608T020000
RDATE:19470608T020000
END:STANDARD
END:VTIMEZONE
BEGIN:VEVENT
UID:ietf-91-5656-sdnrg
SUMMARY:sdnrg - Software Defined Networking Research Group
LOCATION:Coral 3
STATUS:CONFIRMED
CLASS:PUBLIC
DTSTART;TZID=Pacific/Honolulu:20141110T090000
DTEND;TZID=Pacific/Honolulu:20141110T113000
DTSTAMP:20161222T095704Z
URL:https://datatracker.ietf.org/meeting/91/materials/agenda-91-sdnrg
DESCRIPTION:Morning Session I\n
 \n
 Agenda https://datatracker.ietf.org/meeting/91/materials/agenda-91-sdnrg\n
 \n
 Session materials: https://datatracker.ietf.org/meeting/91/session/sdnrg\n
 \n
 See in schedule: https://datatracker.ietf.org/meeting/91/agenda#row-91-2014-11-10-mon-0900-irtf-sdnrg\n
END:VEVENT
BEGIN:VEVENT
UID:ietf-91-5883-icnrg
SUMMARY:icnrg - Information-Centric Networking
LOCATION:Kahili
STATUS:CONFIRMED
CLASS:PUBLIC
DTSTART;TZID=Pacific/Honolulu:20141110T152000
DTEND;TZID=Pacific/Honolulu:20141110T172000
DTSTAMP:20161222T095704Z
URL:https://datatracker.ietf.org/meeting/91/materials/agenda-91-icnrg
DESCRIPTION:Afternoon Session II\n
 \n
 Agenda https://datatracker.ietf.org/meeting/91/materials/agenda-91-icnrg\n
 \n
 Session materials: https://datatracker.ietf.org/meeting/91/session/icnrg\n
 \n
 See in schedule: https://datatracker.ietf.org/meeting/91/agenda#row-91-2014-11-10-mon-1520-irtf-icnrg\n
END:VEVENT
BEGIN:VEVENT
UID:ietf-91-5878-icnrg
SUMMARY:icnrg - Information-Centric Networking
LOCATION:Kahili
STATUS:CONFIRMED
CLASS:PUBLIC
DTSTART;TZID=Pacific/Honolulu:20141110T173000
DTEND;TZID=Pacific/Honolulu:20141110T183000
DTSTAMP:20161222T095704Z
URL:https://datatracker.ietf.org/meeting/91/materials/agenda-91-icnrg
DESCRIPTION:Afternoon Session III\n
 \n
 Agenda https://datatracker.ietf.org/meeting/91/materials/agenda-91-icnrg\n
 \n
 Session materials: https://datatracker.ietf.org/meeting/91/session/icnrg\n
 \n
 See in schedule: https://datatracker.ietf.org/meeting/91/agenda#row-91-2014-11-10-mon-1730-irtf-icnrg\n
END:VEVENT
BEGIN:VEVENT
UID:ietf-91-5759-irtfopen
SUMMARY:irtfopen - IRTF Open Meeting
LOCATION:Coral 4
STATUS:CONFIRMED
CLASS:PUBLIC
DTSTART;TZID=Pacific/Honolulu:20141111T090000
DTEND;TZID=Pacific/Honolulu:20141111T113000
DTSTAMP:20161222T095704Z
URL:https://datatracker.ietf.org/meeting/91/materials/agenda-91-irtfopen
DESCRIPTION:Morning Session I\n
 \n
 Agenda https://datatracker.ietf.org/meeting/91/materials/agenda-91-irtfopen\n
 \n
 Session materials: https://datatracker.ietf.org/meeting/91/session/irtfopen\n
 \n
 See in schedule: https://datatracker.ietf.org/meeting/91/agenda#row-91-2014-11-11-tue-0900-irtf-irtfopen\n
END:VEVENT
BEGIN:VEVENT
UID:ietf-91-5738-dclcrg
SUMMARY:dclcrg - Proposed Data Center Latency Control Research Group
LOCATION:Hibiscus
STATUS:CONFIRMED
CLASS:PUBLIC
DTSTART;TZID=Pacific/Honolulu:20141111T130000
DTEND;TZID=Pacific/Honolulu:20141111T150000
DTSTAMP:20161222T095704Z
URL:https://datatracker.ietf.org/meeting/91/materials/agenda-91-dclcrg
DESCRIPTION:Afternoon Session I\n
 \n
 Agenda https://datatracker.ietf.org/meeting/91/materials/agenda-91-dclcrg\n
 \n
 Session materials: https://datatracker.ietf.org/meeting/91/session/dclcrg\n
 \n
 See in schedule: https://datatracker.ietf.org/meeting/91/agenda#row-91-2014-11-11-tue-1300-irtf-dclcrg\n
END:VEVENT
BEGIN:VEVENT
UID:ietf-91-5732-iccrg
SUMMARY:iccrg - Internet Congestion Control Research Group
LOCATION:Coral 1
STATUS:CONFIRMED
CLASS:PUBLIC
DTSTART;TZID=Pacific/Honolulu:20141111T152000
DTEND;TZID=Pacific/Honolulu:20141111T172000
DTSTAMP:20161222T095704Z
URL:https://datatracker.ietf.org/meeting/91/materials/agenda-91-iccrg
DESCRIPTION:Afternoon Session II\n
 \n
 Agenda https://datatracker.ietf.org/meeting/91/materials/agenda-91-iccrg\n
 \n
 Session materials: https://datatracker.ietf.org/meeting/91/session/iccrg\n
 \n
 See in schedule: https://datatracker.ietf.org/meeting/91/agenda#row-91-2014-11-11-tue-1520-irtf-iccrg\n
END:VEVENT
BEGIN:VEVENT
UID:ietf-91-5703-nfvrg
SUMMARY:nfvrg - Proposed Network Function Virtualization Research Group
LOCATION:Coral 4
STATUS:CONFIRMED
CLASS:PUBLIC
DTSTART;TZID=Pacific/Honolulu:20141113T090000
DTEND;TZID=Pacific/Honolulu:20141113T113000
DTSTAMP:20161222T095704Z
URL:https://datatracker.ietf.org/meeting/91/materials/agenda-91-nfvrg
DESCRIPTION:Morning Session I\n
 \n
 Agenda https://datatracker.ietf.org/meeting/91/materials/agenda-91-nfvrg\n
 \n
 Session materials: https://datatracker.ietf.org/meeting/91/session/nfvrg\n
 \n
 See in schedule: https://datatracker.ietf.org/meeting/91/agenda#row-91-2014-11-13-thu-0900-irtf-nfvrg\n
END:VEVENT
BEGIN:VEVENT
UID:ietf-91-5855-nwcrg
SUMMARY:nwcrg - Network Coding Research Group
LOCATION:Lehua Suite
STATUS:CONFIRMED
CLASS:PUBLIC
DTSTART;TZID=Pacific/Honolulu:20141114T090000
DTEND;TZID=Pacific/Honolulu:20141114T113000
DTSTAMP:20161222T095704Z
URL:https://datatracker.ietf.org/meeting/91/materials/agenda-91-nwcrg
DESCRIPTION:Morning Session I\n
 \n
 Agenda https://datatracker.ietf.org/meeting/91/materials/agenda-91-nwcrg\n
 \n
 Session materials: https://datatracker.ietf.org/meeting/91/session/nwcrg\n
 \n
 See in schedule: https://datatracker.ietf.org/meeting/91/agenda#row-91-2014-11-14-fri-0900-irtf-nwcrg\n
END:VEVENT
END:VCALENDAR
