BEGIN:VCALENDAR
VERSION:2.0
METHOD:PUBLISH
PRODID:-//IETF//datatracker.ietf.org ical agenda//EN
BEGIN:VTIMEZONE
TZID:Pacific/Honolulu
X-LIC-LOCATION:Pacific/Honolulu
BEGIN:STANDARD
TZOFFSETFROM:-103126
TZOFFSETTO:-1030
TZNAME:HST
DTSTART:18960113T120000
RDATE:18960113T120000
END:STANDARD
BEGIN:DAYLIGHT
TZOFFSETFROM:-1030
TZOFFSETTO:-0930
TZNAME:HDT
DTSTART:19330430T020000
RDATE:19330430T020000
RDATE:19420209T020000
END:DAYLIGHT
BEGIN:STANDARD
TZOFFSETFROM:-0930
TZOFFSETTO:-1030
TZNAME:HST
DTSTART:19330521T120000
RDATE:19330521T120000
RDATE:19450930T020000
END:STANDARD
BEGIN:STANDARD
TZOFFSETFROM:-1030
TZOFFSETTO:-1000
TZNAME:HST
DTSTART:19470608T020000
RDATE:19470608T020000
END:STANDARD
END:VTIMEZONE
BEGIN:VEVENT
UID:ietf-91-5655-v6ops
SUMMARY:v6ops - IPv6 Operations
LOCATION:Coral 4
STATUS:CONFIRMED
CLASS:PUBLIC
DTSTART;TZID=Pacific/Honolulu:20141110T090000
DTEND;TZID=Pacific/Honolulu:20141110T113000
DTSTAMP:20161222T095704Z
URL:https://datatracker.ietf.org/meeting/91/materials/agenda-91-v6ops
DESCRIPTION:Morning Session I\n
 \n
 Agenda https://datatracker.ietf.org/meeting/91/materials/agenda-91-v6ops\n
 \n
 Session materials: https://datatracker.ietf.org/meeting/91/session/v6ops\n
 \n
 See in schedule: https://datatracker.ietf.org/meeting/91/agenda#row-91-2014-11-10-mon-0900-ops-v6ops\n
END:VEVENT
BEGIN:VEVENT
UID:ietf-91-5766-anima
SUMMARY:anima - Autonomic Networking Integrated Model and Approach
LOCATION:Coral 5
STATUS:CONFIRMED
CLASS:PUBLIC
DTSTART;TZID=Pacific/Honolulu:20141110T152000
DTEND;TZID=Pacific/Honolulu:20141110T172000
DTSTAMP:20161222T095704Z
URL:https://datatracker.ietf.org/meeting/91/materials/agenda-91-anima
DESCRIPTION:Afternoon Session II\n
 \n
 Agenda https://datatracker.ietf.org/meeting/91/materials/agenda-91-anima\n
 \n
 Session materials: https://datatracker.ietf.org/meeting/91/session/anima\n
 \n
 See in schedule: https://datatracker.ietf.org/meeting/91/agenda#row-91-2014-11-10-mon-1520-ops-anima\n
END:VEVENT
BEGIN:VEVENT
UID:ietf-91-5768-v6ops
SUMMARY:v6ops - IPv6 Operations
LOCATION:Coral 3
STATUS:CONFIRMED
CLASS:PUBLIC
DTSTART;TZID=Pacific/Honolulu:20141110T152000
DTEND;TZID=Pacific/Honolulu:20141110T172000
DTSTAMP:20161222T095704Z
URL:https://datatracker.ietf.org/meeting/91/materials/agenda-91-v6ops
DESCRIPTION:Afternoon Session II\n
 \n
 Agenda https://datatracker.ietf.org/meeting/91/materials/agenda-91-v6ops\n
 \n
 Session materials: https://datatracker.ietf.org/meeting/91/session/v6ops\n
 \n
 See in schedule: https://datatracker.ietf.org/meeting/91/agenda#row-91-2014-11-10-mon-1520-ops-v6ops\n
END:VEVENT
BEGIN:VEVENT
UID:ietf-91-5782-anima
SUMMARY:anima - Autonomic Networking Integrated Model and Approach
LOCATION:Coral 5
STATUS:CONFIRMED
CLASS:PUBLIC
DTSTART;TZID=Pacific/Honolulu:20141110T173000
DTEND;TZID=Pacific/Honolulu:20141110T183000
DTSTAMP:20161222T095704Z
URL:https://datatracker.ietf.org/meeting/91/materials/agenda-91-anima
DESCRIPTION:Afternoon Session III\n
 \n
 Agenda https://datatracker.ietf.org/meeting/91/materials/agenda-91-anima\n
 \n
 Session materials: https://datatracker.ietf.org/meeting/91/session/anima\n
 \n
 See in schedule: https://datatracker.ietf.org/meeting/91/agenda#row-91-2014-11-10-mon-1730-ops-anima\n
END:VEVENT
BEGIN:VEVENT
UID:ietf-91-5783-grow
SUMMARY:grow - Global Routing Operations
LOCATION:Coral 4
STATUS:CONFIRMED
CLASS:PUBLIC
DTSTART;TZID=Pacific/Honolulu:20141110T173000
DTEND;TZID=Pacific/Honolulu:20141110T183000
DTSTAMP:20161222T095704Z
URL:https://datatracker.ietf.org/meeting/91/materials/agenda-91-grow
DESCRIPTION:Afternoon Session III\n
 \n
 Agenda https://datatracker.ietf.org/meeting/91/materials/agenda-91-grow\n
 \n
 Session materials: https://datatracker.ietf.org/meeting/91/session/grow\n
 \n
 See in schedule: https://datatracker.ietf.org/meeting/91/agenda#row-91-2014-11-10-mon-1730-ops-grow\n
END:VEVENT
BEGIN:VEVENT
UID:ietf-91-5866-dime
SUMMARY:dime - Diameter Maintenance and Extensions
LOCATION:Lehua Suite
STATUS:CONFIRMED
CLASS:PUBLIC
DTSTART;TZID=Pacific/Honolulu:20141111T090000
DTEND;TZID=Pacific/Honolulu:20141111T113000
DTSTAMP:20161222T095704Z
URL:https://datatracker.ietf.org/meeting/91/materials/agenda-91-dime
DESCRIPTION:Morning Session I\n
 \n
 Agenda https://datatracker.ietf.org/meeting/91/materials/agenda-91-dime\n
 \n
 Session materials: https://datatracker.ietf.org/meeting/91/session/dime\n
 \n
 See in schedule: https://datatracker.ietf.org/meeting/91/agenda#row-91-2014-11-11-tue-0900-ops-dime\n
END:VEVENT
BEGIN:VEVENT
UID:ietf-91-5754-mboned
SUMMARY:mboned - MBONE Deployment
LOCATION:Hibiscus
STATUS:CONFIRMED
CLASS:PUBLIC
DTSTART;TZID=Pacific/Honolulu:20141111T090000
DTEND;TZID=Pacific/Honolulu:20141111T113000
DTSTAMP:20161222T095704Z
URL:https://datatracker.ietf.org/meeting/91/materials/agenda-91-mboned
DESCRIPTION:Morning Session I\n
 \n
 Agenda https://datatracker.ietf.org/meeting/91/materials/agenda-91-mboned\n
 \n
 Session materials: https://datatracker.ietf.org/meeting/91/session/mboned\n
 \n
 See in schedule: https://datatracker.ietf.org/meeting/91/agenda#row-91-2014-11-11-tue-0900-ops-mboned\n
END:VEVENT
BEGIN:VEVENT
UID:ietf-91-5864-netconf
SUMMARY:netconf - Network Configuration
LOCATION:Lehua Suite
STATUS:CONFIRMED
CLASS:PUBLIC
DTSTART;TZID=Pacific/Honolulu:20141111T130000
DTEND;TZID=Pacific/Honolulu:20141111T150000
DTSTAMP:20161222T095704Z
URL:https://datatracker.ietf.org/meeting/91/materials/agenda-91-netconf
DESCRIPTION:Afternoon Session I\n
 \n
 Agenda https://datatracker.ietf.org/meeting/91/materials/agenda-91-netconf\n
 \n
 Session materials: https://datatracker.ietf.org/meeting/91/session/netconf\n
 \n
 See in schedule: https://datatracker.ietf.org/meeting/91/agenda#row-91-2014-11-11-tue-1300-ops-netconf\n
END:VEVENT
BEGIN:VEVENT
UID:ietf-91-5735-dnsop
SUMMARY:dnsop - Domain Name System Operations
LOCATION:Coral 4
STATUS:CONFIRMED
CLASS:PUBLIC
DTSTART;TZID=Pacific/Honolulu:20141111T152000
DTEND;TZID=Pacific/Honolulu:20141111T172000
DTSTAMP:20161222T095704Z
URL:https://datatracker.ietf.org/meeting/91/materials/agenda-91-dnsop
DESCRIPTION:Afternoon Session II\n
 \n
 Agenda https://datatracker.ietf.org/meeting/91/materials/agenda-91-dnsop\n
 \n
 Session materials: https://datatracker.ietf.org/meeting/91/session/dnsop\n
 \n
 See in schedule: https://datatracker.ietf.org/meeting/91/agenda#row-91-2014-11-11-tue-1520-ops-dnsop\n
END:VEVENT
BEGIN:VEVENT
UID:ietf-91-5863-radext
SUMMARY:radext - RADIUS EXTensions
LOCATION:Lehua Suite
STATUS:CONFIRMED
CLASS:PUBLIC
DTSTART;TZID=Pacific/Honolulu:20141111T152000
DTEND;TZID=Pacific/Honolulu:20141111T172000
DTSTAMP:20161222T095704Z
URL:https://datatracker.ietf.org/meeting/91/materials/agenda-91-radext
DESCRIPTION:Afternoon Session II\n
 \n
 Agenda https://datatracker.ietf.org/meeting/91/materials/agenda-91-radext\n
 \n
 Session materials: https://datatracker.ietf.org/meeting/91/session/radext\n
 \n
 See in schedule: https://datatracker.ietf.org/meeting/91/agenda#row-91-2014-11-11-tue-1520-ops-radext\n
END:VEVENT
BEGIN:VEVENT
UID:ietf-91-5716-opsawg
SUMMARY:opsawg - Operations and Management Area Working Group (Combined with OPSAREA)
LOCATION:Coral 1
STATUS:CONFIRMED
CLASS:PUBLIC
DTSTART;TZID=Pacific/Honolulu:20141112T090000
DTEND;TZID=Pacific/Honolulu:20141112T113000
DTSTAMP:20161222T095704Z
URL:https://datatracker.ietf.org/meeting/91/materials/agenda-91-opsawg
DESCRIPTION:Morning Session I\n
 Note: Combined with OPSAREA\n
 \n
 Agenda https://datatracker.ietf.org/meeting/91/materials/agenda-91-opsawg\n
 \n
 Session materials: https://datatracker.ietf.org/meeting/91/session/opsawg\n
 \n
 See in schedule: https://datatracker.ietf.org/meeting/91/agenda#row-91-2014-11-12-wed-0900-ops-opsawg\n
END:VEVENT
BEGIN:VEVENT
UID:ietf-91-5875-lmap
SUMMARY:lmap - Large-Scale Measurement of Broadband Performance
LOCATION:Kahili
STATUS:CONFIRMED
CLASS:PUBLIC
DTSTART;TZID=Pacific/Honolulu:20141113T090000
DTEND;TZID=Pacific/Honolulu:20141113T113000
DTSTAMP:20161222T095704Z
URL:https://datatracker.ietf.org/meeting/91/materials/agenda-91-lmap
DESCRIPTION:Morning Session I\n
 \n
 Agenda https://datatracker.ietf.org/meeting/91/materials/agenda-91-lmap\n
 \n
 Session materials: https://datatracker.ietf.org/meeting/91/session/lmap\n
 \n
 See in schedule: https://datatracker.ietf.org/meeting/91/agenda#row-91-2014-11-13-thu-0900-ops-lmap\n
END:VEVENT
BEGIN:VEVENT
UID:ietf-91-5693-lime
SUMMARY:lime - Layer Independent OAM Management in the Multi-Layer Environment
LOCATION:Coral 2
STATUS:CONFIRMED
CLASS:PUBLIC
DTSTART;TZID=Pacific/Honolulu:20141113T130000
DTEND;TZID=Pacific/Honolulu:20141113T150000
DTSTAMP:20161222T095704Z
URL:https://datatracker.ietf.org/meeting/91/materials/agenda-91-lime
DESCRIPTION:Afternoon Session I\n
 \n
 Agenda https://datatracker.ietf.org/meeting/91/materials/agenda-91-lime\n
 \n
 Session materials: https://datatracker.ietf.org/meeting/91/session/lime\n
 \n
 See in schedule: https://datatracker.ietf.org/meeting/91/agenda#row-91-2014-11-13-thu-1300-ops-lime\n
END:VEVENT
BEGIN:VEVENT
UID:ietf-91-5686-opsec
SUMMARY:opsec - Operational Security Capabilities for IP Network Infrastructure (CANCELLED)
LOCATION:Coral 5
STATUS:CONFIRMED
CLASS:PUBLIC
DTSTART;TZID=Pacific/Honolulu:20141113T152000
DTEND;TZID=Pacific/Honolulu:20141113T162000
DTSTAMP:20161222T095704Z
DESCRIPTION:Afternoon Session II\n
 Note: CANCELLED\n
 \n
 Session materials: https://datatracker.ietf.org/meeting/91/session/opsec\n
 \n
 See in schedule: https://datatracker.ietf.org/meeting/91/agenda#row-91-2014-11-13-thu-1520-ops-opsec\n
END:VEVENT
BEGIN:VEVENT
UID:ietf-91-5856-bmwg
SUMMARY:bmwg - Benchmarking Methodology
LOCATION:Lehua Suite
STATUS:CONFIRMED
CLASS:PUBLIC
DTSTART;TZID=Pacific/Honolulu:20141113T164000
DTEND;TZID=Pacific/Honolulu:20141113T191000
DTSTAMP:20161222T095704Z
URL:https://datatracker.ietf.org/meeting/91/materials/agenda-91-bmwg
DESCRIPTION:Afternoon Session III\n
 \n
 Agenda https://datatracker.ietf.org/meeting/91/materials/agenda-91-bmwg\n
 \n
 Session materials: https://datatracker.ietf.org/meeting/91/session/bmwg\n
 \n
 See in schedule: https://datatracker.ietf.org/meeting/91/agenda#row-91-2014-11-13-thu-1640-ops-bmwg\n
END:VEVENT
BEGIN:VEVENT
UID:ietf-91-5679-netmod
SUMMARY:netmod - NETCONF Data Modeling Language
LOCATION:Coral 4
STATUS:CONFIRMED
CLASS:PUBLIC
DTSTART;TZID=Pacific/Honolulu:20141113T164000
DTEND;TZID=Pacific/Honolulu:20141113T191000
DTSTAMP:20161222T095704Z
URL:https://datatracker.ietf.org/meeting/91/materials/agenda-91-netmod
DESCRIPTION:Afternoon Session III\n
 \n
 Agenda https://datatracker.ietf.org/meeting/91/materials/agenda-91-netmod\n
 \n
 Session materials: https://datatracker.ietf.org/meeting/91/session/netmod\n
 \n
 See in schedule: https://datatracker.ietf.org/meeting/91/agenda#row-91-2014-11-13-thu-1640-ops-netmod\n
END:VEVENT
BEGIN:VEVENT
UID:ietf-91-5752-netmod
SUMMARY:netmod - NETCONF Data Modeling Language
LOCATION:Coral 3
STATUS:CONFIRMED
CLASS:PUBLIC
DTSTART;TZID=Pacific/Honolulu:20141114T115000
DTEND;TZID=Pacific/Honolulu:20141114T132000
DTSTAMP:20161222T095704Z
URL:https://datatracker.ietf.org/meeting/91/materials/agenda-91-netmod
DESCRIPTION:Afternoon Session I\n
 \n
 Agenda https://datatracker.ietf.org/meeting/91/materials/agenda-91-netmod\n
 \n
 Session materials: https://datatracker.ietf.org/meeting/91/session/netmod\n
 \n
 See in schedule: https://datatracker.ietf.org/meeting/91/agenda#row-91-2014-11-14-fri-1150-ops-netmod\n
END:VEVENT
END:VCALENDAR
