BEGIN:VCALENDAR
VERSION:2.0
METHOD:PUBLISH
PRODID:-//IETF//datatracker.ietf.org ical agenda//EN
BEGIN:VTIMEZONE
TZID:Pacific/Honolulu
X-LIC-LOCATION:Pacific/Honolulu
BEGIN:STANDARD
TZOFFSETFROM:-103126
TZOFFSETTO:-1030
TZNAME:HST
DTSTART:18960113T120000
RDATE:18960113T120000
END:STANDARD
BEGIN:DAYLIGHT
TZOFFSETFROM:-1030
TZOFFSETTO:-0930
TZNAME:HDT
DTSTART:19330430T020000
RDATE:19330430T020000
RDATE:19420209T020000
END:DAYLIGHT
BEGIN:STANDARD
TZOFFSETFROM:-0930
TZOFFSETTO:-1030
TZNAME:HST
DTSTART:19330521T120000
RDATE:19330521T120000
RDATE:19450930T020000
END:STANDARD
BEGIN:STANDARD
TZOFFSETFROM:-1030
TZOFFSETTO:-1000
TZNAME:HST
DTSTART:19470608T020000
RDATE:19470608T020000
END:STANDARD
END:VTIMEZONE
BEGIN:VEVENT
UID:ietf-91-5854-avtcore
SUMMARY:avtcore - Audio/Video Transport Core Maintenance
LOCATION:Lehua Suite
STATUS:CONFIRMED
CLASS:PUBLIC
DTSTART;TZID=Pacific/Honolulu:20141110T090000
DTEND;TZID=Pacific/Honolulu:20141110T113000
DTSTAMP:20161222T095704Z
URL:https://datatracker.ietf.org/meeting/91/materials/agenda-91-avtcore
DESCRIPTION:Morning Session I\n
 \n
 Agenda https://datatracker.ietf.org/meeting/91/materials/agenda-91-avtcore\n
 \n
 Session materials: https://datatracker.ietf.org/meeting/91/session/avtcore\n
 \n
 See in schedule: https://datatracker.ietf.org/meeting/91/agenda#row-91-2014-11-10-mon-0900-rai-avtcore\n
END:VEVENT
BEGIN:VEVENT
UID:ietf-91-5767-rtcweb
SUMMARY:rtcweb - Real-Time Communication in WEB-browsers
LOCATION:Coral 4
STATUS:CONFIRMED
CLASS:PUBLIC
DTSTART;TZID=Pacific/Honolulu:20141110T152000
DTEND;TZID=Pacific/Honolulu:20141110T172000
DTSTAMP:20161222T095704Z
URL:https://datatracker.ietf.org/meeting/91/materials/agenda-91-rtcweb
DESCRIPTION:Afternoon Session II\n
 \n
 Agenda https://datatracker.ietf.org/meeting/91/materials/agenda-91-rtcweb\n
 \n
 Session materials: https://datatracker.ietf.org/meeting/91/session/rtcweb\n
 \n
 See in schedule: https://datatracker.ietf.org/meeting/91/agenda#row-91-2014-11-10-mon-1520-rai-rtcweb\n
END:VEVENT
BEGIN:VEVENT
UID:ietf-91-5756-dispatch
SUMMARY:dispatch - Dispatch (09:00-10:00)
LOCATION:Coral 1
STATUS:CONFIRMED
CLASS:PUBLIC
DTSTART;TZID=Pacific/Honolulu:20141111T090000
DTEND;TZID=Pacific/Honolulu:20141111T113000
DTSTAMP:20161222T095704Z
URL:https://datatracker.ietf.org/meeting/91/materials/agenda-91-dispatch
DESCRIPTION:Morning Session I\n
 Note: 09:00-10:00\n
 \n
 Agenda https://datatracker.ietf.org/meeting/91/materials/agenda-91-dispatch\n
 \n
 Session materials: https://datatracker.ietf.org/meeting/91/session/dispatch\n
 \n
 See in schedule: https://datatracker.ietf.org/meeting/91/agenda#row-91-2014-11-11-tue-0900-rai-dispatch\n
END:VEVENT
BEGIN:VEVENT
UID:ietf-91-5756-siprec
SUMMARY:siprec - SIP Recording (10:30-11:30)
LOCATION:Coral 1
STATUS:CONFIRMED
CLASS:PUBLIC
DTSTART;TZID=Pacific/Honolulu:20141111T090000
DTEND;TZID=Pacific/Honolulu:20141111T113000
DTSTAMP:20161222T095704Z
URL:https://datatracker.ietf.org/meeting/91/materials/agenda-91-siprec
DESCRIPTION:Morning Session I\n
 Note: 10:30-11:30\n
 \n
 Agenda https://datatracker.ietf.org/meeting/91/materials/agenda-91-siprec\n
 \n
 Session materials: https://datatracker.ietf.org/meeting/91/session/siprec\n
 \n
 See in schedule: https://datatracker.ietf.org/meeting/91/agenda#row-91-2014-11-11-tue-0900-rai-siprec\n
END:VEVENT
BEGIN:VEVENT
UID:ietf-91-5880-stir
SUMMARY:stir - Secure Telephone Identity Revisited
LOCATION:Kahili
STATUS:CONFIRMED
CLASS:PUBLIC
DTSTART;TZID=Pacific/Honolulu:20141111T130000
DTEND;TZID=Pacific/Honolulu:20141111T150000
DTSTAMP:20161222T095704Z
URL:https://datatracker.ietf.org/meeting/91/materials/agenda-91-stir
DESCRIPTION:Afternoon Session I\n
 \n
 Agenda https://datatracker.ietf.org/meeting/91/materials/agenda-91-stir\n
 \n
 Session materials: https://datatracker.ietf.org/meeting/91/session/stir\n
 \n
 See in schedule: https://datatracker.ietf.org/meeting/91/agenda#row-91-2014-11-11-tue-1300-rai-stir\n
END:VEVENT
BEGIN:VEVENT
UID:ietf-91-5879-avtext
SUMMARY:avtext - Audio/Video Transport Extensions
LOCATION:Kahili
STATUS:CONFIRMED
CLASS:PUBLIC
DTSTART;TZID=Pacific/Honolulu:20141111T152000
DTEND;TZID=Pacific/Honolulu:20141111T172000
DTSTAMP:20161222T095704Z
URL:https://datatracker.ietf.org/meeting/91/materials/agenda-91-avtext
DESCRIPTION:Afternoon Session II\n
 \n
 Agenda https://datatracker.ietf.org/meeting/91/materials/agenda-91-avtext\n
 \n
 Session materials: https://datatracker.ietf.org/meeting/91/session/avtext\n
 \n
 See in schedule: https://datatracker.ietf.org/meeting/91/agenda#row-91-2014-11-11-tue-1520-rai-avtext\n
END:VEVENT
BEGIN:VEVENT
UID:ietf-91-5734-webpush
SUMMARY:webpush - Web-Based Push Notifications
LOCATION:Coral 5
STATUS:CONFIRMED
CLASS:PUBLIC
DTSTART;TZID=Pacific/Honolulu:20141111T152000
DTEND;TZID=Pacific/Honolulu:20141111T172000
DTSTAMP:20161222T095704Z
URL:https://datatracker.ietf.org/meeting/91/materials/agenda-91-webpush
DESCRIPTION:Afternoon Session II\n
 \n
 Agenda https://datatracker.ietf.org/meeting/91/materials/agenda-91-webpush\n
 \n
 Session materials: https://datatracker.ietf.org/meeting/91/session/webpush\n
 \n
 See in schedule: https://datatracker.ietf.org/meeting/91/agenda#row-91-2014-11-11-tue-1520-rai-webpush\n
END:VEVENT
BEGIN:VEVENT
UID:ietf-91-5876-clue
SUMMARY:clue - ControLling mUltiple streams for tElepresence
LOCATION:Kahili
STATUS:CONFIRMED
CLASS:PUBLIC
DTSTART;TZID=Pacific/Honolulu:20141112T130000
DTEND;TZID=Pacific/Honolulu:20141112T150000
DTSTAMP:20161222T095704Z
URL:https://datatracker.ietf.org/meeting/91/materials/agenda-91-clue
DESCRIPTION:Afternoon Session I\n
 \n
 Agenda https://datatracker.ietf.org/meeting/91/materials/agenda-91-clue\n
 \n
 Session materials: https://datatracker.ietf.org/meeting/91/session/clue\n
 \n
 See in schedule: https://datatracker.ietf.org/meeting/91/agenda#row-91-2014-11-12-wed-1300-rai-clue\n
END:VEVENT
BEGIN:VEVENT
UID:ietf-91-5770-straw
SUMMARY:straw - Sip Traversal Required for Applications to Work
LOCATION:Hibiscus
STATUS:CONFIRMED
CLASS:PUBLIC
DTSTART;TZID=Pacific/Honolulu:20141112T152000
DTEND;TZID=Pacific/Honolulu:20141112T165000
DTSTAMP:20161222T095704Z
URL:https://datatracker.ietf.org/meeting/91/materials/agenda-91-straw
DESCRIPTION:Afternoon Session II\n
 \n
 Agenda https://datatracker.ietf.org/meeting/91/materials/agenda-91-straw\n
 \n
 Session materials: https://datatracker.ietf.org/meeting/91/session/straw\n
 \n
 See in schedule: https://datatracker.ietf.org/meeting/91/agenda#row-91-2014-11-12-wed-1520-rai-straw\n
END:VEVENT
BEGIN:VEVENT
UID:ietf-91-5773-xrblock
SUMMARY:xrblock - Metric Blocks for use with RTCP's Extended Report Framework
LOCATION:Coral 2
STATUS:CONFIRMED
CLASS:PUBLIC
DTSTART;TZID=Pacific/Honolulu:20141112T152000
DTEND;TZID=Pacific/Honolulu:20141112T165000
DTSTAMP:20161222T095704Z
URL:https://datatracker.ietf.org/meeting/91/materials/agenda-91-xrblock
DESCRIPTION:Afternoon Session II\n
 \n
 Agenda https://datatracker.ietf.org/meeting/91/materials/agenda-91-xrblock\n
 \n
 Session materials: https://datatracker.ietf.org/meeting/91/session/xrblock\n
 \n
 See in schedule: https://datatracker.ietf.org/meeting/91/agenda#row-91-2014-11-12-wed-1520-rai-xrblock\n
END:VEVENT
BEGIN:VEVENT
UID:ietf-91-5700-mmusic
SUMMARY:mmusic - Multiparty Multimedia Session Control
LOCATION:Coral 1
STATUS:CONFIRMED
CLASS:PUBLIC
DTSTART;TZID=Pacific/Honolulu:20141113T090000
DTEND;TZID=Pacific/Honolulu:20141113T113000
DTSTAMP:20161222T095704Z
URL:https://datatracker.ietf.org/meeting/91/materials/agenda-91-mmusic
DESCRIPTION:Morning Session I\n
 \n
 Agenda https://datatracker.ietf.org/meeting/91/materials/agenda-91-mmusic\n
 \n
 Session materials: https://datatracker.ietf.org/meeting/91/session/mmusic\n
 \n
 See in schedule: https://datatracker.ietf.org/meeting/91/agenda#row-91-2014-11-13-thu-0900-rai-mmusic\n
END:VEVENT
BEGIN:VEVENT
UID:ietf-91-5858-ecrit
SUMMARY:ecrit - Emergency Context Resolution with Internet Technologies (Moved From Monday at 1300)
LOCATION:Lehua Suite
STATUS:CONFIRMED
CLASS:PUBLIC
DTSTART;TZID=Pacific/Honolulu:20141113T130000
DTEND;TZID=Pacific/Honolulu:20141113T150000
DTSTAMP:20161222T095704Z
URL:https://datatracker.ietf.org/meeting/91/materials/agenda-91-ecrit
DESCRIPTION:Afternoon Session I\n
 Note: Moved From Monday at 1300\n
 \n
 Agenda https://datatracker.ietf.org/meeting/91/materials/agenda-91-ecrit\n
 \n
 Session materials: https://datatracker.ietf.org/meeting/91/session/ecrit\n
 \n
 See in schedule: https://datatracker.ietf.org/meeting/91/agenda#row-91-2014-11-13-thu-1300-rai-ecrit\n
END:VEVENT
BEGIN:VEVENT
UID:ietf-91-5694-netvc
SUMMARY:netvc - Internet Video Codec (CANCELLED)
LOCATION:Coral 5
STATUS:CONFIRMED
CLASS:PUBLIC
DTSTART;TZID=Pacific/Honolulu:20141113T130000
DTEND;TZID=Pacific/Honolulu:20141113T150000
DTSTAMP:20161222T095704Z
DESCRIPTION:Afternoon Session I\n
 Note: CANCELLED\n
 \n
 Session materials: https://datatracker.ietf.org/meeting/91/session/netvc\n
 \n
 See in schedule: https://datatracker.ietf.org/meeting/91/agenda#row-91-2014-11-13-thu-1300-rai-netvc\n
END:VEVENT
BEGIN:VEVENT
UID:ietf-91-5873-sipcore
SUMMARY:sipcore - Session Initiation Protocol Core
LOCATION:Kahili
STATUS:CONFIRMED
CLASS:PUBLIC
DTSTART;TZID=Pacific/Honolulu:20141113T152000
DTEND;TZID=Pacific/Honolulu:20141113T162000
DTSTAMP:20161222T095704Z
URL:https://datatracker.ietf.org/meeting/91/materials/agenda-91-sipcore
DESCRIPTION:Afternoon Session II\n
 \n
 Agenda https://datatracker.ietf.org/meeting/91/materials/agenda-91-sipcore\n
 \n
 Session materials: https://datatracker.ietf.org/meeting/91/session/sipcore\n
 \n
 See in schedule: https://datatracker.ietf.org/meeting/91/agenda#row-91-2014-11-13-thu-1520-rai-sipcore\n
END:VEVENT
BEGIN:VEVENT
UID:ietf-91-5680-rtcweb
SUMMARY:rtcweb - Real-Time Communication in WEB-browsers
LOCATION:Coral 3
STATUS:CONFIRMED
CLASS:PUBLIC
DTSTART;TZID=Pacific/Honolulu:20141113T164000
DTEND;TZID=Pacific/Honolulu:20141113T191000
DTSTAMP:20161222T095704Z
URL:https://datatracker.ietf.org/meeting/91/materials/agenda-91-rtcweb
DESCRIPTION:Afternoon Session III\n
 \n
 Agenda https://datatracker.ietf.org/meeting/91/materials/agenda-91-rtcweb\n
 \n
 Session materials: https://datatracker.ietf.org/meeting/91/session/rtcweb\n
 \n
 See in schedule: https://datatracker.ietf.org/meeting/91/agenda#row-91-2014-11-13-thu-1640-rai-rtcweb\n
END:VEVENT
BEGIN:VEVENT
UID:ietf-91-5670-mmusic
SUMMARY:mmusic - Multiparty Multimedia Session Control
LOCATION:Coral 5
STATUS:CONFIRMED
CLASS:PUBLIC
DTSTART;TZID=Pacific/Honolulu:20141114T090000
DTEND;TZID=Pacific/Honolulu:20141114T113000
DTSTAMP:20161222T095704Z
URL:https://datatracker.ietf.org/meeting/91/materials/agenda-91-mmusic
DESCRIPTION:Morning Session I\n
 \n
 Agenda https://datatracker.ietf.org/meeting/91/materials/agenda-91-mmusic\n
 \n
 Session materials: https://datatracker.ietf.org/meeting/91/session/mmusic\n
 \n
 See in schedule: https://datatracker.ietf.org/meeting/91/agenda#row-91-2014-11-14-fri-0900-rai-mmusic\n
END:VEVENT
BEGIN:VEVENT
UID:ietf-91-5865-clue
SUMMARY:clue - ControLling mUltiple streams for tElepresence
LOCATION:Lehua Suite
STATUS:CONFIRMED
CLASS:PUBLIC
DTSTART;TZID=Pacific/Honolulu:20141114T115000
DTEND;TZID=Pacific/Honolulu:20141114T132000
DTSTAMP:20161222T095704Z
URL:https://datatracker.ietf.org/meeting/91/materials/agenda-91-clue
DESCRIPTION:Afternoon Session I\n
 \n
 Agenda https://datatracker.ietf.org/meeting/91/materials/agenda-91-clue\n
 \n
 Session materials: https://datatracker.ietf.org/meeting/91/session/clue\n
 \n
 See in schedule: https://datatracker.ietf.org/meeting/91/agenda#row-91-2014-11-14-fri-1150-rai-clue\n
END:VEVENT
END:VCALENDAR
