BEGIN:VCALENDAR
VERSION:2.0
METHOD:PUBLISH
PRODID:-//IETF//datatracker.ietf.org ical agenda//EN
BEGIN:VTIMEZONE
TZID:Pacific/Honolulu
X-LIC-LOCATION:Pacific/Honolulu
BEGIN:STANDARD
TZOFFSETFROM:-103126
TZOFFSETTO:-1030
TZNAME:HST
DTSTART:18960113T120000
RDATE:18960113T120000
END:STANDARD
BEGIN:DAYLIGHT
TZOFFSETFROM:-1030
TZOFFSETTO:-0930
TZNAME:HDT
DTSTART:19330430T020000
RDATE:19330430T020000
RDATE:19420209T020000
END:DAYLIGHT
BEGIN:STANDARD
TZOFFSETFROM:-0930
TZOFFSETTO:-1030
TZNAME:HST
DTSTART:19330521T120000
RDATE:19330521T120000
RDATE:19450930T020000
END:STANDARD
BEGIN:STANDARD
TZOFFSETFROM:-1030
TZOFFSETTO:-1000
TZNAME:HST
DTSTART:19470608T020000
RDATE:19470608T020000
END:STANDARD
END:VTIMEZONE
BEGIN:VEVENT
UID:ietf-91-5654-mpls
SUMMARY:mpls - Multiprotocol Label Switching (09:00-10:30)
LOCATION:Coral 5
STATUS:CONFIRMED
CLASS:PUBLIC
DTSTART;TZID=Pacific/Honolulu:20141110T090000
DTEND;TZID=Pacific/Honolulu:20141110T113000
DTSTAMP:20161222T095704Z
URL:https://datatracker.ietf.org/meeting/91/materials/agenda-91-mpls
DESCRIPTION:Morning Session I\n
 Note: 09:00-10:30\n
 \n
 Agenda https://datatracker.ietf.org/meeting/91/materials/agenda-91-mpls\n
 \n
 Session materials: https://datatracker.ietf.org/meeting/91/session/mpls\n
 \n
 See in schedule: https://datatracker.ietf.org/meeting/91/agenda#row-91-2014-11-10-mon-0900-rtg-mpls\n
END:VEVENT
BEGIN:VEVENT
UID:ietf-91-5654-pce
SUMMARY:pce - Path Computation Element (10:30-11:30)
LOCATION:Coral 5
STATUS:CONFIRMED
CLASS:PUBLIC
DTSTART;TZID=Pacific/Honolulu:20141110T090000
DTEND;TZID=Pacific/Honolulu:20141110T113000
DTSTAMP:20161222T095704Z
URL:https://datatracker.ietf.org/meeting/91/materials/agenda-91-pce
DESCRIPTION:Morning Session I\n
 Note: 10:30-11:30\n
 \n
 Agenda https://datatracker.ietf.org/meeting/91/materials/agenda-91-pce\n
 \n
 Session materials: https://datatracker.ietf.org/meeting/91/session/pce\n
 \n
 See in schedule: https://datatracker.ietf.org/meeting/91/agenda#row-91-2014-11-10-mon-0900-rtg-pce\n
END:VEVENT
BEGIN:VEVENT
UID:ietf-91-5652-sidr
SUMMARY:sidr - Secure Inter-Domain Routing
LOCATION:Coral 1
STATUS:CONFIRMED
CLASS:PUBLIC
DTSTART;TZID=Pacific/Honolulu:20141110T090000
DTEND;TZID=Pacific/Honolulu:20141110T113000
DTSTAMP:20161222T095704Z
URL:https://datatracker.ietf.org/meeting/91/materials/agenda-91-sidr
DESCRIPTION:Morning Session I\n
 \n
 Agenda https://datatracker.ietf.org/meeting/91/materials/agenda-91-sidr\n
 \n
 Session materials: https://datatracker.ietf.org/meeting/91/session/sidr\n
 \n
 See in schedule: https://datatracker.ietf.org/meeting/91/agenda#row-91-2014-11-10-mon-0900-rtg-sidr\n
END:VEVENT
BEGIN:VEVENT
UID:ietf-91-5663-bier
SUMMARY:bier - Bit Indexed Explicit Replication
LOCATION:Coral 4
STATUS:CONFIRMED
CLASS:PUBLIC
DTSTART;TZID=Pacific/Honolulu:20141110T130000
DTEND;TZID=Pacific/Honolulu:20141110T150000
DTSTAMP:20161222T095704Z
URL:https://datatracker.ietf.org/meeting/91/materials/agenda-91-bier
DESCRIPTION:Afternoon Session I\n
 \n
 Agenda https://datatracker.ietf.org/meeting/91/materials/agenda-91-bier\n
 \n
 Session materials: https://datatracker.ietf.org/meeting/91/session/bier\n
 \n
 See in schedule: https://datatracker.ietf.org/meeting/91/agenda#row-91-2014-11-10-mon-1300-rtg-bier\n
END:VEVENT
BEGIN:VEVENT
UID:ietf-91-5765-nvo3
SUMMARY:nvo3 - Network Virtualization Overlays
LOCATION:Coral 2
STATUS:CONFIRMED
CLASS:PUBLIC
DTSTART;TZID=Pacific/Honolulu:20141110T152000
DTEND;TZID=Pacific/Honolulu:20141110T172000
DTSTAMP:20161222T095704Z
URL:https://datatracker.ietf.org/meeting/91/materials/agenda-91-nvo3
DESCRIPTION:Afternoon Session II\n
 \n
 Agenda https://datatracker.ietf.org/meeting/91/materials/agenda-91-nvo3\n
 \n
 Session materials: https://datatracker.ietf.org/meeting/91/session/nvo3\n
 \n
 See in schedule: https://datatracker.ietf.org/meeting/91/agenda#row-91-2014-11-10-mon-1520-rtg-nvo3\n
END:VEVENT
BEGIN:VEVENT
UID:ietf-91-5781-nvo3
SUMMARY:nvo3 - Network Virtualization Overlays
LOCATION:Coral 2
STATUS:CONFIRMED
CLASS:PUBLIC
DTSTART;TZID=Pacific/Honolulu:20141110T173000
DTEND;TZID=Pacific/Honolulu:20141110T183000
DTSTAMP:20161222T095704Z
URL:https://datatracker.ietf.org/meeting/91/materials/agenda-91-nvo3
DESCRIPTION:Afternoon Session III\n
 \n
 Agenda https://datatracker.ietf.org/meeting/91/materials/agenda-91-nvo3\n
 \n
 Session materials: https://datatracker.ietf.org/meeting/91/session/nvo3\n
 \n
 See in schedule: https://datatracker.ietf.org/meeting/91/agenda#row-91-2014-11-10-mon-1730-rtg-nvo3\n
END:VEVENT
BEGIN:VEVENT
UID:ietf-91-5754-pim
SUMMARY:pim - Protocol Independent Multicast
LOCATION:Hibiscus
STATUS:CONFIRMED
CLASS:PUBLIC
DTSTART;TZID=Pacific/Honolulu:20141111T090000
DTEND;TZID=Pacific/Honolulu:20141111T113000
DTSTAMP:20161222T095704Z
URL:https://datatracker.ietf.org/meeting/91/materials/agenda-91-pim
DESCRIPTION:Morning Session I\n
 \n
 Agenda https://datatracker.ietf.org/meeting/91/materials/agenda-91-pim\n
 \n
 Session materials: https://datatracker.ietf.org/meeting/91/session/pim\n
 \n
 See in schedule: https://datatracker.ietf.org/meeting/91/agenda#row-91-2014-11-11-tue-0900-rtg-pim\n
END:VEVENT
BEGIN:VEVENT
UID:ietf-91-5760-sfc
SUMMARY:sfc - Service Function Chaining
LOCATION:Coral 3
STATUS:CONFIRMED
CLASS:PUBLIC
DTSTART;TZID=Pacific/Honolulu:20141111T090000
DTEND;TZID=Pacific/Honolulu:20141111T113000
DTSTAMP:20161222T095704Z
URL:https://datatracker.ietf.org/meeting/91/materials/agenda-91-sfc
DESCRIPTION:Morning Session I\n
 \n
 Agenda https://datatracker.ietf.org/meeting/91/materials/agenda-91-sfc\n
 \n
 Session materials: https://datatracker.ietf.org/meeting/91/session/sfc\n
 \n
 See in schedule: https://datatracker.ietf.org/meeting/91/agenda#row-91-2014-11-11-tue-0900-rtg-sfc\n
END:VEVENT
BEGIN:VEVENT
UID:ietf-91-5743-rtgarea
SUMMARY:rtgarea - Routing Area Open Meeting
LOCATION:Coral 4
STATUS:CONFIRMED
CLASS:PUBLIC
DTSTART;TZID=Pacific/Honolulu:20141111T130000
DTEND;TZID=Pacific/Honolulu:20141111T150000
DTSTAMP:20161222T095704Z
URL:https://datatracker.ietf.org/meeting/91/materials/agenda-91-rtgarea
DESCRIPTION:Afternoon Session I\n
 \n
 Agenda https://datatracker.ietf.org/meeting/91/materials/agenda-91-rtgarea\n
 \n
 Session materials: https://datatracker.ietf.org/meeting/91/session/rtgarea\n
 \n
 See in schedule: https://datatracker.ietf.org/meeting/91/agenda#row-91-2014-11-11-tue-1300-rtg-rtgarea\n
END:VEVENT
BEGIN:VEVENT
UID:ietf-91-5736-actn
SUMMARY:actn - Abstraction and Control of Transport Networks
LOCATION:Coral 3
STATUS:CONFIRMED
CLASS:PUBLIC
DTSTART;TZID=Pacific/Honolulu:20141111T152000
DTEND;TZID=Pacific/Honolulu:20141111T172000
DTSTAMP:20161222T095704Z
URL:https://datatracker.ietf.org/meeting/91/materials/agenda-91-actn
DESCRIPTION:Afternoon Session II\n
 \n
 Agenda https://datatracker.ietf.org/meeting/91/materials/agenda-91-actn\n
 \n
 Session materials: https://datatracker.ietf.org/meeting/91/session/actn\n
 \n
 See in schedule: https://datatracker.ietf.org/meeting/91/agenda#row-91-2014-11-11-tue-1520-rtg-actn\n
END:VEVENT
BEGIN:VEVENT
UID:ietf-91-5718-bess
SUMMARY:bess - BGP Enabled Services
LOCATION:Coral 5
STATUS:CONFIRMED
CLASS:PUBLIC
DTSTART;TZID=Pacific/Honolulu:20141112T090000
DTEND;TZID=Pacific/Honolulu:20141112T113000
DTSTAMP:20161222T095704Z
URL:https://datatracker.ietf.org/meeting/91/materials/agenda-91-bess
DESCRIPTION:Morning Session I\n
 \n
 Agenda https://datatracker.ietf.org/meeting/91/materials/agenda-91-bess\n
 \n
 Session materials: https://datatracker.ietf.org/meeting/91/session/bess\n
 \n
 See in schedule: https://datatracker.ietf.org/meeting/91/agenda#row-91-2014-11-12-wed-0900-rtg-bess\n
END:VEVENT
BEGIN:VEVENT
UID:ietf-91-5717-rtgwg
SUMMARY:rtgwg - Routing Area Working Group
LOCATION:Coral 2
STATUS:CONFIRMED
CLASS:PUBLIC
DTSTART;TZID=Pacific/Honolulu:20141112T090000
DTEND;TZID=Pacific/Honolulu:20141112T113000
DTSTAMP:20161222T095704Z
URL:https://datatracker.ietf.org/meeting/91/materials/agenda-91-rtgwg
DESCRIPTION:Morning Session I\n
 \n
 Agenda https://datatracker.ietf.org/meeting/91/materials/agenda-91-rtgwg\n
 \n
 Session materials: https://datatracker.ietf.org/meeting/91/session/rtgwg\n
 \n
 See in schedule: https://datatracker.ietf.org/meeting/91/agenda#row-91-2014-11-12-wed-0900-rtg-rtgwg\n
END:VEVENT
BEGIN:VEVENT
UID:ietf-91-5711-l2vpn
SUMMARY:l2vpn - Layer 2 Virtual Private Networks (CANCELLED)
LOCATION:Coral 4
STATUS:CONFIRMED
CLASS:PUBLIC
DTSTART;TZID=Pacific/Honolulu:20141112T130000
DTEND;TZID=Pacific/Honolulu:20141112T150000
DTSTAMP:20161222T095704Z
DESCRIPTION:Afternoon Session I\n
 Note: CANCELLED\n
 \n
 Session materials: https://datatracker.ietf.org/meeting/91/session/l2vpn\n
 \n
 See in schedule: https://datatracker.ietf.org/meeting/91/agenda#row-91-2014-11-12-wed-1300-rtg-l2vpn\n
END:VEVENT
BEGIN:VEVENT
UID:ietf-91-5860-ospf
SUMMARY:ospf - Open Shortest Path First IGP
LOCATION:Lehua Suite
STATUS:CONFIRMED
CLASS:PUBLIC
DTSTART;TZID=Pacific/Honolulu:20141112T130000
DTEND;TZID=Pacific/Honolulu:20141112T150000
DTSTAMP:20161222T095704Z
URL:https://datatracker.ietf.org/meeting/91/materials/agenda-91-ospf
DESCRIPTION:Afternoon Session I\n
 \n
 Agenda https://datatracker.ietf.org/meeting/91/materials/agenda-91-ospf\n
 \n
 Session materials: https://datatracker.ietf.org/meeting/91/session/ospf\n
 \n
 See in schedule: https://datatracker.ietf.org/meeting/91/agenda#row-91-2014-11-12-wed-1300-rtg-ospf\n
END:VEVENT
BEGIN:VEVENT
UID:ietf-91-5711-pals
SUMMARY:pals - Pseudowire And LDP-enabled Services
LOCATION:Coral 4
STATUS:CONFIRMED
CLASS:PUBLIC
DTSTART;TZID=Pacific/Honolulu:20141112T130000
DTEND;TZID=Pacific/Honolulu:20141112T150000
DTSTAMP:20161222T095704Z
URL:https://datatracker.ietf.org/meeting/91/materials/agenda-91-pals
DESCRIPTION:Afternoon Session I\n
 \n
 Agenda https://datatracker.ietf.org/meeting/91/materials/agenda-91-pals\n
 \n
 Session materials: https://datatracker.ietf.org/meeting/91/session/pals\n
 \n
 See in schedule: https://datatracker.ietf.org/meeting/91/agenda#row-91-2014-11-12-wed-1300-rtg-pals\n
END:VEVENT
BEGIN:VEVENT
UID:ietf-91-5772-bfd
SUMMARY:bfd - Bidirectional Forwarding Detection
LOCATION:Coral 1
STATUS:CONFIRMED
CLASS:PUBLIC
DTSTART;TZID=Pacific/Honolulu:20141112T152000
DTEND;TZID=Pacific/Honolulu:20141112T165000
DTSTAMP:20161222T095704Z
URL:https://datatracker.ietf.org/meeting/91/materials/agenda-91-bfd
DESCRIPTION:Afternoon Session II\n
 \n
 Agenda https://datatracker.ietf.org/meeting/91/materials/agenda-91-bfd\n
 \n
 Session materials: https://datatracker.ietf.org/meeting/91/session/bfd\n
 \n
 See in schedule: https://datatracker.ietf.org/meeting/91/agenda#row-91-2014-11-12-wed-1520-rtg-bfd\n
END:VEVENT
BEGIN:VEVENT
UID:ietf-91-5859-manet
SUMMARY:manet - Mobile Ad-hoc Networks
LOCATION:Lehua Suite
STATUS:CONFIRMED
CLASS:PUBLIC
DTSTART;TZID=Pacific/Honolulu:20141113T090000
DTEND;TZID=Pacific/Honolulu:20141113T113000
DTSTAMP:20161222T095704Z
URL:https://datatracker.ietf.org/meeting/91/materials/agenda-91-manet
DESCRIPTION:Morning Session I\n
 \n
 Agenda https://datatracker.ietf.org/meeting/91/materials/agenda-91-manet\n
 \n
 Session materials: https://datatracker.ietf.org/meeting/91/session/manet\n
 \n
 See in schedule: https://datatracker.ietf.org/meeting/91/agenda#row-91-2014-11-13-thu-0900-rtg-manet\n
END:VEVENT
BEGIN:VEVENT
UID:ietf-91-5704-spring
SUMMARY:spring - Source Packet Routing in Networking
LOCATION:Coral 3
STATUS:CONFIRMED
CLASS:PUBLIC
DTSTART;TZID=Pacific/Honolulu:20141113T090000
DTEND;TZID=Pacific/Honolulu:20141113T113000
DTSTAMP:20161222T095704Z
URL:https://datatracker.ietf.org/meeting/91/materials/agenda-91-spring
DESCRIPTION:Morning Session I\n
 \n
 Agenda https://datatracker.ietf.org/meeting/91/materials/agenda-91-spring\n
 \n
 Session materials: https://datatracker.ietf.org/meeting/91/session/spring\n
 \n
 See in schedule: https://datatracker.ietf.org/meeting/91/agenda#row-91-2014-11-13-thu-0900-rtg-spring\n
END:VEVENT
BEGIN:VEVENT
UID:ietf-91-5874-idr
SUMMARY:idr - Inter-Domain Routing
LOCATION:Kahili
STATUS:CONFIRMED
CLASS:PUBLIC
DTSTART;TZID=Pacific/Honolulu:20141113T130000
DTEND;TZID=Pacific/Honolulu:20141113T150000
DTSTAMP:20161222T095704Z
URL:https://datatracker.ietf.org/meeting/91/materials/agenda-91-idr
DESCRIPTION:Afternoon Session I\n
 \n
 Agenda https://datatracker.ietf.org/meeting/91/materials/agenda-91-idr\n
 \n
 Session materials: https://datatracker.ietf.org/meeting/91/session/idr\n
 \n
 See in schedule: https://datatracker.ietf.org/meeting/91/agenda#row-91-2014-11-13-thu-1300-rtg-idr\n
END:VEVENT
BEGIN:VEVENT
UID:ietf-91-5688-i2rs
SUMMARY:i2rs - Interface to the Routing System
LOCATION:Coral 3
STATUS:CONFIRMED
CLASS:PUBLIC
DTSTART;TZID=Pacific/Honolulu:20141113T152000
DTEND;TZID=Pacific/Honolulu:20141113T162000
DTSTAMP:20161222T095704Z
URL:https://datatracker.ietf.org/meeting/91/materials/agenda-91-i2rs
DESCRIPTION:Afternoon Session II\n
 \n
 Agenda https://datatracker.ietf.org/meeting/91/materials/agenda-91-i2rs\n
 \n
 Session materials: https://datatracker.ietf.org/meeting/91/session/i2rs\n
 \n
 See in schedule: https://datatracker.ietf.org/meeting/91/agenda#row-91-2014-11-13-thu-1520-rtg-i2rs\n
END:VEVENT
BEGIN:VEVENT
UID:ietf-91-5678-ccamp
SUMMARY:ccamp - Common Control and Measurement Plane
LOCATION:Coral 5
STATUS:CONFIRMED
CLASS:PUBLIC
DTSTART;TZID=Pacific/Honolulu:20141113T164000
DTEND;TZID=Pacific/Honolulu:20141113T191000
DTSTAMP:20161222T095704Z
URL:https://datatracker.ietf.org/meeting/91/materials/agenda-91-ccamp
DESCRIPTION:Afternoon Session III\n
 \n
 Agenda https://datatracker.ietf.org/meeting/91/materials/agenda-91-ccamp\n
 \n
 Session materials: https://datatracker.ietf.org/meeting/91/session/ccamp\n
 \n
 See in schedule: https://datatracker.ietf.org/meeting/91/agenda#row-91-2014-11-13-thu-1640-rtg-ccamp\n
END:VEVENT
BEGIN:VEVENT
UID:ietf-91-5669-idr
SUMMARY:idr - Inter-Domain Routing
LOCATION:Coral 2
STATUS:CONFIRMED
CLASS:PUBLIC
DTSTART;TZID=Pacific/Honolulu:20141114T090000
DTEND;TZID=Pacific/Honolulu:20141114T113000
DTSTAMP:20161222T095704Z
URL:https://datatracker.ietf.org/meeting/91/materials/agenda-91-idr
DESCRIPTION:Morning Session I\n
 \n
 Agenda https://datatracker.ietf.org/meeting/91/materials/agenda-91-idr\n
 \n
 Session materials: https://datatracker.ietf.org/meeting/91/session/idr\n
 \n
 See in schedule: https://datatracker.ietf.org/meeting/91/agenda#row-91-2014-11-14-fri-0900-rtg-idr\n
END:VEVENT
BEGIN:VEVENT
UID:ietf-91-5671-mpls
SUMMARY:mpls - Multiprotocol Label Switching
LOCATION:Coral 4
STATUS:CONFIRMED
CLASS:PUBLIC
DTSTART;TZID=Pacific/Honolulu:20141114T090000
DTEND;TZID=Pacific/Honolulu:20141114T113000
DTSTAMP:20161222T095704Z
URL:https://datatracker.ietf.org/meeting/91/materials/agenda-91-mpls
DESCRIPTION:Morning Session I\n
 \n
 Agenda https://datatracker.ietf.org/meeting/91/materials/agenda-91-mpls\n
 \n
 Session materials: https://datatracker.ietf.org/meeting/91/session/mpls\n
 \n
 See in schedule: https://datatracker.ietf.org/meeting/91/agenda#row-91-2014-11-14-fri-0900-rtg-mpls\n
END:VEVENT
BEGIN:VEVENT
UID:ietf-91-5881-bess
SUMMARY:bess - BGP Enabled Services
LOCATION:Kahili
STATUS:CONFIRMED
CLASS:PUBLIC
DTSTART;TZID=Pacific/Honolulu:20141114T115000
DTEND;TZID=Pacific/Honolulu:20141114T132000
DTSTAMP:20161222T095704Z
URL:https://datatracker.ietf.org/meeting/91/materials/agenda-91-bess
DESCRIPTION:Afternoon Session I\n
 \n
 Agenda https://datatracker.ietf.org/meeting/91/materials/agenda-91-bess\n
 \n
 Session materials: https://datatracker.ietf.org/meeting/91/session/bess\n
 \n
 See in schedule: https://datatracker.ietf.org/meeting/91/agenda#row-91-2014-11-14-fri-1150-rtg-bess\n
END:VEVENT
BEGIN:VEVENT
UID:ietf-91-5750-isis
SUMMARY:isis - IS-IS for IP Internets
LOCATION:Coral 5
STATUS:CONFIRMED
CLASS:PUBLIC
DTSTART;TZID=Pacific/Honolulu:20141114T115000
DTEND;TZID=Pacific/Honolulu:20141114T132000
DTSTAMP:20161222T095704Z
URL:https://datatracker.ietf.org/meeting/91/materials/agenda-91-isis
DESCRIPTION:Afternoon Session I\n
 \n
 Agenda https://datatracker.ietf.org/meeting/91/materials/agenda-91-isis\n
 \n
 Session materials: https://datatracker.ietf.org/meeting/91/session/isis\n
 \n
 See in schedule: https://datatracker.ietf.org/meeting/91/agenda#row-91-2014-11-14-fri-1150-rtg-isis\n
END:VEVENT
BEGIN:VEVENT
UID:ietf-91-5881-pwe3
SUMMARY:pwe3 - Pseudowire Emulation Edge to Edge (CANCELLED)
LOCATION:Kahili
STATUS:CONFIRMED
CLASS:PUBLIC
DTSTART;TZID=Pacific/Honolulu:20141114T115000
DTEND;TZID=Pacific/Honolulu:20141114T132000
DTSTAMP:20161222T095704Z
DESCRIPTION:Afternoon Session I\n
 Note: CANCELLED\n
 \n
 Session materials: https://datatracker.ietf.org/meeting/91/session/pwe3\n
 \n
 See in schedule: https://datatracker.ietf.org/meeting/91/agenda#row-91-2014-11-14-fri-1150-rtg-pwe3\n
END:VEVENT
END:VCALENDAR
