BEGIN:VCALENDAR
VERSION:2.0
METHOD:PUBLISH
PRODID:-//IETF//datatracker.ietf.org ical agenda//EN
BEGIN:VTIMEZONE
TZID:Pacific/Honolulu
X-LIC-LOCATION:Pacific/Honolulu
BEGIN:STANDARD
TZOFFSETFROM:-103126
TZOFFSETTO:-1030
TZNAME:HST
DTSTART:18960113T120000
RDATE:18960113T120000
END:STANDARD
BEGIN:DAYLIGHT
TZOFFSETFROM:-1030
TZOFFSETTO:-0930
TZNAME:HDT
DTSTART:19330430T020000
RDATE:19330430T020000
RDATE:19420209T020000
END:DAYLIGHT
BEGIN:STANDARD
TZOFFSETFROM:-0930
TZOFFSETTO:-1030
TZNAME:HST
DTSTART:19330521T120000
RDATE:19330521T120000
RDATE:19450930T020000
END:STANDARD
BEGIN:STANDARD
TZOFFSETFROM:-1030
TZOFFSETTO:-1000
TZNAME:HST
DTSTART:19470608T020000
RDATE:19470608T020000
END:STANDARD
END:VTIMEZONE
BEGIN:VEVENT
UID:ietf-91-5870-sacm
SUMMARY:sacm - Security Automation and Continuous Monitoring
LOCATION:Kahili
STATUS:CONFIRMED
CLASS:PUBLIC
DTSTART;TZID=Pacific/Honolulu:20141110T090000
DTEND;TZID=Pacific/Honolulu:20141110T113000
DTSTAMP:20161222T095704Z
URL:https://datatracker.ietf.org/meeting/91/materials/agenda-91-sacm
DESCRIPTION:Morning Session I\n
 \n
 Agenda https://datatracker.ietf.org/meeting/91/materials/agenda-91-sacm\n
 \n
 Session materials: https://datatracker.ietf.org/meeting/91/session/sacm\n
 \n
 See in schedule: https://datatracker.ietf.org/meeting/91/agenda#row-91-2014-11-10-mon-0900-sec-sacm\n
END:VEVENT
BEGIN:VEVENT
UID:ietf-91-5658-mile
SUMMARY:mile - Managed Incident Lightweight Exchange
LOCATION:Hibiscus
STATUS:CONFIRMED
CLASS:PUBLIC
DTSTART;TZID=Pacific/Honolulu:20141110T130000
DTEND;TZID=Pacific/Honolulu:20141110T150000
DTSTAMP:20161222T095704Z
URL:https://datatracker.ietf.org/meeting/91/materials/agenda-91-mile
DESCRIPTION:Afternoon Session I\n
 \n
 Agenda https://datatracker.ietf.org/meeting/91/materials/agenda-91-mile\n
 \n
 Session materials: https://datatracker.ietf.org/meeting/91/session/mile\n
 \n
 See in schedule: https://datatracker.ietf.org/meeting/91/agenda#row-91-2014-11-10-mon-1300-sec-mile\n
END:VEVENT
BEGIN:VEVENT
UID:ietf-91-5762-trans
SUMMARY:trans - Public Notary Transparency 
LOCATION:Hibiscus
STATUS:CONFIRMED
CLASS:PUBLIC
DTSTART;TZID=Pacific/Honolulu:20141110T152000
DTEND;TZID=Pacific/Honolulu:20141110T172000
DTSTAMP:20161222T095704Z
URL:https://datatracker.ietf.org/meeting/91/materials/agenda-91-trans
DESCRIPTION:Afternoon Session II\n
 \n
 Agenda https://datatracker.ietf.org/meeting/91/materials/agenda-91-trans\n
 \n
 Session materials: https://datatracker.ietf.org/meeting/91/session/trans\n
 \n
 See in schedule: https://datatracker.ietf.org/meeting/91/agenda#row-91-2014-11-10-mon-1520-sec-trans\n
END:VEVENT
BEGIN:VEVENT
UID:ietf-91-5780-dice
SUMMARY:dice - DTLS In Constrained Environments
LOCATION:Coral 1
STATUS:CONFIRMED
CLASS:PUBLIC
DTSTART;TZID=Pacific/Honolulu:20141110T173000
DTEND;TZID=Pacific/Honolulu:20141110T183000
DTSTAMP:20161222T095704Z
URL:https://datatracker.ietf.org/meeting/91/materials/agenda-91-dice
DESCRIPTION:Afternoon Session III\n
 \n
 Agenda https://datatracker.ietf.org/meeting/91/materials/agenda-91-dice\n
 \n
 Session materials: https://datatracker.ietf.org/meeting/91/session/dice\n
 \n
 See in schedule: https://datatracker.ietf.org/meeting/91/agenda#row-91-2014-11-10-mon-1730-sec-dice\n
END:VEVENT
BEGIN:VEVENT
UID:ietf-91-5862-jose
SUMMARY:jose - Javascript Object Signing and Encryption (Moved from South Pacific 2)
LOCATION:Lehua Suite
STATUS:CONFIRMED
CLASS:PUBLIC
DTSTART;TZID=Pacific/Honolulu:20141110T173000
DTEND;TZID=Pacific/Honolulu:20141110T183000
DTSTAMP:20161222T095704Z
URL:https://datatracker.ietf.org/meeting/91/materials/agenda-91-jose
DESCRIPTION:Afternoon Session III\n
 Note: Moved from South Pacific 2\n
 \n
 Agenda https://datatracker.ietf.org/meeting/91/materials/agenda-91-jose\n
 \n
 Session materials: https://datatracker.ietf.org/meeting/91/session/jose\n
 \n
 See in schedule: https://datatracker.ietf.org/meeting/91/agenda#row-91-2014-11-10-mon-1730-sec-jose\n
END:VEVENT
BEGIN:VEVENT
UID:ietf-91-5778-trans
SUMMARY:trans - Public Notary Transparency 
LOCATION:Hibiscus
STATUS:CONFIRMED
CLASS:PUBLIC
DTSTART;TZID=Pacific/Honolulu:20141110T173000
DTEND;TZID=Pacific/Honolulu:20141110T183000
DTSTAMP:20161222T095704Z
URL:https://datatracker.ietf.org/meeting/91/materials/agenda-91-trans
DESCRIPTION:Afternoon Session III\n
 \n
 Agenda https://datatracker.ietf.org/meeting/91/materials/agenda-91-trans\n
 \n
 Session materials: https://datatracker.ietf.org/meeting/91/session/trans\n
 \n
 See in schedule: https://datatracker.ietf.org/meeting/91/agenda#row-91-2014-11-10-mon-1730-sec-trans\n
END:VEVENT
BEGIN:VEVENT
UID:ietf-91-5861-oauth
SUMMARY:oauth - Web Authorization Protocol
LOCATION:Lehua Suite
STATUS:CONFIRMED
CLASS:PUBLIC
DTSTART;TZID=Pacific/Honolulu:20141112T090000
DTEND;TZID=Pacific/Honolulu:20141112T113000
DTSTAMP:20161222T095704Z
URL:https://datatracker.ietf.org/meeting/91/materials/agenda-91-oauth
DESCRIPTION:Morning Session I\n
 \n
 Agenda https://datatracker.ietf.org/meeting/91/materials/agenda-91-oauth\n
 \n
 Session materials: https://datatracker.ietf.org/meeting/91/session/oauth\n
 \n
 See in schedule: https://datatracker.ietf.org/meeting/91/agenda#row-91-2014-11-12-wed-0900-sec-oauth\n
END:VEVENT
BEGIN:VEVENT
UID:ietf-91-5710-ace
SUMMARY:ace - Authentication and Authorization for Constrained Environments
LOCATION:Coral 5
STATUS:CONFIRMED
CLASS:PUBLIC
DTSTART;TZID=Pacific/Honolulu:20141112T130000
DTEND;TZID=Pacific/Honolulu:20141112T150000
DTSTAMP:20161222T095704Z
URL:https://datatracker.ietf.org/meeting/91/materials/agenda-91-ace
DESCRIPTION:Afternoon Session I\n
 \n
 Agenda https://datatracker.ietf.org/meeting/91/materials/agenda-91-ace\n
 \n
 Session materials: https://datatracker.ietf.org/meeting/91/session/ace\n
 \n
 See in schedule: https://datatracker.ietf.org/meeting/91/agenda#row-91-2014-11-12-wed-1300-sec-ace\n
END:VEVENT
BEGIN:VEVENT
UID:ietf-91-5712-dane
SUMMARY:dane - DNS-based Authentication of Named Entities
LOCATION:Coral 3
STATUS:CONFIRMED
CLASS:PUBLIC
DTSTART;TZID=Pacific/Honolulu:20141112T130000
DTEND;TZID=Pacific/Honolulu:20141112T150000
DTSTAMP:20161222T095704Z
URL:https://datatracker.ietf.org/meeting/91/materials/agenda-91-dane
DESCRIPTION:Afternoon Session I\n
 \n
 Agenda https://datatracker.ietf.org/meeting/91/materials/agenda-91-dane\n
 \n
 Session materials: https://datatracker.ietf.org/meeting/91/session/dane\n
 \n
 See in schedule: https://datatracker.ietf.org/meeting/91/agenda#row-91-2014-11-12-wed-1300-sec-dane\n
END:VEVENT
BEGIN:VEVENT
UID:ietf-91-5702-tls
SUMMARY:tls - Transport Layer Security
LOCATION:Coral 5
STATUS:CONFIRMED
CLASS:PUBLIC
DTSTART;TZID=Pacific/Honolulu:20141113T090000
DTEND;TZID=Pacific/Honolulu:20141113T113000
DTSTAMP:20161222T095704Z
URL:https://datatracker.ietf.org/meeting/91/materials/agenda-91-tls
DESCRIPTION:Morning Session I\n
 \n
 Agenda https://datatracker.ietf.org/meeting/91/materials/agenda-91-tls\n
 \n
 Session materials: https://datatracker.ietf.org/meeting/91/session/tls\n
 \n
 See in schedule: https://datatracker.ietf.org/meeting/91/agenda#row-91-2014-11-13-thu-0900-sec-tls\n
END:VEVENT
BEGIN:VEVENT
UID:ietf-91-5696-saag
SUMMARY:saag - Security Area Open Meeting
LOCATION:Coral 3
STATUS:CONFIRMED
CLASS:PUBLIC
DTSTART;TZID=Pacific/Honolulu:20141113T130000
DTEND;TZID=Pacific/Honolulu:20141113T150000
DTSTAMP:20161222T095704Z
URL:https://datatracker.ietf.org/meeting/91/materials/agenda-91-saag
DESCRIPTION:Afternoon Session I\n
 \n
 Agenda https://datatracker.ietf.org/meeting/91/materials/agenda-91-saag\n
 \n
 Session materials: https://datatracker.ietf.org/meeting/91/session/saag\n
 \n
 See in schedule: https://datatracker.ietf.org/meeting/91/agenda#row-91-2014-11-13-thu-1300-sec-saag\n
END:VEVENT
BEGIN:VEVENT
UID:ietf-91-5684-ipsecme
SUMMARY:ipsecme - IP Security Maintenance and Extensions
LOCATION:Coral 1
STATUS:CONFIRMED
CLASS:PUBLIC
DTSTART;TZID=Pacific/Honolulu:20141113T152000
DTEND;TZID=Pacific/Honolulu:20141113T162000
DTSTAMP:20161222T095704Z
URL:https://datatracker.ietf.org/meeting/91/materials/agenda-91-ipsecme
DESCRIPTION:Afternoon Session II\n
 \n
 Agenda https://datatracker.ietf.org/meeting/91/materials/agenda-91-ipsecme\n
 \n
 Session materials: https://datatracker.ietf.org/meeting/91/session/ipsecme\n
 \n
 See in schedule: https://datatracker.ietf.org/meeting/91/agenda#row-91-2014-11-13-thu-1520-sec-ipsecme\n
END:VEVENT
BEGIN:VEVENT
UID:ietf-91-5682-kitten
SUMMARY:kitten - Common Authentication Technology Next Generation
LOCATION:Hibiscus
STATUS:CONFIRMED
CLASS:PUBLIC
DTSTART;TZID=Pacific/Honolulu:20141113T152000
DTEND;TZID=Pacific/Honolulu:20141113T162000
DTSTAMP:20161222T095704Z
URL:https://datatracker.ietf.org/meeting/91/materials/agenda-91-kitten
DESCRIPTION:Afternoon Session II\n
 \n
 Agenda https://datatracker.ietf.org/meeting/91/materials/agenda-91-kitten\n
 \n
 Session materials: https://datatracker.ietf.org/meeting/91/session/kitten\n
 \n
 See in schedule: https://datatracker.ietf.org/meeting/91/agenda#row-91-2014-11-13-thu-1520-sec-kitten\n
END:VEVENT
BEGIN:VEVENT
UID:ietf-91-5676-i2nsf
SUMMARY:i2nsf - Interface to Network Security Functions
LOCATION:Coral 1
STATUS:CONFIRMED
CLASS:PUBLIC
DTSTART;TZID=Pacific/Honolulu:20141113T164000
DTEND;TZID=Pacific/Honolulu:20141113T191000
DTSTAMP:20161222T095704Z
URL:https://datatracker.ietf.org/meeting/91/materials/agenda-91-i2nsf
DESCRIPTION:Afternoon Session III\n
 \n
 Agenda https://datatracker.ietf.org/meeting/91/materials/agenda-91-i2nsf\n
 \n
 Session materials: https://datatracker.ietf.org/meeting/91/session/i2nsf\n
 \n
 See in schedule: https://datatracker.ietf.org/meeting/91/agenda#row-91-2014-11-13-thu-1640-sec-i2nsf\n
END:VEVENT
BEGIN:VEVENT
UID:ietf-91-5871-sacm
SUMMARY:sacm - Security Automation and Continuous Monitoring
LOCATION:Kahili
STATUS:CONFIRMED
CLASS:PUBLIC
DTSTART;TZID=Pacific/Honolulu:20141114T090000
DTEND;TZID=Pacific/Honolulu:20141114T113000
DTSTAMP:20161222T095704Z
URL:https://datatracker.ietf.org/meeting/91/materials/agenda-91-sacm
DESCRIPTION:Morning Session I\n
 \n
 Agenda https://datatracker.ietf.org/meeting/91/materials/agenda-91-sacm\n
 \n
 Session materials: https://datatracker.ietf.org/meeting/91/session/sacm\n
 \n
 See in schedule: https://datatracker.ietf.org/meeting/91/agenda#row-91-2014-11-14-fri-0900-sec-sacm\n
END:VEVENT
BEGIN:VEVENT
UID:ietf-91-5749-httpauth
SUMMARY:httpauth - Hypertext Transfer Protocol Authentication
LOCATION:Coral 2
STATUS:CONFIRMED
CLASS:PUBLIC
DTSTART;TZID=Pacific/Honolulu:20141114T115000
DTEND;TZID=Pacific/Honolulu:20141114T132000
DTSTAMP:20161222T095704Z
URL:https://datatracker.ietf.org/meeting/91/materials/agenda-91-httpauth
DESCRIPTION:Afternoon Session I\n
 \n
 Agenda https://datatracker.ietf.org/meeting/91/materials/agenda-91-httpauth\n
 \n
 Session materials: https://datatracker.ietf.org/meeting/91/session/httpauth\n
 \n
 See in schedule: https://datatracker.ietf.org/meeting/91/agenda#row-91-2014-11-14-fri-1150-sec-httpauth\n
END:VEVENT
END:VCALENDAR
