BEGIN:VCALENDAR
VERSION:2.0
METHOD:PUBLISH
PRODID:-//IETF//datatracker.ietf.org ical agenda//EN
BEGIN:VTIMEZONE
TZID:Pacific/Honolulu
X-LIC-LOCATION:Pacific/Honolulu
BEGIN:STANDARD
TZOFFSETFROM:-103126
TZOFFSETTO:-1030
TZNAME:HST
DTSTART:18960113T120000
RDATE:18960113T120000
END:STANDARD
BEGIN:DAYLIGHT
TZOFFSETFROM:-1030
TZOFFSETTO:-0930
TZNAME:HDT
DTSTART:19330430T020000
RDATE:19330430T020000
RDATE:19420209T020000
END:DAYLIGHT
BEGIN:STANDARD
TZOFFSETFROM:-0930
TZOFFSETTO:-1030
TZNAME:HST
DTSTART:19330521T120000
RDATE:19330521T120000
RDATE:19450930T020000
END:STANDARD
BEGIN:STANDARD
TZOFFSETFROM:-1030
TZOFFSETTO:-1000
TZNAME:HST
DTSTART:19470608T020000
RDATE:19470608T020000
END:STANDARD
END:VTIMEZONE
BEGIN:VEVENT
UID:ietf-91-5650-tcpm
SUMMARY:tcpm - TCP Maintenance and Minor Extensions
LOCATION:Hibiscus
STATUS:CONFIRMED
CLASS:PUBLIC
DTSTART;TZID=Pacific/Honolulu:20141110T090000
DTEND;TZID=Pacific/Honolulu:20141110T113000
DTSTAMP:20161222T095704Z
URL:https://datatracker.ietf.org/meeting/91/materials/agenda-91-tcpm
DESCRIPTION:Morning Session I\n
 \n
 Agenda https://datatracker.ietf.org/meeting/91/materials/agenda-91-tcpm\n
 \n
 Session materials: https://datatracker.ietf.org/meeting/91/session/tcpm\n
 \n
 See in schedule: https://datatracker.ietf.org/meeting/91/agenda#row-91-2014-11-10-mon-0900-tsv-tcpm\n
END:VEVENT
BEGIN:VEVENT
UID:ietf-91-5662-cdni
SUMMARY:cdni - Content Delivery Networks Interconnection
LOCATION:Coral 5
STATUS:CONFIRMED
CLASS:PUBLIC
DTSTART;TZID=Pacific/Honolulu:20141110T130000
DTEND;TZID=Pacific/Honolulu:20141110T150000
DTSTAMP:20161222T095704Z
URL:https://datatracker.ietf.org/meeting/91/materials/agenda-91-cdni
DESCRIPTION:Afternoon Session I\n
 \n
 Agenda https://datatracker.ietf.org/meeting/91/materials/agenda-91-cdni\n
 \n
 Session materials: https://datatracker.ietf.org/meeting/91/session/cdni\n
 \n
 See in schedule: https://datatracker.ietf.org/meeting/91/agenda#row-91-2014-11-10-mon-1300-tsv-cdni\n
END:VEVENT
BEGIN:VEVENT
UID:ietf-91-5661-aqm
SUMMARY:aqm - Active Queue Management and Packet Scheduling
LOCATION:Coral 2
STATUS:CONFIRMED
CLASS:PUBLIC
DTSTART;TZID=Pacific/Honolulu:20141110T130000
DTEND;TZID=Pacific/Honolulu:20141110T150000
DTSTAMP:20161222T095704Z
URL:https://datatracker.ietf.org/meeting/91/materials/agenda-91-aqm
DESCRIPTION:Afternoon Session I\n
 \n
 Agenda https://datatracker.ietf.org/meeting/91/materials/agenda-91-aqm\n
 \n
 Session materials: https://datatracker.ietf.org/meeting/91/session/aqm\n
 \n
 See in schedule: https://datatracker.ietf.org/meeting/91/agenda#row-91-2014-11-10-mon-1300-tsv-aqm\n
END:VEVENT
BEGIN:VEVENT
UID:ietf-91-5758-tsvarea
SUMMARY:tsvarea - Transport Area Open Meeting (CANCELLED)
LOCATION:Coral 5
STATUS:CONFIRMED
CLASS:PUBLIC
DTSTART;TZID=Pacific/Honolulu:20141111T090000
DTEND;TZID=Pacific/Honolulu:20141111T113000
DTSTAMP:20161222T095704Z
DESCRIPTION:Morning Session I\n
 Note: CANCELLED\n
 \n
 Session materials: https://datatracker.ietf.org/meeting/91/session/tsvarea\n
 \n
 See in schedule: https://datatracker.ietf.org/meeting/91/agenda#row-91-2014-11-11-tue-0900-tsv-tsvarea\n
END:VEVENT
BEGIN:VEVENT
UID:ietf-91-5741-taps
SUMMARY:taps - Transport Services (Moved from Thursday at 0900)
LOCATION:Coral 2
STATUS:CONFIRMED
CLASS:PUBLIC
DTSTART;TZID=Pacific/Honolulu:20141111T130000
DTEND;TZID=Pacific/Honolulu:20141111T150000
DTSTAMP:20161222T095704Z
URL:https://datatracker.ietf.org/meeting/91/materials/agenda-91-taps
DESCRIPTION:Afternoon Session I\n
 Note: Moved from Thursday at 0900\n
 \n
 Agenda https://datatracker.ietf.org/meeting/91/materials/agenda-91-taps\n
 \n
 Session materials: https://datatracker.ietf.org/meeting/91/session/taps\n
 \n
 See in schedule: https://datatracker.ietf.org/meeting/91/agenda#row-91-2014-11-11-tue-1300-tsv-taps\n
END:VEVENT
BEGIN:VEVENT
UID:ietf-91-5730-ippm
SUMMARY:ippm - IP Performance Metrics
LOCATION:Hibiscus
STATUS:CONFIRMED
CLASS:PUBLIC
DTSTART;TZID=Pacific/Honolulu:20141111T152000
DTEND;TZID=Pacific/Honolulu:20141111T172000
DTSTAMP:20161222T095704Z
URL:https://datatracker.ietf.org/meeting/91/materials/agenda-91-ippm
DESCRIPTION:Afternoon Session II\n
 \n
 Agenda https://datatracker.ietf.org/meeting/91/materials/agenda-91-ippm\n
 \n
 Session materials: https://datatracker.ietf.org/meeting/91/session/ippm\n
 \n
 See in schedule: https://datatracker.ietf.org/meeting/91/agenda#row-91-2014-11-11-tue-1520-tsv-ippm\n
END:VEVENT
BEGIN:VEVENT
UID:ietf-91-5719-rmcat
SUMMARY:rmcat - RTP Media Congestion Avoidance Techniques
LOCATION:Coral 4
STATUS:CONFIRMED
CLASS:PUBLIC
DTSTART;TZID=Pacific/Honolulu:20141112T090000
DTEND;TZID=Pacific/Honolulu:20141112T113000
DTSTAMP:20161222T095704Z
URL:https://datatracker.ietf.org/meeting/91/materials/agenda-91-rmcat
DESCRIPTION:Morning Session I\n
 \n
 Agenda https://datatracker.ietf.org/meeting/91/materials/agenda-91-rmcat\n
 \n
 Session materials: https://datatracker.ietf.org/meeting/91/session/rmcat\n
 \n
 See in schedule: https://datatracker.ietf.org/meeting/91/agenda#row-91-2014-11-12-wed-0900-tsv-rmcat\n
END:VEVENT
BEGIN:VEVENT
UID:ietf-91-5706-ppsp
SUMMARY:ppsp - Peer to Peer Streaming Protocol
LOCATION:Hibiscus
STATUS:CONFIRMED
CLASS:PUBLIC
DTSTART;TZID=Pacific/Honolulu:20141112T130000
DTEND;TZID=Pacific/Honolulu:20141112T150000
DTSTAMP:20161222T095704Z
URL:https://datatracker.ietf.org/meeting/91/materials/agenda-91-ppsp
DESCRIPTION:Afternoon Session I\n
 \n
 Agenda https://datatracker.ietf.org/meeting/91/materials/agenda-91-ppsp\n
 \n
 Session materials: https://datatracker.ietf.org/meeting/91/session/ppsp\n
 \n
 See in schedule: https://datatracker.ietf.org/meeting/91/agenda#row-91-2014-11-12-wed-1300-tsv-ppsp\n
END:VEVENT
BEGIN:VEVENT
UID:ietf-91-5708-tram
SUMMARY:tram - TURN Revised and Modernized
LOCATION:Coral 1
STATUS:CONFIRMED
CLASS:PUBLIC
DTSTART;TZID=Pacific/Honolulu:20141112T130000
DTEND;TZID=Pacific/Honolulu:20141112T150000
DTSTAMP:20161222T095704Z
URL:https://datatracker.ietf.org/meeting/91/materials/agenda-91-tram
DESCRIPTION:Afternoon Session I\n
 \n
 Agenda https://datatracker.ietf.org/meeting/91/materials/agenda-91-tram\n
 \n
 Session materials: https://datatracker.ietf.org/meeting/91/session/tram\n
 \n
 See in schedule: https://datatracker.ietf.org/meeting/91/agenda#row-91-2014-11-12-wed-1300-tsv-tram\n
END:VEVENT
BEGIN:VEVENT
UID:ietf-91-5774-dtn
SUMMARY:dtn - Delay/Disruption Tolerant Networking
LOCATION:Coral 5
STATUS:CONFIRMED
CLASS:PUBLIC
DTSTART;TZID=Pacific/Honolulu:20141112T152000
DTEND;TZID=Pacific/Honolulu:20141112T165000
DTSTAMP:20161222T095704Z
URL:https://datatracker.ietf.org/meeting/91/materials/agenda-91-dtn
DESCRIPTION:Afternoon Session II\n
 \n
 Agenda https://datatracker.ietf.org/meeting/91/materials/agenda-91-dtn\n
 \n
 Session materials: https://datatracker.ietf.org/meeting/91/session/dtn\n
 \n
 See in schedule: https://datatracker.ietf.org/meeting/91/agenda#row-91-2014-11-12-wed-1520-tsv-dtn\n
END:VEVENT
BEGIN:VEVENT
UID:ietf-91-5701-tsvwg
SUMMARY:tsvwg - Transport Area Working Group (Moved from Tuesday at 1300)
LOCATION:Coral 2
STATUS:CONFIRMED
CLASS:PUBLIC
DTSTART;TZID=Pacific/Honolulu:20141113T090000
DTEND;TZID=Pacific/Honolulu:20141113T113000
DTSTAMP:20161222T095704Z
URL:https://datatracker.ietf.org/meeting/91/materials/agenda-91-tsvwg
DESCRIPTION:Morning Session I\n
 Note: Moved from Tuesday at 1300\n
 \n
 Agenda https://datatracker.ietf.org/meeting/91/materials/agenda-91-tsvwg\n
 \n
 Session materials: https://datatracker.ietf.org/meeting/91/session/tsvwg\n
 \n
 See in schedule: https://datatracker.ietf.org/meeting/91/agenda#row-91-2014-11-13-thu-0900-tsv-tsvwg\n
END:VEVENT
BEGIN:VEVENT
UID:ietf-91-5692-tsvwg
SUMMARY:tsvwg - Transport Area Working Group
LOCATION:Coral 1
STATUS:CONFIRMED
CLASS:PUBLIC
DTSTART;TZID=Pacific/Honolulu:20141113T130000
DTEND;TZID=Pacific/Honolulu:20141113T150000
DTSTAMP:20161222T095704Z
URL:https://datatracker.ietf.org/meeting/91/materials/agenda-91-tsvwg
DESCRIPTION:Afternoon Session I\n
 \n
 Agenda https://datatracker.ietf.org/meeting/91/materials/agenda-91-tsvwg\n
 \n
 Session materials: https://datatracker.ietf.org/meeting/91/session/tsvwg\n
 \n
 See in schedule: https://datatracker.ietf.org/meeting/91/agenda#row-91-2014-11-13-thu-1300-tsv-tsvwg\n
END:VEVENT
BEGIN:VEVENT
UID:ietf-91-5857-conex
SUMMARY:conex - Congestion Exposure (CANCELLED)
LOCATION:Lehua Suite
STATUS:CONFIRMED
CLASS:PUBLIC
DTSTART;TZID=Pacific/Honolulu:20141113T152000
DTEND;TZID=Pacific/Honolulu:20141113T162000
DTSTAMP:20161222T095704Z
URL:https://datatracker.ietf.org/meeting/91/materials/agenda-91-conex
DESCRIPTION:Afternoon Session II\n
 Note: CANCELLED\n
 \n
 Agenda https://datatracker.ietf.org/meeting/91/materials/agenda-91-conex\n
 \n
 Session materials: https://datatracker.ietf.org/meeting/91/session/conex\n
 \n
 See in schedule: https://datatracker.ietf.org/meeting/91/agenda#row-91-2014-11-13-thu-1520-tsv-conex\n
END:VEVENT
BEGIN:VEVENT
UID:ietf-91-5674-alto
SUMMARY:alto - Application-Layer Traffic Optimization
LOCATION:Hibiscus
STATUS:CONFIRMED
CLASS:PUBLIC
DTSTART;TZID=Pacific/Honolulu:20141113T164000
DTEND;TZID=Pacific/Honolulu:20141113T191000
DTSTAMP:20161222T095704Z
URL:https://datatracker.ietf.org/meeting/91/materials/agenda-91-alto
DESCRIPTION:Afternoon Session III\n
 \n
 Agenda https://datatracker.ietf.org/meeting/91/materials/agenda-91-alto\n
 \n
 Session materials: https://datatracker.ietf.org/meeting/91/session/alto\n
 \n
 See in schedule: https://datatracker.ietf.org/meeting/91/agenda#row-91-2014-11-13-thu-1640-tsv-alto\n
END:VEVENT
BEGIN:VEVENT
UID:ietf-91-5668-tcpinc
SUMMARY:tcpinc - TCP Increased Security
LOCATION:Coral 1
STATUS:CONFIRMED
CLASS:PUBLIC
DTSTART;TZID=Pacific/Honolulu:20141114T090000
DTEND;TZID=Pacific/Honolulu:20141114T113000
DTSTAMP:20161222T095704Z
URL:https://datatracker.ietf.org/meeting/91/materials/agenda-91-tcpinc
DESCRIPTION:Morning Session I\n
 \n
 Agenda https://datatracker.ietf.org/meeting/91/materials/agenda-91-tcpinc\n
 \n
 Session materials: https://datatracker.ietf.org/meeting/91/session/tcpinc\n
 \n
 See in schedule: https://datatracker.ietf.org/meeting/91/agenda#row-91-2014-11-14-fri-0900-tsv-tcpinc\n
END:VEVENT
BEGIN:VEVENT
UID:ietf-91-5748-mptcp
SUMMARY:mptcp - Multipath TCP
LOCATION:Coral 1
STATUS:CONFIRMED
CLASS:PUBLIC
DTSTART;TZID=Pacific/Honolulu:20141114T115000
DTEND;TZID=Pacific/Honolulu:20141114T132000
DTSTAMP:20161222T095704Z
URL:https://datatracker.ietf.org/meeting/91/materials/agenda-91-mptcp
DESCRIPTION:Afternoon Session I\n
 \n
 Agenda https://datatracker.ietf.org/meeting/91/materials/agenda-91-mptcp\n
 \n
 Session materials: https://datatracker.ietf.org/meeting/91/session/mptcp\n
 \n
 See in schedule: https://datatracker.ietf.org/meeting/91/agenda#row-91-2014-11-14-fri-1150-tsv-mptcp\n
END:VEVENT
END:VCALENDAR
