BEGIN:VCALENDAR
VERSION:2.0
METHOD:PUBLISH
PRODID:-//IETF//datatracker.ietf.org ical agenda//EN
BEGIN:VTIMEZONE
TZID:Asia/Tokyo
X-LIC-LOCATION:Asia/Tokyo
BEGIN:STANDARD
TZOFFSETFROM:+091859
TZOFFSETTO:+0900
TZNAME:JST
DTSTART:18880101T001859
RDATE:18880101T001859
END:STANDARD
BEGIN:STANDARD
TZOFFSETFROM:+0900
TZOFFSETTO:+0900
TZNAME:JCST
DTSTART:18960101T000000
RDATE:18960101T000000
END:STANDARD
BEGIN:STANDARD
TZOFFSETFROM:+0900
TZOFFSETTO:+0900
TZNAME:JST
DTSTART:19371001T000000
RDATE:19371001T000000
END:STANDARD
BEGIN:DAYLIGHT
TZOFFSETFROM:+0900
TZOFFSETTO:+1000
TZNAME:JDT
DTSTART:19480502T020000
RDATE:19480502T020000
RDATE:19490403T020000
RDATE:19500507T020000
RDATE:19510506T020000
END:DAYLIGHT
BEGIN:STANDARD
TZOFFSETFROM:+1000
TZOFFSETTO:+0900
TZNAME:JST
DTSTART:19480911T020000
RDATE:19480911T020000
RDATE:19490910T020000
RDATE:19500909T020000
RDATE:19510908T020000
END:STANDARD
END:VTIMEZONE
BEGIN:VEVENT
UID:ietf-94-6680-mmusic
SUMMARY:mmusic - Multiparty Multimedia Session Control
LOCATION:Room 304
STATUS:CONFIRMED
CLASS:PUBLIC
DTSTART;TZID=Asia/Tokyo:20151102T090000
DTEND;TZID=Asia/Tokyo:20151102T113000
DTSTAMP:20161222T095703Z
URL:https://datatracker.ietf.org/meeting/94/materials/agenda-94-mmusic
DESCRIPTION:Morning Session I\n
 \n
 Agenda https://datatracker.ietf.org/meeting/94/materials/agenda-94-mmusic\n
 \n
 Session materials: https://datatracker.ietf.org/meeting/94/session/mmusic\n
 \n
 See in schedule: https://datatracker.ietf.org/meeting/94/agenda#row-94-2015-11-02-mon-0900-art-mmusic\n
END:VEVENT
BEGIN:VEVENT
UID:ietf-94-6689-httpbis
SUMMARY:httpbis - Hypertext Transfer Protocol
LOCATION:Room 501
STATUS:CONFIRMED
CLASS:PUBLIC
DTSTART;TZID=Asia/Tokyo:20151102T130000
DTEND;TZID=Asia/Tokyo:20151102T150000
DTSTAMP:20161222T095703Z
URL:https://datatracker.ietf.org/meeting/94/materials/agenda-94-httpbis
DESCRIPTION:Afternoon Session I\n
 \n
 Agenda https://datatracker.ietf.org/meeting/94/materials/agenda-94-httpbis\n
 \n
 Session materials: https://datatracker.ietf.org/meeting/94/session/httpbis\n
 \n
 See in schedule: https://datatracker.ietf.org/meeting/94/agenda#row-94-2015-11-02-mon-1300-art-httpbis\n
END:VEVENT
BEGIN:VEVENT
UID:ietf-94-6685-stir
SUMMARY:stir - Secure Telephone Identity Revisited
LOCATION:Room 301
STATUS:CONFIRMED
CLASS:PUBLIC
DTSTART;TZID=Asia/Tokyo:20151102T130000
DTEND;TZID=Asia/Tokyo:20151102T150000
DTSTAMP:20161222T095703Z
URL:https://datatracker.ietf.org/meeting/94/materials/agenda-94-stir
DESCRIPTION:Afternoon Session I\n
 \n
 Agenda https://datatracker.ietf.org/meeting/94/materials/agenda-94-stir\n
 \n
 Session materials: https://datatracker.ietf.org/meeting/94/session/stir\n
 \n
 See in schedule: https://datatracker.ietf.org/meeting/94/agenda#row-94-2015-11-02-mon-1300-art-stir\n
END:VEVENT
BEGIN:VEVENT
UID:ietf-94-6691-bfcpbis
SUMMARY:bfcpbis - Binary Floor Control Protocol Bis  (CANCELLED)
LOCATION:Room 413
STATUS:CONFIRMED
CLASS:PUBLIC
DTSTART;TZID=Asia/Tokyo:20151102T152000
DTEND;TZID=Asia/Tokyo:20151102T165000
DTSTAMP:20161222T095703Z
DESCRIPTION:Afternoon Session II\n
 Note: CANCELLED\n
 \n
 Session materials: https://datatracker.ietf.org/meeting/94/session/bfcpbis\n
 \n
 See in schedule: https://datatracker.ietf.org/meeting/94/agenda#row-94-2015-11-02-mon-1520-art-bfcpbis\n
END:VEVENT
BEGIN:VEVENT
UID:ietf-94-6696-netvc
SUMMARY:netvc - Internet Video Codec
LOCATION:Room 304
STATUS:CONFIRMED
CLASS:PUBLIC
DTSTART;TZID=Asia/Tokyo:20151102T152000
DTEND;TZID=Asia/Tokyo:20151102T165000
DTSTAMP:20161222T095703Z
URL:https://datatracker.ietf.org/meeting/94/materials/agenda-94-netvc
DESCRIPTION:Afternoon Session II\n
 \n
 Agenda https://datatracker.ietf.org/meeting/94/materials/agenda-94-netvc\n
 \n
 Session materials: https://datatracker.ietf.org/meeting/94/session/netvc\n
 \n
 See in schedule: https://datatracker.ietf.org/meeting/94/agenda#row-94-2015-11-02-mon-1520-art-netvc\n
END:VEVENT
BEGIN:VEVENT
UID:ietf-94-6701-slim
SUMMARY:slim - Selection of Language for Internet Media
LOCATION:Room 301
STATUS:CONFIRMED
CLASS:PUBLIC
DTSTART;TZID=Asia/Tokyo:20151102T171000
DTEND;TZID=Asia/Tokyo:20151102T191000
DTSTAMP:20161222T095703Z
URL:https://datatracker.ietf.org/meeting/94/materials/agenda-94-slim
DESCRIPTION:Afternoon Session III\n
 \n
 Agenda https://datatracker.ietf.org/meeting/94/materials/agenda-94-slim\n
 \n
 Session materials: https://datatracker.ietf.org/meeting/94/session/slim\n
 \n
 See in schedule: https://datatracker.ietf.org/meeting/94/agenda#row-94-2015-11-02-mon-1710-art-slim\n
END:VEVENT
BEGIN:VEVENT
UID:ietf-94-6814-core
SUMMARY:core - Constrained RESTful Environments
LOCATION:Room 301
STATUS:CONFIRMED
CLASS:PUBLIC
DTSTART;TZID=Asia/Tokyo:20151103T090000
DTEND;TZID=Asia/Tokyo:20151103T113000
DTSTAMP:20161222T095703Z
URL:https://datatracker.ietf.org/meeting/94/materials/agenda-94-core
DESCRIPTION:Morning Session I\n
 \n
 Agenda https://datatracker.ietf.org/meeting/94/materials/agenda-94-core\n
 \n
 Session materials: https://datatracker.ietf.org/meeting/94/session/core\n
 \n
 See in schedule: https://datatracker.ietf.org/meeting/94/agenda#row-94-2015-11-03-tue-0900-art-core\n
END:VEVENT
BEGIN:VEVENT
UID:ietf-94-6818-rtcweb
SUMMARY:rtcweb - Real-Time Communication in WEB-browsers
LOCATION:Room 501
STATUS:CONFIRMED
CLASS:PUBLIC
DTSTART;TZID=Asia/Tokyo:20151103T090000
DTEND;TZID=Asia/Tokyo:20151103T113000
DTSTAMP:20161222T095703Z
URL:https://datatracker.ietf.org/meeting/94/materials/agenda-94-rtcweb
DESCRIPTION:Morning Session I\n
 \n
 Agenda https://datatracker.ietf.org/meeting/94/materials/agenda-94-rtcweb\n
 \n
 Session materials: https://datatracker.ietf.org/meeting/94/session/rtcweb\n
 \n
 See in schedule: https://datatracker.ietf.org/meeting/94/agenda#row-94-2015-11-03-tue-0900-art-rtcweb\n
END:VEVENT
BEGIN:VEVENT
UID:ietf-94-6720-avtcore
SUMMARY:avtcore - Audio/Video Transport Core Maintenance
LOCATION:Room 304
STATUS:CONFIRMED
CLASS:PUBLIC
DTSTART;TZID=Asia/Tokyo:20151103T130000
DTEND;TZID=Asia/Tokyo:20151103T150000
DTSTAMP:20161222T095703Z
URL:https://datatracker.ietf.org/meeting/94/materials/agenda-94-avtcore
DESCRIPTION:Afternoon Session I\n
 \n
 Agenda https://datatracker.ietf.org/meeting/94/materials/agenda-94-avtcore\n
 \n
 Session materials: https://datatracker.ietf.org/meeting/94/session/avtcore\n
 \n
 See in schedule: https://datatracker.ietf.org/meeting/94/agenda#row-94-2015-11-03-tue-1300-art-avtcore\n
END:VEVENT
BEGIN:VEVENT
UID:ietf-94-6716-webpush
SUMMARY:webpush - Web-Based Push Notifications
LOCATION:Rooms 411/412
STATUS:CONFIRMED
CLASS:PUBLIC
DTSTART;TZID=Asia/Tokyo:20151103T130000
DTEND;TZID=Asia/Tokyo:20151103T150000
DTSTAMP:20161222T095703Z
URL:https://datatracker.ietf.org/meeting/94/materials/agenda-94-webpush
DESCRIPTION:Afternoon Session I\n
 \n
 Agenda https://datatracker.ietf.org/meeting/94/materials/agenda-94-webpush\n
 \n
 Session materials: https://datatracker.ietf.org/meeting/94/session/webpush\n
 \n
 See in schedule: https://datatracker.ietf.org/meeting/94/agenda#row-94-2015-11-03-tue-1300-art-webpush\n
END:VEVENT
BEGIN:VEVENT
UID:ietf-94-6730-iss
SUMMARY:iss - Internet Storage Sync
LOCATION:Room 502
STATUS:CONFIRMED
CLASS:PUBLIC
DTSTART;TZID=Asia/Tokyo:20151103T152000
DTEND;TZID=Asia/Tokyo:20151103T165000
DTSTAMP:20161222T095703Z
URL:https://datatracker.ietf.org/meeting/94/materials/agenda-94-iss
DESCRIPTION:Afternoon Session II\n
 \n
 Agenda https://datatracker.ietf.org/meeting/94/materials/agenda-94-iss\n
 \n
 Session materials: https://datatracker.ietf.org/meeting/94/session/iss\n
 \n
 See in schedule: https://datatracker.ietf.org/meeting/94/agenda#row-94-2015-11-03-tue-1520-art-iss\n
END:VEVENT
BEGIN:VEVENT
UID:ietf-94-6729-netvc
SUMMARY:netvc - Internet Video Codec
LOCATION:Room 501
STATUS:CONFIRMED
CLASS:PUBLIC
DTSTART;TZID=Asia/Tokyo:20151103T152000
DTEND;TZID=Asia/Tokyo:20151103T165000
DTSTAMP:20161222T095703Z
URL:https://datatracker.ietf.org/meeting/94/materials/agenda-94-netvc
DESCRIPTION:Afternoon Session II\n
 \n
 Agenda https://datatracker.ietf.org/meeting/94/materials/agenda-94-netvc\n
 \n
 Session materials: https://datatracker.ietf.org/meeting/94/session/netvc\n
 \n
 See in schedule: https://datatracker.ietf.org/meeting/94/agenda#row-94-2015-11-03-tue-1520-art-netvc\n
END:VEVENT
BEGIN:VEVENT
UID:ietf-94-6735-dbound
SUMMARY:dbound - Domain Boundaries
LOCATION:Room 303
STATUS:CONFIRMED
CLASS:PUBLIC
DTSTART;TZID=Asia/Tokyo:20151103T171000
DTEND;TZID=Asia/Tokyo:20151103T184000
DTSTAMP:20161222T095703Z
URL:https://datatracker.ietf.org/meeting/94/materials/agenda-94-dbound
DESCRIPTION:Afternoon Session III\n
 \n
 Agenda https://datatracker.ietf.org/meeting/94/materials/agenda-94-dbound\n
 \n
 Session materials: https://datatracker.ietf.org/meeting/94/session/dbound\n
 \n
 See in schedule: https://datatracker.ietf.org/meeting/94/agenda#row-94-2015-11-03-tue-1710-art-dbound\n
END:VEVENT
BEGIN:VEVENT
UID:ietf-94-6733-modern
SUMMARY:modern - Managing, Ordering, Distributing, Exposing, & Registering telephone Numbers
LOCATION:Room 301
STATUS:CONFIRMED
CLASS:PUBLIC
DTSTART;TZID=Asia/Tokyo:20151103T171000
DTEND;TZID=Asia/Tokyo:20151103T184000
DTSTAMP:20161222T095703Z
URL:https://datatracker.ietf.org/meeting/94/materials/agenda-94-modern
DESCRIPTION:Afternoon Session III\n
 \n
 Agenda https://datatracker.ietf.org/meeting/94/materials/agenda-94-modern\n
 \n
 Session materials: https://datatracker.ietf.org/meeting/94/session/modern\n
 \n
 See in schedule: https://datatracker.ietf.org/meeting/94/agenda#row-94-2015-11-03-tue-1710-art-modern\n
END:VEVENT
BEGIN:VEVENT
UID:ietf-94-6731-payload
SUMMARY:payload - Audio/Video Transport Payloads
LOCATION:Room 413
STATUS:CONFIRMED
CLASS:PUBLIC
DTSTART;TZID=Asia/Tokyo:20151103T171000
DTEND;TZID=Asia/Tokyo:20151103T184000
DTSTAMP:20161222T095703Z
URL:https://datatracker.ietf.org/meeting/94/materials/agenda-94-payload
DESCRIPTION:Afternoon Session III\n
 \n
 Agenda https://datatracker.ietf.org/meeting/94/materials/agenda-94-payload\n
 \n
 Session materials: https://datatracker.ietf.org/meeting/94/session/payload\n
 \n
 See in schedule: https://datatracker.ietf.org/meeting/94/agenda#row-94-2015-11-03-tue-1710-art-payload\n
END:VEVENT
BEGIN:VEVENT
UID:ietf-94-6740-cdni
SUMMARY:cdni - Content Delivery Networks Interconnection
LOCATION:Rooms 411/412
STATUS:CONFIRMED
CLASS:PUBLIC
DTSTART;TZID=Asia/Tokyo:20151104T090000
DTEND;TZID=Asia/Tokyo:20151104T113000
DTSTAMP:20161222T095703Z
URL:https://datatracker.ietf.org/meeting/94/materials/agenda-94-cdni
DESCRIPTION:Morning Session I\n
 \n
 Agenda https://datatracker.ietf.org/meeting/94/materials/agenda-94-cdni\n
 \n
 Session materials: https://datatracker.ietf.org/meeting/94/session/cdni\n
 \n
 See in schedule: https://datatracker.ietf.org/meeting/94/agenda#row-94-2015-11-04-wed-0900-art-cdni\n
END:VEVENT
BEGIN:VEVENT
UID:ietf-94-6739-clue
SUMMARY:clue - ControLling mUltiple streams for tElepresence (1030 - 1130)
LOCATION:Room 413
STATUS:CONFIRMED
CLASS:PUBLIC
DTSTART;TZID=Asia/Tokyo:20151104T090000
DTEND;TZID=Asia/Tokyo:20151104T113000
DTSTAMP:20161222T095703Z
URL:https://datatracker.ietf.org/meeting/94/materials/agenda-94-clue
DESCRIPTION:Morning Session I\n
 Note: 1030 - 1130\n
 \n
 Agenda https://datatracker.ietf.org/meeting/94/materials/agenda-94-clue\n
 \n
 Session materials: https://datatracker.ietf.org/meeting/94/session/clue\n
 \n
 See in schedule: https://datatracker.ietf.org/meeting/94/agenda#row-94-2015-11-04-wed-0900-art-clue\n
END:VEVENT
BEGIN:VEVENT
UID:ietf-94-6739-ecrit
SUMMARY:ecrit - Emergency Context Resolution with Internet Technologies (0900 - 1000)
LOCATION:Room 413
STATUS:CONFIRMED
CLASS:PUBLIC
DTSTART;TZID=Asia/Tokyo:20151104T090000
DTEND;TZID=Asia/Tokyo:20151104T113000
DTSTAMP:20161222T095703Z
URL:https://datatracker.ietf.org/meeting/94/materials/agenda-94-ecrit
DESCRIPTION:Morning Session I\n
 Note: 0900 - 1000\n
 \n
 Agenda https://datatracker.ietf.org/meeting/94/materials/agenda-94-ecrit\n
 \n
 Session materials: https://datatracker.ietf.org/meeting/94/session/ecrit\n
 \n
 See in schedule: https://datatracker.ietf.org/meeting/94/agenda#row-94-2015-11-04-wed-0900-art-ecrit\n
END:VEVENT
BEGIN:VEVENT
UID:ietf-94-6754-dispatch
SUMMARY:dispatch - Dispatch
LOCATION:Room 502
STATUS:CONFIRMED
CLASS:PUBLIC
DTSTART;TZID=Asia/Tokyo:20151104T130000
DTEND;TZID=Asia/Tokyo:20151104T150000
DTSTAMP:20161222T095703Z
URL:https://datatracker.ietf.org/meeting/94/materials/agenda-94-dispatch
DESCRIPTION:Afternoon Session I\n
 \n
 Agenda https://datatracker.ietf.org/meeting/94/materials/agenda-94-dispatch\n
 \n
 Session materials: https://datatracker.ietf.org/meeting/94/session/dispatch\n
 \n
 See in schedule: https://datatracker.ietf.org/meeting/94/agenda#row-94-2015-11-04-wed-1300-art-dispatch\n
END:VEVENT
BEGIN:VEVENT
UID:ietf-94-6827-ice
SUMMARY:ice - Interactive Connectivity Establishment
LOCATION:Room 303
STATUS:CONFIRMED
CLASS:PUBLIC
DTSTART;TZID=Asia/Tokyo:20151105T090000
DTEND;TZID=Asia/Tokyo:20151105T113000
DTSTAMP:20161222T095703Z
URL:https://datatracker.ietf.org/meeting/94/materials/agenda-94-ice
DESCRIPTION:Morning Session I\n
 \n
 Agenda https://datatracker.ietf.org/meeting/94/materials/agenda-94-ice\n
 \n
 Session materials: https://datatracker.ietf.org/meeting/94/session/ice\n
 \n
 See in schedule: https://datatracker.ietf.org/meeting/94/agenda#row-94-2015-11-05-thu-0900-art-ice\n
END:VEVENT
BEGIN:VEVENT
UID:ietf-94-6772-avtext
SUMMARY:avtext - Audio/Video Transport Extensions
LOCATION:Rooms 411/412
STATUS:CONFIRMED
CLASS:PUBLIC
DTSTART;TZID=Asia/Tokyo:20151105T130000
DTEND;TZID=Asia/Tokyo:20151105T150000
DTSTAMP:20161222T095703Z
URL:https://datatracker.ietf.org/meeting/94/materials/agenda-94-avtext
DESCRIPTION:Afternoon Session I\n
 \n
 Agenda https://datatracker.ietf.org/meeting/94/materials/agenda-94-avtext\n
 \n
 Session materials: https://datatracker.ietf.org/meeting/94/session/avtext\n
 \n
 See in schedule: https://datatracker.ietf.org/meeting/94/agenda#row-94-2015-11-05-thu-1300-art-avtext\n
END:VEVENT
BEGIN:VEVENT
UID:ietf-94-6771-geojson
SUMMARY:geojson - Geographic JSON (CANCELLED)
LOCATION:Room 413
STATUS:CONFIRMED
CLASS:PUBLIC
DTSTART;TZID=Asia/Tokyo:20151105T130000
DTEND;TZID=Asia/Tokyo:20151105T150000
DTSTAMP:20161222T095703Z
DESCRIPTION:Afternoon Session I\n
 Note: CANCELLED\n
 \n
 Session materials: https://datatracker.ietf.org/meeting/94/session/geojson\n
 \n
 See in schedule: https://datatracker.ietf.org/meeting/94/agenda#row-94-2015-11-05-thu-1300-art-geojson\n
END:VEVENT
BEGIN:VEVENT
UID:ietf-94-6779-eppext
SUMMARY:eppext - Extensible Provisioning Protocol Extensions
LOCATION:Room 413
STATUS:CONFIRMED
CLASS:PUBLIC
DTSTART;TZID=Asia/Tokyo:20151105T152000
DTEND;TZID=Asia/Tokyo:20151105T172000
DTSTAMP:20161222T095703Z
URL:https://datatracker.ietf.org/meeting/94/materials/agenda-94-eppext
DESCRIPTION:Afternoon Session II\n
 \n
 Agenda https://datatracker.ietf.org/meeting/94/materials/agenda-94-eppext\n
 \n
 Session materials: https://datatracker.ietf.org/meeting/94/session/eppext\n
 \n
 See in schedule: https://datatracker.ietf.org/meeting/94/agenda#row-94-2015-11-05-thu-1520-art-eppext\n
END:VEVENT
BEGIN:VEVENT
UID:ietf-94-6786-rtcweb
SUMMARY:rtcweb - Real-Time Communication in WEB-browsers
LOCATION:Room 502
STATUS:CONFIRMED
CLASS:PUBLIC
DTSTART;TZID=Asia/Tokyo:20151105T152000
DTEND;TZID=Asia/Tokyo:20151105T172000
DTSTAMP:20161222T095703Z
URL:https://datatracker.ietf.org/meeting/94/materials/agenda-94-rtcweb
DESCRIPTION:Afternoon Session II\n
 \n
 Agenda https://datatracker.ietf.org/meeting/94/materials/agenda-94-rtcweb\n
 \n
 Session materials: https://datatracker.ietf.org/meeting/94/session/rtcweb\n
 \n
 See in schedule: https://datatracker.ietf.org/meeting/94/agenda#row-94-2015-11-05-thu-1520-art-rtcweb\n
END:VEVENT
BEGIN:VEVENT
UID:ietf-94-6789-lager
SUMMARY:lager - Label Generation Rules
LOCATION:Room 301
STATUS:CONFIRMED
CLASS:PUBLIC
DTSTART;TZID=Asia/Tokyo:20151105T174000
DTEND;TZID=Asia/Tokyo:20151105T184000
DTSTAMP:20161222T095703Z
URL:https://datatracker.ietf.org/meeting/94/materials/agenda-94-lager
DESCRIPTION:Afternoon Session III\n
 \n
 Agenda https://datatracker.ietf.org/meeting/94/materials/agenda-94-lager\n
 \n
 Session materials: https://datatracker.ietf.org/meeting/94/session/lager\n
 \n
 See in schedule: https://datatracker.ietf.org/meeting/94/agenda#row-94-2015-11-05-thu-1740-art-lager\n
END:VEVENT
BEGIN:VEVENT
UID:ietf-94-6787-xrblock
SUMMARY:xrblock - Metric Blocks for use with RTCP's Extended Report Framework
LOCATION:Room 413
STATUS:CONFIRMED
CLASS:PUBLIC
DTSTART;TZID=Asia/Tokyo:20151105T174000
DTEND;TZID=Asia/Tokyo:20151105T184000
DTSTAMP:20161222T095703Z
URL:https://datatracker.ietf.org/meeting/94/materials/agenda-94-xrblock
DESCRIPTION:Afternoon Session III\n
 \n
 Agenda https://datatracker.ietf.org/meeting/94/materials/agenda-94-xrblock\n
 \n
 Session materials: https://datatracker.ietf.org/meeting/94/session/xrblock\n
 \n
 See in schedule: https://datatracker.ietf.org/meeting/94/agenda#row-94-2015-11-05-thu-1740-art-xrblock\n
END:VEVENT
BEGIN:VEVENT
UID:ietf-94-6798-core
SUMMARY:core - Constrained RESTful Environments
LOCATION:Room 302
STATUS:CONFIRMED
CLASS:PUBLIC
DTSTART;TZID=Asia/Tokyo:20151106T090000
DTEND;TZID=Asia/Tokyo:20151106T113000
DTSTAMP:20161222T095703Z
URL:https://datatracker.ietf.org/meeting/94/materials/agenda-94-core
DESCRIPTION:Morning Session I\n
 \n
 Agenda https://datatracker.ietf.org/meeting/94/materials/agenda-94-core\n
 \n
 Session materials: https://datatracker.ietf.org/meeting/94/session/core\n
 \n
 See in schedule: https://datatracker.ietf.org/meeting/94/agenda#row-94-2015-11-06-fri-0900-art-core\n
END:VEVENT
BEGIN:VEVENT
UID:ietf-94-6802-perc
SUMMARY:perc - Privacy Enhanced RTP Conferencing 
LOCATION:Room 502
STATUS:CONFIRMED
CLASS:PUBLIC
DTSTART;TZID=Asia/Tokyo:20151106T090000
DTEND;TZID=Asia/Tokyo:20151106T113000
DTSTAMP:20161222T095703Z
URL:https://datatracker.ietf.org/meeting/94/materials/agenda-94-perc
DESCRIPTION:Morning Session I\n
 \n
 Agenda https://datatracker.ietf.org/meeting/94/materials/agenda-94-perc\n
 \n
 Session materials: https://datatracker.ietf.org/meeting/94/session/perc\n
 \n
 See in schedule: https://datatracker.ietf.org/meeting/94/agenda#row-94-2015-11-06-fri-0900-art-perc\n
END:VEVENT
END:VCALENDAR
