BEGIN:VCALENDAR
VERSION:2.0
METHOD:PUBLISH
PRODID:-//IETF//datatracker.ietf.org ical agenda//EN
BEGIN:VTIMEZONE
TZID:Asia/Tokyo
X-LIC-LOCATION:Asia/Tokyo
BEGIN:STANDARD
TZOFFSETFROM:+091859
TZOFFSETTO:+0900
TZNAME:JST
DTSTART:18880101T001859
RDATE:18880101T001859
END:STANDARD
BEGIN:STANDARD
TZOFFSETFROM:+0900
TZOFFSETTO:+0900
TZNAME:JCST
DTSTART:18960101T000000
RDATE:18960101T000000
END:STANDARD
BEGIN:STANDARD
TZOFFSETFROM:+0900
TZOFFSETTO:+0900
TZNAME:JST
DTSTART:19371001T000000
RDATE:19371001T000000
END:STANDARD
BEGIN:DAYLIGHT
TZOFFSETFROM:+0900
TZOFFSETTO:+1000
TZNAME:JDT
DTSTART:19480502T020000
RDATE:19480502T020000
RDATE:19490403T020000
RDATE:19500507T020000
RDATE:19510506T020000
END:DAYLIGHT
BEGIN:STANDARD
TZOFFSETFROM:+1000
TZOFFSETTO:+0900
TZNAME:JST
DTSTART:19480911T020000
RDATE:19480911T020000
RDATE:19490910T020000
RDATE:19500909T020000
RDATE:19510908T020000
END:STANDARD
END:VTIMEZONE
BEGIN:VEVENT
UID:ietf-94-6838-tools
SUMMARY:Code Sprint
LOCATION:Room 316
STATUS:CONFIRMED
CLASS:PUBLIC
DTSTART;TZID=Asia/Tokyo:20151031T093000
DTEND;TZID=Asia/Tokyo:20151031T180000
DTSTAMP:20161222T095703Z
DESCRIPTION:Code Sprint\n
 \n
 Session materials: https://datatracker.ietf.org/meeting/94/session/tools\n
 \n
 See in schedule: https://datatracker.ietf.org/meeting/94/agenda#row-94-2015-10-31-sat-0930-tools-code-sprint\n
END:VEVENT
BEGIN:VEVENT
UID:ietf-94-6837-iepg
SUMMARY:IEPG Meeting
LOCATION:Room 303
STATUS:CONFIRMED
CLASS:PUBLIC
DTSTART;TZID=Asia/Tokyo:20151101T100000
DTEND;TZID=Asia/Tokyo:20151101T120000
DTSTAMP:20161222T095703Z
DESCRIPTION:IEPG Meeting\n
 \n
 Session materials: https://datatracker.ietf.org/meeting/94/session/iepg\n
 \n
 See in schedule: https://datatracker.ietf.org/meeting/94/agenda#row-94-2015-11-01-sun-1000-iepg-iepg-meeting\n
END:VEVENT
BEGIN:VEVENT
UID:ietf-94-6836-edu
SUMMARY:Newcomers' Orientation
LOCATION:Room 303
STATUS:CONFIRMED
CLASS:PUBLIC
DTSTART;TZID=Asia/Tokyo:20151101T130000
DTEND;TZID=Asia/Tokyo:20151101T145000
DTSTAMP:20161222T095703Z
DESCRIPTION:Newcomers' Orientation\n
 \n
 Session materials: https://datatracker.ietf.org/meeting/94/session/edu\n
 \n
 See in schedule: https://datatracker.ietf.org/meeting/94/agenda#row-94-2015-11-01-sun-1300-edu-newcomers-orientation\n
END:VEVENT
BEGIN:VEVENT
UID:ietf-94-6910-edu
SUMMARY:Newcomers' Orientation in Japanese
LOCATION:Room 302
STATUS:CONFIRMED
CLASS:PUBLIC
DTSTART;TZID=Asia/Tokyo:20151101T130000
DTEND;TZID=Asia/Tokyo:20151101T145000
DTSTAMP:20161222T095703Z
DESCRIPTION:Newcomers' Orientation in Japanese\n
 \n
 Session materials: https://datatracker.ietf.org/meeting/94/session/edu\n
 \n
 See in schedule: https://datatracker.ietf.org/meeting/94/agenda#row-94-2015-11-01-sun-1300-edu-newcomers-orientation-in-japanese\n
END:VEVENT
BEGIN:VEVENT
UID:ietf-94-6911-edu
SUMMARY:Tools for Creating IDs and RFCs
LOCATION:Room 301
STATUS:CONFIRMED
CLASS:PUBLIC
DTSTART;TZID=Asia/Tokyo:20151101T130000
DTEND;TZID=Asia/Tokyo:20151101T145000
DTSTAMP:20161222T095703Z
DESCRIPTION:Tools for Creating IDs and RFCs\n
 \n
 Session materials: https://datatracker.ietf.org/meeting/94/session/edu\n
 \n
 See in schedule: https://datatracker.ietf.org/meeting/94/agenda#row-94-2015-11-01-sun-1300-edu-tools-for-creating-ids-and-rfcs\n
END:VEVENT
BEGIN:VEVENT
UID:ietf-94-6912-edu
SUMMARY:YANG Tutorial and YANG Advice/Editing Session
LOCATION:Room 413
STATUS:CONFIRMED
CLASS:PUBLIC
DTSTART;TZID=Asia/Tokyo:20151101T130000
DTEND;TZID=Asia/Tokyo:20151101T170000
DTSTAMP:20161222T095703Z
DESCRIPTION:YANG Tutorial and YANG Advice/Editing Session\n
 \n
 Session materials: https://datatracker.ietf.org/meeting/94/session/edu\n
 \n
 See in schedule: https://datatracker.ietf.org/meeting/94/agenda#row-94-2015-11-01-sun-1300-edu-yang-tutorial-and-yang-adviceediting-session\n
END:VEVENT
BEGIN:VEVENT
UID:ietf-94-6914-edu
SUMMARY:Internet Area Overview
LOCATION:Room 302
STATUS:CONFIRMED
CLASS:PUBLIC
DTSTART;TZID=Asia/Tokyo:20151101T150000
DTEND;TZID=Asia/Tokyo:20151101T160000
DTSTAMP:20161222T095703Z
DESCRIPTION:Internet Area Overview\n
 \n
 Session materials: https://datatracker.ietf.org/meeting/94/session/edu\n
 \n
 See in schedule: https://datatracker.ietf.org/meeting/94/agenda#row-94-2015-11-01-sun-1500-edu-internet-area-overview\n
END:VEVENT
BEGIN:VEVENT
UID:ietf-94-6913-edu
SUMMARY:PRECIS and i18n
LOCATION:Room 303
STATUS:CONFIRMED
CLASS:PUBLIC
DTSTART;TZID=Asia/Tokyo:20151101T150000
DTEND;TZID=Asia/Tokyo:20151101T165000
DTSTAMP:20161222T095703Z
DESCRIPTION:PRECIS and i18n\n
 \n
 Session materials: https://datatracker.ietf.org/meeting/94/session/edu\n
 \n
 See in schedule: https://datatracker.ietf.org/meeting/94/agenda#row-94-2015-11-01-sun-1500-edu-precis-and-i18n\n
END:VEVENT
BEGIN:VEVENT
UID:ietf-94-6909-edu
SUMMARY:CBOR
LOCATION:Room 301
STATUS:CONFIRMED
CLASS:PUBLIC
DTSTART;TZID=Asia/Tokyo:20151101T160000
DTEND;TZID=Asia/Tokyo:20151101T163000
DTSTAMP:20161222T095703Z
DESCRIPTION:CBOR\n
 \n
 Session materials: https://datatracker.ietf.org/meeting/94/session/edu\n
 \n
 See in schedule: https://datatracker.ietf.org/meeting/94/agenda#row-94-2015-11-01-sun-1600-edu-cbor\n
END:VEVENT
BEGIN:VEVENT
UID:ietf-94-6928-edu
SUMMARY:Speed Mentoring
LOCATION:Room 413
STATUS:CONFIRMED
CLASS:PUBLIC
DTSTART;TZID=Asia/Tokyo:20151102T074500
DTEND;TZID=Asia/Tokyo:20151102T084500
DTSTAMP:20161222T095703Z
DESCRIPTION:Speed Mentoring\n
 \n
 Session materials: https://datatracker.ietf.org/meeting/94/session/edu\n
 \n
 See in schedule: https://datatracker.ietf.org/meeting/94/agenda#row-94-2015-11-02-mon-0745-edu-speed-mentoring\n
END:VEVENT
BEGIN:VEVENT
UID:ietf-94-6929-edu
SUMMARY:Regional Mentoring (Mentors Only)
LOCATION:Room 413
STATUS:CONFIRMED
CLASS:PUBLIC
DTSTART;TZID=Asia/Tokyo:20151103T074500
DTEND;TZID=Asia/Tokyo:20151103T084500
DTSTAMP:20161222T095703Z
DESCRIPTION:Regional Mentoring (Mentors Only)\n
 \n
 Session materials: https://datatracker.ietf.org/meeting/94/session/edu\n
 \n
 See in schedule: https://datatracker.ietf.org/meeting/94/agenda#row-94-2015-11-03-tue-0745-edu-regional-mentoring-mentors-only\n
END:VEVENT
BEGIN:VEVENT
UID:ietf-94-6730-iss
SUMMARY:iss - Internet Storage Sync
LOCATION:Room 502
STATUS:CONFIRMED
CLASS:PUBLIC
DTSTART;TZID=Asia/Tokyo:20151103T152000
DTEND;TZID=Asia/Tokyo:20151103T165000
DTSTAMP:20161222T095703Z
URL:https://datatracker.ietf.org/meeting/94/materials/agenda-94-iss
DESCRIPTION:Afternoon Session II\n
 \n
 Agenda https://datatracker.ietf.org/meeting/94/materials/agenda-94-iss\n
 \n
 Session materials: https://datatracker.ietf.org/meeting/94/session/iss\n
 \n
 See in schedule: https://datatracker.ietf.org/meeting/94/agenda#row-94-2015-11-03-tue-1520-art-iss\n
END:VEVENT
BEGIN:VEVENT
UID:ietf-94-6930-edu
SUMMARY:Workshop: Journey from I-D to RFC
LOCATION:Room 413
STATUS:CONFIRMED
CLASS:PUBLIC
DTSTART;TZID=Asia/Tokyo:20151104T074500
DTEND;TZID=Asia/Tokyo:20151104T084500
DTSTAMP:20161222T095703Z
DESCRIPTION:Workshop: Journey from I-D to RFC\n
 \n
 Session materials: https://datatracker.ietf.org/meeting/94/session/edu\n
 \n
 See in schedule: https://datatracker.ietf.org/meeting/94/agenda#row-94-2015-11-04-wed-0745-edu-workshop-journey-from-i-d-to-rfc\n
END:VEVENT
BEGIN:VEVENT
UID:ietf-94-6844-edu
SUMMARY:Working Group Chairs Training (For WG Chairs Only)
LOCATION:Room 304
STATUS:CONFIRMED
CLASS:PUBLIC
DTSTART;TZID=Asia/Tokyo:20151104T113000
DTEND;TZID=Asia/Tokyo:20151104T123000
DTSTAMP:20161222T095703Z
DESCRIPTION:Working Group Chairs Training (For WG Chairs Only)\n
 \n
 Session materials: https://datatracker.ietf.org/meeting/94/session/edu\n
 \n
 See in schedule: https://datatracker.ietf.org/meeting/94/agenda#row-94-2015-11-04-wed-1130-edu-working-group-chairs-training-for-wg-chairs-only\n
END:VEVENT
BEGIN:VEVENT
UID:ietf-94-6919-ietf
SUMMARY:IETF Operations\, Administration\, and Technical Plenary
LOCATION:Rooms 301-304
STATUS:CONFIRMED
CLASS:PUBLIC
DTSTART;TZID=Asia/Tokyo:20151104T153000
DTEND;TZID=Asia/Tokyo:20151104T183000
DTSTAMP:20161222T095703Z
URL:https://datatracker.ietf.org/meeting/94/materials/agenda-94-ietf-plenary
DESCRIPTION:IETF Operations\, Administration\, and Technical Plenary\n
 \n
 Agenda https://datatracker.ietf.org/meeting/94/materials/agenda-94-ietf-plenary\n
 \n
 Session materials: https://datatracker.ietf.org/meeting/94/session/ietf\n
 \n
 See in schedule: https://datatracker.ietf.org/meeting/94/agenda#row-94-2015-11-04-wed-1530-1plenary-ietf\n
END:VEVENT
BEGIN:VEVENT
UID:ietf-94-6931-edu
SUMMARY:Mentee Feedback Session
LOCATION:Room 413
STATUS:CONFIRMED
CLASS:PUBLIC
DTSTART;TZID=Asia/Tokyo:20151106T074500
DTEND;TZID=Asia/Tokyo:20151106T084500
DTSTAMP:20161222T095703Z
DESCRIPTION:Mentee Feedback Session\n
 \n
 Session materials: https://datatracker.ietf.org/meeting/94/session/edu\n
 \n
 See in schedule: https://datatracker.ietf.org/meeting/94/agenda#row-94-2015-11-06-fri-0745-edu-mentee-feedback-session\n
END:VEVENT
END:VCALENDAR
