BEGIN:VCALENDAR
VERSION:2.0
METHOD:PUBLISH
PRODID:-//IETF//datatracker.ietf.org ical agenda//EN
BEGIN:VTIMEZONE
TZID:Asia/Tokyo
X-LIC-LOCATION:Asia/Tokyo
BEGIN:STANDARD
TZOFFSETFROM:+091859
TZOFFSETTO:+0900
TZNAME:JST
DTSTART:18880101T001859
RDATE:18880101T001859
END:STANDARD
BEGIN:STANDARD
TZOFFSETFROM:+0900
TZOFFSETTO:+0900
TZNAME:JCST
DTSTART:18960101T000000
RDATE:18960101T000000
END:STANDARD
BEGIN:STANDARD
TZOFFSETFROM:+0900
TZOFFSETTO:+0900
TZNAME:JST
DTSTART:19371001T000000
RDATE:19371001T000000
END:STANDARD
BEGIN:DAYLIGHT
TZOFFSETFROM:+0900
TZOFFSETTO:+1000
TZNAME:JDT
DTSTART:19480502T020000
RDATE:19480502T020000
RDATE:19490403T020000
RDATE:19500507T020000
RDATE:19510506T020000
END:DAYLIGHT
BEGIN:STANDARD
TZOFFSETFROM:+1000
TZOFFSETTO:+0900
TZNAME:JST
DTSTART:19480911T020000
RDATE:19480911T020000
RDATE:19490910T020000
RDATE:19500909T020000
RDATE:19510908T020000
END:STANDARD
END:VTIMEZONE
BEGIN:VEVENT
UID:ietf-94-6886-iab
SUMMARY:IAB Meeting
LOCATION:Room 419
STATUS:CONFIRMED
CLASS:PUBLIC
DTSTART;TZID=Asia/Tokyo:20151101T140000
DTEND;TZID=Asia/Tokyo:20151101T170000
DTSTAMP:20161222T095703Z
DESCRIPTION:IAB Meeting\n
 \n
 Session materials: https://datatracker.ietf.org/meeting/94/session/iab\n
 \n
 See in schedule: https://datatracker.ietf.org/meeting/94/agenda#row-94-2015-11-01-sun-1400\n
END:VEVENT
BEGIN:VEVENT
UID:ietf-94-6932-iab
SUMMARY:IAB Breakfast 
LOCATION:Room 418 
STATUS:CONFIRMED
CLASS:PUBLIC
DTSTART;TZID=Asia/Tokyo:20151103T070000
DTEND;TZID=Asia/Tokyo:20151103T090000
DTSTAMP:20161222T095703Z
DESCRIPTION:IAB Breakfast \n
 \n
 Session materials: https://datatracker.ietf.org/meeting/94/session/iab\n
 \n
 See in schedule: https://datatracker.ietf.org/meeting/94/agenda#row-94-2015-11-03-tue-0700\n
END:VEVENT
BEGIN:VEVENT
UID:ietf-94-6942-iab
SUMMARY:IAB Breakfast
LOCATION:Room 418 
STATUS:CONFIRMED
CLASS:PUBLIC
DTSTART;TZID=Asia/Tokyo:20151105T070000
DTEND;TZID=Asia/Tokyo:20151105T090000
DTSTAMP:20161222T095703Z
DESCRIPTION:IAB Breakfast\n
 \n
 Session materials: https://datatracker.ietf.org/meeting/94/session/iab\n
 \n
 See in schedule: https://datatracker.ietf.org/meeting/94/agenda#row-94-2015-11-05-thu-0700\n
END:VEVENT
BEGIN:VEVENT
UID:ietf-94-6933-iab
SUMMARY:IESG/IAB Lunch
LOCATION:Room 419
STATUS:CONFIRMED
CLASS:PUBLIC
DTSTART;TZID=Asia/Tokyo:20151106T114500
DTEND;TZID=Asia/Tokyo:20151106T134500
DTSTAMP:20161222T095703Z
DESCRIPTION:IESG/IAB Lunch\n
 \n
 Session materials: https://datatracker.ietf.org/meeting/94/session/iab\n
 \n
 See in schedule: https://datatracker.ietf.org/meeting/94/agenda#row-94-2015-11-06-fri-1145\n
END:VEVENT
END:VCALENDAR
