BEGIN:VCALENDAR
VERSION:2.0
METHOD:PUBLISH
PRODID:-//IETF//datatracker.ietf.org ical agenda//EN
BEGIN:VTIMEZONE
TZID:Asia/Tokyo
X-LIC-LOCATION:Asia/Tokyo
BEGIN:STANDARD
TZOFFSETFROM:+091859
TZOFFSETTO:+0900
TZNAME:JST
DTSTART:18880101T001859
RDATE:18880101T001859
END:STANDARD
BEGIN:STANDARD
TZOFFSETFROM:+0900
TZOFFSETTO:+0900
TZNAME:JCST
DTSTART:18960101T000000
RDATE:18960101T000000
END:STANDARD
BEGIN:STANDARD
TZOFFSETFROM:+0900
TZOFFSETTO:+0900
TZNAME:JST
DTSTART:19371001T000000
RDATE:19371001T000000
END:STANDARD
BEGIN:DAYLIGHT
TZOFFSETFROM:+0900
TZOFFSETTO:+1000
TZNAME:JDT
DTSTART:19480502T020000
RDATE:19480502T020000
RDATE:19490403T020000
RDATE:19500507T020000
RDATE:19510506T020000
END:DAYLIGHT
BEGIN:STANDARD
TZOFFSETFROM:+1000
TZOFFSETTO:+0900
TZNAME:JST
DTSTART:19480911T020000
RDATE:19480911T020000
RDATE:19490910T020000
RDATE:19500909T020000
RDATE:19510908T020000
END:STANDARD
END:VTIMEZONE
BEGIN:VEVENT
UID:ietf-94-6694-dnssd
SUMMARY:dnssd - Extensions for Scalable DNS Service Discovery 
LOCATION:Room 302
STATUS:CONFIRMED
CLASS:PUBLIC
DTSTART;TZID=Asia/Tokyo:20151102T152000
DTEND;TZID=Asia/Tokyo:20151102T165000
DTSTAMP:20161222T095703Z
URL:https://datatracker.ietf.org/meeting/94/materials/agenda-94-dnssd
DESCRIPTION:Afternoon Session II\n
 \n
 Agenda https://datatracker.ietf.org/meeting/94/materials/agenda-94-dnssd\n
 \n
 Session materials: https://datatracker.ietf.org/meeting/94/session/dnssd\n
 \n
 See in schedule: https://datatracker.ietf.org/meeting/94/agenda#row-94-2015-11-02-mon-1520-int-dnssd\n
END:VEVENT
BEGIN:VEVENT
UID:ietf-94-6704-dprive
SUMMARY:dprive - DNS PRIVate Exchange
LOCATION:Room 304
STATUS:CONFIRMED
CLASS:PUBLIC
DTSTART;TZID=Asia/Tokyo:20151102T171000
DTEND;TZID=Asia/Tokyo:20151102T191000
DTSTAMP:20161222T095703Z
URL:https://datatracker.ietf.org/meeting/94/materials/agenda-94-dprive
DESCRIPTION:Afternoon Session III\n
 \n
 Agenda https://datatracker.ietf.org/meeting/94/materials/agenda-94-dprive\n
 \n
 Session materials: https://datatracker.ietf.org/meeting/94/session/dprive\n
 \n
 See in schedule: https://datatracker.ietf.org/meeting/94/agenda#row-94-2015-11-02-mon-1710-int-dprive\n
END:VEVENT
BEGIN:VEVENT
UID:ietf-94-6700-ntp
SUMMARY:ntp - Network Time Protocol (Combined with TICTOC)
LOCATION:Rooms 411/412
STATUS:CONFIRMED
CLASS:PUBLIC
DTSTART;TZID=Asia/Tokyo:20151102T171000
DTEND;TZID=Asia/Tokyo:20151102T191000
DTSTAMP:20161222T095703Z
URL:https://datatracker.ietf.org/meeting/94/materials/agenda-94-ntp
DESCRIPTION:Afternoon Session III\n
 Note: Combined with TICTOC\n
 \n
 Agenda https://datatracker.ietf.org/meeting/94/materials/agenda-94-ntp\n
 \n
 Session materials: https://datatracker.ietf.org/meeting/94/session/ntp\n
 \n
 See in schedule: https://datatracker.ietf.org/meeting/94/agenda#row-94-2015-11-02-mon-1710-int-ntp\n
END:VEVENT
BEGIN:VEVENT
UID:ietf-94-6700-tictoc
SUMMARY:tictoc - Timing over IP Connection and Transfer of Clock (Combined with NTP)
LOCATION:Rooms 411/412
STATUS:CONFIRMED
CLASS:PUBLIC
DTSTART;TZID=Asia/Tokyo:20151102T171000
DTEND;TZID=Asia/Tokyo:20151102T191000
DTSTAMP:20161222T095703Z
URL:https://datatracker.ietf.org/meeting/94/materials/agenda-94-tictoc
DESCRIPTION:Afternoon Session III\n
 Note: Combined with NTP\n
 \n
 Agenda https://datatracker.ietf.org/meeting/94/materials/agenda-94-tictoc\n
 \n
 Session materials: https://datatracker.ietf.org/meeting/94/session/tictoc\n
 \n
 See in schedule: https://datatracker.ietf.org/meeting/94/agenda#row-94-2015-11-02-mon-1710-int-tictoc\n
END:VEVENT
BEGIN:VEVENT
UID:ietf-94-6813-dmm
SUMMARY:dmm - Distributed Mobility Management
LOCATION:Rooms 411/412
STATUS:CONFIRMED
CLASS:PUBLIC
DTSTART;TZID=Asia/Tokyo:20151103T090000
DTEND;TZID=Asia/Tokyo:20151103T113000
DTSTAMP:20161222T095703Z
URL:https://datatracker.ietf.org/meeting/94/materials/agenda-94-dmm
DESCRIPTION:Morning Session I\n
 \n
 Agenda https://datatracker.ietf.org/meeting/94/materials/agenda-94-dmm\n
 \n
 Session materials: https://datatracker.ietf.org/meeting/94/session/dmm\n
 \n
 See in schedule: https://datatracker.ietf.org/meeting/94/agenda#row-94-2015-11-03-tue-0900-int-dmm\n
END:VEVENT
BEGIN:VEVENT
UID:ietf-94-6819-homenet
SUMMARY:homenet - Home Networking
LOCATION:Room 502
STATUS:CONFIRMED
CLASS:PUBLIC
DTSTART;TZID=Asia/Tokyo:20151103T090000
DTEND;TZID=Asia/Tokyo:20151103T113000
DTSTAMP:20161222T095703Z
URL:https://datatracker.ietf.org/meeting/94/materials/agenda-94-homenet
DESCRIPTION:Morning Session I\n
 \n
 Agenda https://datatracker.ietf.org/meeting/94/materials/agenda-94-homenet\n
 \n
 Session materials: https://datatracker.ietf.org/meeting/94/session/homenet\n
 \n
 See in schedule: https://datatracker.ietf.org/meeting/94/agenda#row-94-2015-11-03-tue-0900-int-homenet\n
END:VEVENT
BEGIN:VEVENT
UID:ietf-94-6745-6man
SUMMARY:6man - IPv6 Maintenance
LOCATION:Room 501
STATUS:CONFIRMED
CLASS:PUBLIC
DTSTART;TZID=Asia/Tokyo:20151104T090000
DTEND;TZID=Asia/Tokyo:20151104T113000
DTSTAMP:20161222T095703Z
URL:https://datatracker.ietf.org/meeting/94/materials/agenda-94-6man
DESCRIPTION:Morning Session I\n
 \n
 Agenda https://datatracker.ietf.org/meeting/94/materials/agenda-94-6man\n
 \n
 Session materials: https://datatracker.ietf.org/meeting/94/session/6man\n
 \n
 See in schedule: https://datatracker.ietf.org/meeting/94/agenda#row-94-2015-11-04-wed-0900-int-6man\n
END:VEVENT
BEGIN:VEVENT
UID:ietf-94-6829-6lo
SUMMARY:6lo - IPv6 over Networks of Resource-constrained Nodes
LOCATION:Room 501
STATUS:CONFIRMED
CLASS:PUBLIC
DTSTART;TZID=Asia/Tokyo:20151105T090000
DTEND;TZID=Asia/Tokyo:20151105T113000
DTSTAMP:20161222T095703Z
URL:https://datatracker.ietf.org/meeting/94/materials/agenda-94-6lo
DESCRIPTION:Morning Session I\n
 \n
 Agenda https://datatracker.ietf.org/meeting/94/materials/agenda-94-6lo\n
 \n
 Session materials: https://datatracker.ietf.org/meeting/94/session/6lo\n
 \n
 See in schedule: https://datatracker.ietf.org/meeting/94/agenda#row-94-2015-11-05-thu-0900-int-6lo\n
END:VEVENT
BEGIN:VEVENT
UID:ietf-94-6775-softwire
SUMMARY:softwire - Softwires
LOCATION:Room 303
STATUS:CONFIRMED
CLASS:PUBLIC
DTSTART;TZID=Asia/Tokyo:20151105T130000
DTEND;TZID=Asia/Tokyo:20151105T150000
DTSTAMP:20161222T095703Z
URL:https://datatracker.ietf.org/meeting/94/materials/agenda-94-softwire
DESCRIPTION:Afternoon Session I\n
 \n
 Agenda https://datatracker.ietf.org/meeting/94/materials/agenda-94-softwire\n
 \n
 Session materials: https://datatracker.ietf.org/meeting/94/session/softwire\n
 \n
 See in schedule: https://datatracker.ietf.org/meeting/94/agenda#row-94-2015-11-05-thu-1300-int-softwire\n
END:VEVENT
BEGIN:VEVENT
UID:ietf-94-6783-6tisch
SUMMARY:6tisch - IPv6 over the TSCH mode of IEEE 802.15.4e
LOCATION:Room 303
STATUS:CONFIRMED
CLASS:PUBLIC
DTSTART;TZID=Asia/Tokyo:20151105T152000
DTEND;TZID=Asia/Tokyo:20151105T172000
DTSTAMP:20161222T095703Z
URL:https://datatracker.ietf.org/meeting/94/materials/agenda-94-6tisch
DESCRIPTION:Afternoon Session II\n
 \n
 Agenda https://datatracker.ietf.org/meeting/94/materials/agenda-94-6tisch\n
 \n
 Session materials: https://datatracker.ietf.org/meeting/94/session/6tisch\n
 \n
 See in schedule: https://datatracker.ietf.org/meeting/94/agenda#row-94-2015-11-05-thu-1520-int-6tisch\n
END:VEVENT
BEGIN:VEVENT
UID:ietf-94-6782-dhc
SUMMARY:dhc - Dynamic Host Configuration
LOCATION:Room 302
STATUS:CONFIRMED
CLASS:PUBLIC
DTSTART;TZID=Asia/Tokyo:20151105T152000
DTEND;TZID=Asia/Tokyo:20151105T172000
DTSTAMP:20161222T095703Z
URL:https://datatracker.ietf.org/meeting/94/materials/agenda-94-dhc
DESCRIPTION:Afternoon Session II\n
 \n
 Agenda https://datatracker.ietf.org/meeting/94/materials/agenda-94-dhc\n
 \n
 Session materials: https://datatracker.ietf.org/meeting/94/session/dhc\n
 \n
 See in schedule: https://datatracker.ietf.org/meeting/94/agenda#row-94-2015-11-05-thu-1520-int-dhc\n
END:VEVENT
BEGIN:VEVENT
UID:ietf-94-6792-intarea
SUMMARY:intarea - Internet Area Working Group
LOCATION:Room 304
STATUS:CONFIRMED
CLASS:PUBLIC
DTSTART;TZID=Asia/Tokyo:20151105T174000
DTEND;TZID=Asia/Tokyo:20151105T184000
DTSTAMP:20161222T095703Z
URL:https://datatracker.ietf.org/meeting/94/materials/agenda-94-intarea
DESCRIPTION:Afternoon Session III\n
 \n
 Agenda https://datatracker.ietf.org/meeting/94/materials/agenda-94-intarea\n
 \n
 Session materials: https://datatracker.ietf.org/meeting/94/session/intarea\n
 \n
 See in schedule: https://datatracker.ietf.org/meeting/94/agenda#row-94-2015-11-05-thu-1740-int-intarea\n
END:VEVENT
BEGIN:VEVENT
UID:ietf-94-6796-mif
SUMMARY:mif - Multiple Interfaces
LOCATION:Rooms 411/412
STATUS:CONFIRMED
CLASS:PUBLIC
DTSTART;TZID=Asia/Tokyo:20151106T090000
DTEND;TZID=Asia/Tokyo:20151106T113000
DTSTAMP:20161222T095703Z
URL:https://datatracker.ietf.org/meeting/94/materials/agenda-94-mif
DESCRIPTION:Morning Session I\n
 \n
 Agenda https://datatracker.ietf.org/meeting/94/materials/agenda-94-mif\n
 \n
 Session materials: https://datatracker.ietf.org/meeting/94/session/mif\n
 \n
 See in schedule: https://datatracker.ietf.org/meeting/94/agenda#row-94-2015-11-06-fri-0900-int-mif\n
END:VEVENT
END:VCALENDAR
