BEGIN:VCALENDAR
VERSION:2.0
METHOD:PUBLISH
PRODID:-//IETF//datatracker.ietf.org ical agenda//EN
BEGIN:VTIMEZONE
TZID:Asia/Tokyo
X-LIC-LOCATION:Asia/Tokyo
BEGIN:STANDARD
TZOFFSETFROM:+091859
TZOFFSETTO:+0900
TZNAME:JST
DTSTART:18880101T001859
RDATE:18880101T001859
END:STANDARD
BEGIN:STANDARD
TZOFFSETFROM:+0900
TZOFFSETTO:+0900
TZNAME:JCST
DTSTART:18960101T000000
RDATE:18960101T000000
END:STANDARD
BEGIN:STANDARD
TZOFFSETFROM:+0900
TZOFFSETTO:+0900
TZNAME:JST
DTSTART:19371001T000000
RDATE:19371001T000000
END:STANDARD
BEGIN:DAYLIGHT
TZOFFSETFROM:+0900
TZOFFSETTO:+1000
TZNAME:JDT
DTSTART:19480502T020000
RDATE:19480502T020000
RDATE:19490403T020000
RDATE:19500507T020000
RDATE:19510506T020000
END:DAYLIGHT
BEGIN:STANDARD
TZOFFSETFROM:+1000
TZOFFSETTO:+0900
TZNAME:JST
DTSTART:19480911T020000
RDATE:19480911T020000
RDATE:19490910T020000
RDATE:19500909T020000
RDATE:19510908T020000
END:STANDARD
END:VTIMEZONE
BEGIN:VEVENT
UID:ietf-94-6679-hopsrg
SUMMARY:hopsrg - Proposed How Ossified is the Protocol Stack? Research Group
LOCATION:Room 303
STATUS:CONFIRMED
CLASS:PUBLIC
DTSTART;TZID=Asia/Tokyo:20151102T090000
DTEND;TZID=Asia/Tokyo:20151102T113000
DTSTAMP:20161222T095703Z
URL:https://datatracker.ietf.org/meeting/94/materials/agenda-94-hopsrg
DESCRIPTION:Morning Session I\n
 \n
 Agenda https://datatracker.ietf.org/meeting/94/materials/agenda-94-hopsrg\n
 \n
 Session materials: https://datatracker.ietf.org/meeting/94/session/hopsrg\n
 \n
 See in schedule: https://datatracker.ietf.org/meeting/94/agenda#row-94-2015-11-02-mon-0900-irtf-hopsrg\n
END:VEVENT
BEGIN:VEVENT
UID:ietf-94-6682-sdnrg
SUMMARY:sdnrg - Software Defined Networking
LOCATION:Room 502
STATUS:CONFIRMED
CLASS:PUBLIC
DTSTART;TZID=Asia/Tokyo:20151102T090000
DTEND;TZID=Asia/Tokyo:20151102T113000
DTSTAMP:20161222T095703Z
URL:https://datatracker.ietf.org/meeting/94/materials/agenda-94-sdnrg
DESCRIPTION:Morning Session I\n
 \n
 Agenda https://datatracker.ietf.org/meeting/94/materials/agenda-94-sdnrg\n
 \n
 Session materials: https://datatracker.ietf.org/meeting/94/session/sdnrg\n
 \n
 See in schedule: https://datatracker.ietf.org/meeting/94/agenda#row-94-2015-11-02-mon-0900-irtf-sdnrg\n
END:VEVENT
BEGIN:VEVENT
UID:ietf-94-6695-cfrg
SUMMARY:cfrg - Crypto Forum
LOCATION:Room 303
STATUS:CONFIRMED
CLASS:PUBLIC
DTSTART;TZID=Asia/Tokyo:20151102T152000
DTEND;TZID=Asia/Tokyo:20151102T165000
DTSTAMP:20161222T095703Z
URL:https://datatracker.ietf.org/meeting/94/materials/agenda-94-cfrg
DESCRIPTION:Afternoon Session II\n
 \n
 Agenda https://datatracker.ietf.org/meeting/94/materials/agenda-94-cfrg\n
 \n
 Session materials: https://datatracker.ietf.org/meeting/94/session/cfrg\n
 \n
 See in schedule: https://datatracker.ietf.org/meeting/94/agenda#row-94-2015-11-02-mon-1520-irtf-cfrg\n
END:VEVENT
BEGIN:VEVENT
UID:ietf-94-6699-nmrg
SUMMARY:nmrg - Network Management
LOCATION:Room 413
STATUS:CONFIRMED
CLASS:PUBLIC
DTSTART;TZID=Asia/Tokyo:20151102T171000
DTEND;TZID=Asia/Tokyo:20151102T191000
DTSTAMP:20161222T095703Z
URL:https://datatracker.ietf.org/meeting/94/materials/agenda-94-nmrg
DESCRIPTION:Afternoon Session III\n
 \n
 Agenda https://datatracker.ietf.org/meeting/94/materials/agenda-94-nmrg\n
 \n
 Session materials: https://datatracker.ietf.org/meeting/94/session/nmrg\n
 \n
 See in schedule: https://datatracker.ietf.org/meeting/94/agenda#row-94-2015-11-02-mon-1710-irtf-nmrg\n
END:VEVENT
BEGIN:VEVENT
UID:ietf-94-6817-nmlrg
SUMMARY:nmlrg - Proposed Network Machine Learning Research Group
LOCATION:Room 304
STATUS:CONFIRMED
CLASS:PUBLIC
DTSTART;TZID=Asia/Tokyo:20151103T090000
DTEND;TZID=Asia/Tokyo:20151103T113000
DTSTAMP:20161222T095703Z
URL:https://datatracker.ietf.org/meeting/94/materials/agenda-94-nmlrg
DESCRIPTION:Morning Session I\n
 \n
 Agenda https://datatracker.ietf.org/meeting/94/materials/agenda-94-nmlrg\n
 \n
 Session materials: https://datatracker.ietf.org/meeting/94/session/nmlrg\n
 \n
 See in schedule: https://datatracker.ietf.org/meeting/94/agenda#row-94-2015-11-03-tue-0900-irtf-nmlrg\n
END:VEVENT
BEGIN:VEVENT
UID:ietf-94-6726-hrpc
SUMMARY:hrpc - Proposed Human Rights Protocol Considerations Research Group
LOCATION:Room 302
STATUS:CONFIRMED
CLASS:PUBLIC
DTSTART;TZID=Asia/Tokyo:20151103T152000
DTEND;TZID=Asia/Tokyo:20151103T165000
DTSTAMP:20161222T095703Z
URL:https://datatracker.ietf.org/meeting/94/materials/agenda-94-hrpc
DESCRIPTION:Afternoon Session II\n
 \n
 Agenda https://datatracker.ietf.org/meeting/94/materials/agenda-94-hrpc\n
 \n
 Session materials: https://datatracker.ietf.org/meeting/94/session/hrpc\n
 \n
 See in schedule: https://datatracker.ietf.org/meeting/94/agenda#row-94-2015-11-03-tue-1520-irtf-hrpc\n
END:VEVENT
BEGIN:VEVENT
UID:ietf-94-6738-irtfopen
SUMMARY:irtfopen - IRTF Open Meeting
LOCATION:Room 502
STATUS:CONFIRMED
CLASS:PUBLIC
DTSTART;TZID=Asia/Tokyo:20151103T171000
DTEND;TZID=Asia/Tokyo:20151103T184000
DTSTAMP:20161222T095703Z
URL:https://datatracker.ietf.org/meeting/94/materials/agenda-94-irtfopen
DESCRIPTION:Afternoon Session III\n
 \n
 Agenda https://datatracker.ietf.org/meeting/94/materials/agenda-94-irtfopen\n
 \n
 Session materials: https://datatracker.ietf.org/meeting/94/session/irtfopen\n
 \n
 See in schedule: https://datatracker.ietf.org/meeting/94/agenda#row-94-2015-11-03-tue-1710-irtf-irtfopen\n
END:VEVENT
BEGIN:VEVENT
UID:ietf-94-6746-nfvrg
SUMMARY:nfvrg - Network Function Virtualization
LOCATION:Room 502
STATUS:CONFIRMED
CLASS:PUBLIC
DTSTART;TZID=Asia/Tokyo:20151104T090000
DTEND;TZID=Asia/Tokyo:20151104T113000
DTSTAMP:20161222T095703Z
URL:https://datatracker.ietf.org/meeting/94/materials/agenda-94-nfvrg
DESCRIPTION:Morning Session I\n
 \n
 Agenda https://datatracker.ietf.org/meeting/94/materials/agenda-94-nfvrg\n
 \n
 Session materials: https://datatracker.ietf.org/meeting/94/session/nfvrg\n
 \n
 See in schedule: https://datatracker.ietf.org/meeting/94/agenda#row-94-2015-11-04-wed-0900-irtf-nfvrg\n
END:VEVENT
BEGIN:VEVENT
UID:ietf-94-6742-t2trg
SUMMARY:t2trg - Proposed Thing-to-Thing Research Group (1030 - 1130)
LOCATION:Room 302
STATUS:CONFIRMED
CLASS:PUBLIC
DTSTART;TZID=Asia/Tokyo:20151104T090000
DTEND;TZID=Asia/Tokyo:20151104T113000
DTSTAMP:20161222T095703Z
URL:https://datatracker.ietf.org/meeting/94/materials/agenda-94-t2trg
DESCRIPTION:Morning Session I\n
 Note: 1030 - 1130\n
 \n
 Agenda https://datatracker.ietf.org/meeting/94/materials/agenda-94-t2trg\n
 \n
 Session materials: https://datatracker.ietf.org/meeting/94/session/t2trg\n
 \n
 See in schedule: https://datatracker.ietf.org/meeting/94/agenda#row-94-2015-11-04-wed-0900-irtf-t2trg\n
END:VEVENT
BEGIN:VEVENT
UID:ietf-94-6826-icnrg
SUMMARY:icnrg - Information-Centric Networking
LOCATION:Room 302
STATUS:CONFIRMED
CLASS:PUBLIC
DTSTART;TZID=Asia/Tokyo:20151105T090000
DTEND;TZID=Asia/Tokyo:20151105T113000
DTSTAMP:20161222T095703Z
URL:https://datatracker.ietf.org/meeting/94/materials/agenda-94-icnrg
DESCRIPTION:Morning Session I\n
 \n
 Agenda https://datatracker.ietf.org/meeting/94/materials/agenda-94-icnrg\n
 \n
 Session materials: https://datatracker.ietf.org/meeting/94/session/icnrg\n
 \n
 See in schedule: https://datatracker.ietf.org/meeting/94/agenda#row-94-2015-11-05-thu-0900-irtf-icnrg\n
END:VEVENT
END:VCALENDAR
