BEGIN:VCALENDAR
VERSION:2.0
METHOD:PUBLISH
PRODID:-//IETF//datatracker.ietf.org ical agenda//EN
BEGIN:VTIMEZONE
TZID:Asia/Tokyo
X-LIC-LOCATION:Asia/Tokyo
BEGIN:STANDARD
TZOFFSETFROM:+091859
TZOFFSETTO:+0900
TZNAME:JST
DTSTART:18880101T001859
RDATE:18880101T001859
END:STANDARD
BEGIN:STANDARD
TZOFFSETFROM:+0900
TZOFFSETTO:+0900
TZNAME:JCST
DTSTART:18960101T000000
RDATE:18960101T000000
END:STANDARD
BEGIN:STANDARD
TZOFFSETFROM:+0900
TZOFFSETTO:+0900
TZNAME:JST
DTSTART:19371001T000000
RDATE:19371001T000000
END:STANDARD
BEGIN:DAYLIGHT
TZOFFSETFROM:+0900
TZOFFSETTO:+1000
TZNAME:JDT
DTSTART:19480502T020000
RDATE:19480502T020000
RDATE:19490403T020000
RDATE:19500507T020000
RDATE:19510506T020000
END:DAYLIGHT
BEGIN:STANDARD
TZOFFSETFROM:+1000
TZOFFSETTO:+0900
TZNAME:JST
DTSTART:19480911T020000
RDATE:19480911T020000
RDATE:19490910T020000
RDATE:19500909T020000
RDATE:19510908T020000
END:STANDARD
END:VTIMEZONE
BEGIN:VEVENT
UID:ietf-94-6681-v6ops
SUMMARY:v6ops - IPv6 Operations
LOCATION:Room 501
STATUS:CONFIRMED
CLASS:PUBLIC
DTSTART;TZID=Asia/Tokyo:20151102T090000
DTEND;TZID=Asia/Tokyo:20151102T113000
DTSTAMP:20161222T095703Z
URL:https://datatracker.ietf.org/meeting/94/materials/agenda-94-v6ops
DESCRIPTION:Morning Session I\n
 \n
 Agenda https://datatracker.ietf.org/meeting/94/materials/agenda-94-v6ops\n
 \n
 Session materials: https://datatracker.ietf.org/meeting/94/session/v6ops\n
 \n
 See in schedule: https://datatracker.ietf.org/meeting/94/agenda#row-94-2015-11-02-mon-0900-ops-v6ops\n
END:VEVENT
BEGIN:VEVENT
UID:ietf-94-6688-anima
SUMMARY:anima - Autonomic Networking Integrated Model and Approach
LOCATION:Room 304
STATUS:CONFIRMED
CLASS:PUBLIC
DTSTART;TZID=Asia/Tokyo:20151102T130000
DTEND;TZID=Asia/Tokyo:20151102T150000
DTSTAMP:20161222T095703Z
URL:https://datatracker.ietf.org/meeting/94/materials/agenda-94-anima
DESCRIPTION:Afternoon Session I\n
 \n
 Agenda https://datatracker.ietf.org/meeting/94/materials/agenda-94-anima\n
 \n
 Session materials: https://datatracker.ietf.org/meeting/94/session/anima\n
 \n
 See in schedule: https://datatracker.ietf.org/meeting/94/agenda#row-94-2015-11-02-mon-1300-ops-anima\n
END:VEVENT
BEGIN:VEVENT
UID:ietf-94-6691-grow
SUMMARY:grow - Global Routing Operations (Moved from Friday 0900)
LOCATION:Room 413
STATUS:CONFIRMED
CLASS:PUBLIC
DTSTART;TZID=Asia/Tokyo:20151102T152000
DTEND;TZID=Asia/Tokyo:20151102T165000
DTSTAMP:20161222T095703Z
URL:https://datatracker.ietf.org/meeting/94/materials/agenda-94-grow
DESCRIPTION:Afternoon Session II\n
 Note: Moved from Friday 0900\n
 \n
 Agenda https://datatracker.ietf.org/meeting/94/materials/agenda-94-grow\n
 \n
 Session materials: https://datatracker.ietf.org/meeting/94/session/grow\n
 \n
 See in schedule: https://datatracker.ietf.org/meeting/94/agenda#row-94-2015-11-02-mon-1520-ops-grow\n
END:VEVENT
BEGIN:VEVENT
UID:ietf-94-6693-lime
SUMMARY:lime - Layer Independent OAM Management in the Multi-Layer Environment
LOCATION:Room 301
STATUS:CONFIRMED
CLASS:PUBLIC
DTSTART;TZID=Asia/Tokyo:20151102T152000
DTEND;TZID=Asia/Tokyo:20151102T165000
DTSTAMP:20161222T095703Z
URL:https://datatracker.ietf.org/meeting/94/materials/agenda-94-lime
DESCRIPTION:Afternoon Session II\n
 \n
 Agenda https://datatracker.ietf.org/meeting/94/materials/agenda-94-lime\n
 \n
 Session materials: https://datatracker.ietf.org/meeting/94/session/lime\n
 \n
 See in schedule: https://datatracker.ietf.org/meeting/94/agenda#row-94-2015-11-02-mon-1520-ops-lime\n
END:VEVENT
BEGIN:VEVENT
UID:ietf-94-6703-lmap
SUMMARY:lmap - Large-Scale Measurement of Broadband Performance
LOCATION:Room 303
STATUS:CONFIRMED
CLASS:PUBLIC
DTSTART;TZID=Asia/Tokyo:20151102T171000
DTEND;TZID=Asia/Tokyo:20151102T191000
DTSTAMP:20161222T095703Z
URL:https://datatracker.ietf.org/meeting/94/materials/agenda-94-lmap
DESCRIPTION:Afternoon Session III\n
 \n
 Agenda https://datatracker.ietf.org/meeting/94/materials/agenda-94-lmap\n
 \n
 Session materials: https://datatracker.ietf.org/meeting/94/session/lmap\n
 \n
 See in schedule: https://datatracker.ietf.org/meeting/94/agenda#row-94-2015-11-02-mon-1710-ops-lmap\n
END:VEVENT
BEGIN:VEVENT
UID:ietf-94-6706-v6ops
SUMMARY:v6ops - IPv6 Operations
LOCATION:Room 502
STATUS:CONFIRMED
CLASS:PUBLIC
DTSTART;TZID=Asia/Tokyo:20151102T171000
DTEND;TZID=Asia/Tokyo:20151102T191000
DTSTAMP:20161222T095703Z
URL:https://datatracker.ietf.org/meeting/94/materials/agenda-94-v6ops
DESCRIPTION:Afternoon Session III\n
 \n
 Agenda https://datatracker.ietf.org/meeting/94/materials/agenda-94-v6ops\n
 \n
 Session materials: https://datatracker.ietf.org/meeting/94/session/v6ops\n
 \n
 See in schedule: https://datatracker.ietf.org/meeting/94/agenda#row-94-2015-11-02-mon-1710-ops-v6ops\n
END:VEVENT
BEGIN:VEVENT
UID:ietf-94-6812-bmwg
SUMMARY:bmwg - Benchmarking Methodology
LOCATION:Room 413
STATUS:CONFIRMED
CLASS:PUBLIC
DTSTART;TZID=Asia/Tokyo:20151103T090000
DTEND;TZID=Asia/Tokyo:20151103T113000
DTSTAMP:20161222T095703Z
URL:https://datatracker.ietf.org/meeting/94/materials/agenda-94-bmwg
DESCRIPTION:Morning Session I\n
 \n
 Agenda https://datatracker.ietf.org/meeting/94/materials/agenda-94-bmwg\n
 \n
 Session materials: https://datatracker.ietf.org/meeting/94/session/bmwg\n
 \n
 See in schedule: https://datatracker.ietf.org/meeting/94/agenda#row-94-2015-11-03-tue-0900-ops-bmwg\n
END:VEVENT
BEGIN:VEVENT
UID:ietf-94-6715-dime
SUMMARY:dime - Diameter Maintenance and Extensions (1300 - 1400)
LOCATION:Room 413
STATUS:CONFIRMED
CLASS:PUBLIC
DTSTART;TZID=Asia/Tokyo:20151103T130000
DTEND;TZID=Asia/Tokyo:20151103T150000
DTSTAMP:20161222T095703Z
URL:https://datatracker.ietf.org/meeting/94/materials/agenda-94-dime
DESCRIPTION:Afternoon Session I\n
 Note: 1300 - 1400\n
 \n
 Agenda https://datatracker.ietf.org/meeting/94/materials/agenda-94-dime\n
 \n
 Session materials: https://datatracker.ietf.org/meeting/94/session/dime\n
 \n
 See in schedule: https://datatracker.ietf.org/meeting/94/agenda#row-94-2015-11-03-tue-1300-ops-dime\n
END:VEVENT
BEGIN:VEVENT
UID:ietf-94-6715-radext
SUMMARY:radext - RADIUS EXTensions (1400 - 1500)
LOCATION:Room 413
STATUS:CONFIRMED
CLASS:PUBLIC
DTSTART;TZID=Asia/Tokyo:20151103T130000
DTEND;TZID=Asia/Tokyo:20151103T150000
DTSTAMP:20161222T095703Z
URL:https://datatracker.ietf.org/meeting/94/materials/agenda-94-radext
DESCRIPTION:Afternoon Session I\n
 Note: 1400 - 1500\n
 \n
 Agenda https://datatracker.ietf.org/meeting/94/materials/agenda-94-radext\n
 \n
 Session materials: https://datatracker.ietf.org/meeting/94/session/radext\n
 \n
 See in schedule: https://datatracker.ietf.org/meeting/94/agenda#row-94-2015-11-03-tue-1300-ops-radext\n
END:VEVENT
BEGIN:VEVENT
UID:ietf-94-6719-supa
SUMMARY:supa - Simplified Use of Policy Abstractions
LOCATION:Room 303
STATUS:CONFIRMED
CLASS:PUBLIC
DTSTART;TZID=Asia/Tokyo:20151103T130000
DTEND;TZID=Asia/Tokyo:20151103T150000
DTSTAMP:20161222T095703Z
URL:https://datatracker.ietf.org/meeting/94/materials/agenda-94-supa
DESCRIPTION:Afternoon Session I\n
 \n
 Agenda https://datatracker.ietf.org/meeting/94/materials/agenda-94-supa\n
 \n
 Session materials: https://datatracker.ietf.org/meeting/94/session/supa\n
 \n
 See in schedule: https://datatracker.ietf.org/meeting/94/agenda#row-94-2015-11-03-tue-1300-ops-supa\n
END:VEVENT
BEGIN:VEVENT
UID:ietf-94-6727-anima
SUMMARY:anima - Autonomic Networking Integrated Model and Approach
LOCATION:Room 303
STATUS:CONFIRMED
CLASS:PUBLIC
DTSTART;TZID=Asia/Tokyo:20151103T152000
DTEND;TZID=Asia/Tokyo:20151103T165000
DTSTAMP:20161222T095703Z
URL:https://datatracker.ietf.org/meeting/94/materials/agenda-94-anima
DESCRIPTION:Afternoon Session II\n
 \n
 Agenda https://datatracker.ietf.org/meeting/94/materials/agenda-94-anima\n
 \n
 Session materials: https://datatracker.ietf.org/meeting/94/session/anima\n
 \n
 See in schedule: https://datatracker.ietf.org/meeting/94/agenda#row-94-2015-11-03-tue-1520-ops-anima\n
END:VEVENT
BEGIN:VEVENT
UID:ietf-94-6741-netmod
SUMMARY:netmod - NETCONF Data Modeling Language
LOCATION:Room 301
STATUS:CONFIRMED
CLASS:PUBLIC
DTSTART;TZID=Asia/Tokyo:20151104T090000
DTEND;TZID=Asia/Tokyo:20151104T113000
DTSTAMP:20161222T095703Z
URL:https://datatracker.ietf.org/meeting/94/materials/agenda-94-netmod
DESCRIPTION:Morning Session I\n
 \n
 Agenda https://datatracker.ietf.org/meeting/94/materials/agenda-94-netmod\n
 \n
 Session materials: https://datatracker.ietf.org/meeting/94/session/netmod\n
 \n
 See in schedule: https://datatracker.ietf.org/meeting/94/agenda#row-94-2015-11-04-wed-0900-ops-netmod\n
END:VEVENT
BEGIN:VEVENT
UID:ietf-94-6748-netmod
SUMMARY:netmod - NETCONF Data Modeling Language
LOCATION:Rooms 411/412
STATUS:CONFIRMED
CLASS:PUBLIC
DTSTART;TZID=Asia/Tokyo:20151104T130000
DTEND;TZID=Asia/Tokyo:20151104T150000
DTSTAMP:20161222T095703Z
URL:https://datatracker.ietf.org/meeting/94/materials/agenda-94-netmod
DESCRIPTION:Afternoon Session I\n
 \n
 Agenda https://datatracker.ietf.org/meeting/94/materials/agenda-94-netmod\n
 \n
 Session materials: https://datatracker.ietf.org/meeting/94/session/netmod\n
 \n
 See in schedule: https://datatracker.ietf.org/meeting/94/agenda#row-94-2015-11-04-wed-1300-ops-netmod\n
END:VEVENT
BEGIN:VEVENT
UID:ietf-94-6828-dnsop
SUMMARY:dnsop - Domain Name System Operations
LOCATION:Room 304
STATUS:CONFIRMED
CLASS:PUBLIC
DTSTART;TZID=Asia/Tokyo:20151105T090000
DTEND;TZID=Asia/Tokyo:20151105T113000
DTSTAMP:20161222T095703Z
URL:https://datatracker.ietf.org/meeting/94/materials/agenda-94-dnsop
DESCRIPTION:Morning Session I\n
 \n
 Agenda https://datatracker.ietf.org/meeting/94/materials/agenda-94-dnsop\n
 \n
 Session materials: https://datatracker.ietf.org/meeting/94/session/dnsop\n
 \n
 See in schedule: https://datatracker.ietf.org/meeting/94/agenda#row-94-2015-11-05-thu-0900-ops-dnsop\n
END:VEVENT
BEGIN:VEVENT
UID:ietf-94-6777-netconf
SUMMARY:netconf - Network Configuration
LOCATION:Room 501
STATUS:CONFIRMED
CLASS:PUBLIC
DTSTART;TZID=Asia/Tokyo:20151105T130000
DTEND;TZID=Asia/Tokyo:20151105T150000
DTSTAMP:20161222T095703Z
URL:https://datatracker.ietf.org/meeting/94/materials/agenda-94-netconf
DESCRIPTION:Afternoon Session I\n
 \n
 Agenda https://datatracker.ietf.org/meeting/94/materials/agenda-94-netconf\n
 \n
 Session materials: https://datatracker.ietf.org/meeting/94/session/netconf\n
 \n
 See in schedule: https://datatracker.ietf.org/meeting/94/agenda#row-94-2015-11-05-thu-1300-ops-netconf\n
END:VEVENT
BEGIN:VEVENT
UID:ietf-94-6785-opsarea
SUMMARY:opsarea - Operations & Management Area Open Meeting (Combined with OPSAWG)
LOCATION:Room 501
STATUS:CONFIRMED
CLASS:PUBLIC
DTSTART;TZID=Asia/Tokyo:20151105T152000
DTEND;TZID=Asia/Tokyo:20151105T172000
DTSTAMP:20161222T095703Z
URL:https://datatracker.ietf.org/meeting/94/materials/agenda-94-opsarea
DESCRIPTION:Afternoon Session II\n
 Note: Combined with OPSAWG\n
 \n
 Agenda https://datatracker.ietf.org/meeting/94/materials/agenda-94-opsarea\n
 \n
 Session materials: https://datatracker.ietf.org/meeting/94/session/opsarea\n
 \n
 See in schedule: https://datatracker.ietf.org/meeting/94/agenda#row-94-2015-11-05-thu-1520-ops-opsarea\n
END:VEVENT
BEGIN:VEVENT
UID:ietf-94-6788-mboned
SUMMARY:mboned - MBONE Deployment
LOCATION:Rooms 411/412
STATUS:CONFIRMED
CLASS:PUBLIC
DTSTART;TZID=Asia/Tokyo:20151105T174000
DTEND;TZID=Asia/Tokyo:20151105T184000
DTSTAMP:20161222T095703Z
URL:https://datatracker.ietf.org/meeting/94/materials/agenda-94-mboned
DESCRIPTION:Afternoon Session III\n
 \n
 Agenda https://datatracker.ietf.org/meeting/94/materials/agenda-94-mboned\n
 \n
 Session materials: https://datatracker.ietf.org/meeting/94/session/mboned\n
 \n
 See in schedule: https://datatracker.ietf.org/meeting/94/agenda#row-94-2015-11-05-thu-1740-ops-mboned\n
END:VEVENT
BEGIN:VEVENT
UID:ietf-94-6797-l3sm
SUMMARY:l3sm - L3VPN Service Model  (0900 - 1030)
LOCATION:Room 301
STATUS:CONFIRMED
CLASS:PUBLIC
DTSTART;TZID=Asia/Tokyo:20151106T090000
DTEND;TZID=Asia/Tokyo:20151106T113000
DTSTAMP:20161222T095703Z
URL:https://datatracker.ietf.org/meeting/94/materials/agenda-94-l3sm
DESCRIPTION:Morning Session I\n
 Note: 0900 - 1030\n
 \n
 Agenda https://datatracker.ietf.org/meeting/94/materials/agenda-94-l3sm\n
 \n
 Session materials: https://datatracker.ietf.org/meeting/94/session/l3sm\n
 \n
 See in schedule: https://datatracker.ietf.org/meeting/94/agenda#row-94-2015-11-06-fri-0900-ops-l3sm\n
END:VEVENT
BEGIN:VEVENT
UID:ietf-94-6797-opsec
SUMMARY:opsec - Operational Security Capabilities for IP Network Infrastructure (CANCELLED)
LOCATION:Room 301
STATUS:CONFIRMED
CLASS:PUBLIC
DTSTART;TZID=Asia/Tokyo:20151106T090000
DTEND;TZID=Asia/Tokyo:20151106T113000
DTSTAMP:20161222T095703Z
DESCRIPTION:Morning Session I\n
 Note: CANCELLED\n
 \n
 Session materials: https://datatracker.ietf.org/meeting/94/session/opsec\n
 \n
 See in schedule: https://datatracker.ietf.org/meeting/94/agenda#row-94-2015-11-06-fri-0900-ops-opsec\n
END:VEVENT
END:VCALENDAR
