BEGIN:VCALENDAR
VERSION:2.0
METHOD:PUBLISH
PRODID:-//IETF//datatracker.ietf.org ical agenda//EN
BEGIN:VTIMEZONE
TZID:Asia/Tokyo
X-LIC-LOCATION:Asia/Tokyo
BEGIN:STANDARD
TZOFFSETFROM:+091859
TZOFFSETTO:+0900
TZNAME:JST
DTSTART:18880101T001859
RDATE:18880101T001859
END:STANDARD
BEGIN:STANDARD
TZOFFSETFROM:+0900
TZOFFSETTO:+0900
TZNAME:JCST
DTSTART:18960101T000000
RDATE:18960101T000000
END:STANDARD
BEGIN:STANDARD
TZOFFSETFROM:+0900
TZOFFSETTO:+0900
TZNAME:JST
DTSTART:19371001T000000
RDATE:19371001T000000
END:STANDARD
BEGIN:DAYLIGHT
TZOFFSETFROM:+0900
TZOFFSETTO:+1000
TZNAME:JDT
DTSTART:19480502T020000
RDATE:19480502T020000
RDATE:19490403T020000
RDATE:19500507T020000
RDATE:19510506T020000
END:DAYLIGHT
BEGIN:STANDARD
TZOFFSETFROM:+1000
TZOFFSETTO:+0900
TZNAME:JST
DTSTART:19480911T020000
RDATE:19480911T020000
RDATE:19490910T020000
RDATE:19500909T020000
RDATE:19510908T020000
END:STANDARD
END:VTIMEZONE
BEGIN:VEVENT
UID:ietf-94-6677-detnet
SUMMARY:detnet - Deterministic Networking
LOCATION:Room 301
STATUS:CONFIRMED
CLASS:PUBLIC
DTSTART;TZID=Asia/Tokyo:20151102T090000
DTEND;TZID=Asia/Tokyo:20151102T113000
DTSTAMP:20161222T095703Z
URL:https://datatracker.ietf.org/meeting/94/materials/agenda-94-detnet
DESCRIPTION:Morning Session I\n
 \n
 Agenda https://datatracker.ietf.org/meeting/94/materials/agenda-94-detnet\n
 \n
 Session materials: https://datatracker.ietf.org/meeting/94/session/detnet\n
 \n
 See in schedule: https://datatracker.ietf.org/meeting/94/agenda#row-94-2015-11-02-mon-0900-rtg-detnet\n
END:VEVENT
BEGIN:VEVENT
UID:ietf-94-6676-i2rs
SUMMARY:i2rs - Interface to the Routing System
LOCATION:Rooms 411/412
STATUS:CONFIRMED
CLASS:PUBLIC
DTSTART;TZID=Asia/Tokyo:20151102T090000
DTEND;TZID=Asia/Tokyo:20151102T113000
DTSTAMP:20161222T095703Z
URL:https://datatracker.ietf.org/meeting/94/materials/agenda-94-i2rs
DESCRIPTION:Morning Session I\n
 \n
 Agenda https://datatracker.ietf.org/meeting/94/materials/agenda-94-i2rs\n
 \n
 Session materials: https://datatracker.ietf.org/meeting/94/session/i2rs\n
 \n
 See in schedule: https://datatracker.ietf.org/meeting/94/agenda#row-94-2015-11-02-mon-0900-rtg-i2rs\n
END:VEVENT
BEGIN:VEVENT
UID:ietf-94-6690-idr
SUMMARY:idr - Inter-Domain Routing
LOCATION:Room 502
STATUS:CONFIRMED
CLASS:PUBLIC
DTSTART;TZID=Asia/Tokyo:20151102T130000
DTEND;TZID=Asia/Tokyo:20151102T150000
DTSTAMP:20161222T095703Z
URL:https://datatracker.ietf.org/meeting/94/materials/agenda-94-idr
DESCRIPTION:Afternoon Session I\n
 \n
 Agenda https://datatracker.ietf.org/meeting/94/materials/agenda-94-idr\n
 \n
 Session materials: https://datatracker.ietf.org/meeting/94/session/idr\n
 \n
 See in schedule: https://datatracker.ietf.org/meeting/94/agenda#row-94-2015-11-02-mon-1300-rtg-idr\n
END:VEVENT
BEGIN:VEVENT
UID:ietf-94-6686-pals
SUMMARY:pals - Pseudowire And LDP-enabled Services
LOCATION:Room 302
STATUS:CONFIRMED
CLASS:PUBLIC
DTSTART;TZID=Asia/Tokyo:20151102T130000
DTEND;TZID=Asia/Tokyo:20151102T150000
DTSTAMP:20161222T095703Z
URL:https://datatracker.ietf.org/meeting/94/materials/agenda-94-pals
DESCRIPTION:Afternoon Session I\n
 \n
 Agenda https://datatracker.ietf.org/meeting/94/materials/agenda-94-pals\n
 \n
 Session materials: https://datatracker.ietf.org/meeting/94/session/pals\n
 \n
 See in schedule: https://datatracker.ietf.org/meeting/94/agenda#row-94-2015-11-02-mon-1300-rtg-pals\n
END:VEVENT
BEGIN:VEVENT
UID:ietf-94-6692-ccamp
SUMMARY:ccamp - Common Control and Measurement Plane
LOCATION:Rooms 411/412
STATUS:CONFIRMED
CLASS:PUBLIC
DTSTART;TZID=Asia/Tokyo:20151102T152000
DTEND;TZID=Asia/Tokyo:20151102T165000
DTSTAMP:20161222T095703Z
URL:https://datatracker.ietf.org/meeting/94/materials/agenda-94-ccamp
DESCRIPTION:Afternoon Session II\n
 \n
 Agenda https://datatracker.ietf.org/meeting/94/materials/agenda-94-ccamp\n
 \n
 Session materials: https://datatracker.ietf.org/meeting/94/session/ccamp\n
 \n
 See in schedule: https://datatracker.ietf.org/meeting/94/agenda#row-94-2015-11-02-mon-1520-rtg-ccamp\n
END:VEVENT
BEGIN:VEVENT
UID:ietf-94-6698-rtgwg
SUMMARY:rtgwg - Routing Area Working Group
LOCATION:Room 502
STATUS:CONFIRMED
CLASS:PUBLIC
DTSTART;TZID=Asia/Tokyo:20151102T152000
DTEND;TZID=Asia/Tokyo:20151102T165000
DTSTAMP:20161222T095703Z
URL:https://datatracker.ietf.org/meeting/94/materials/agenda-94-rtgwg
DESCRIPTION:Afternoon Session II\n
 \n
 Agenda https://datatracker.ietf.org/meeting/94/materials/agenda-94-rtgwg\n
 \n
 Session materials: https://datatracker.ietf.org/meeting/94/session/rtgwg\n
 \n
 See in schedule: https://datatracker.ietf.org/meeting/94/agenda#row-94-2015-11-02-mon-1520-rtg-rtgwg\n
END:VEVENT
BEGIN:VEVENT
UID:ietf-94-6705-rtgarea
SUMMARY:rtgarea - Routing Area Open Meeting
LOCATION:Room 501
STATUS:CONFIRMED
CLASS:PUBLIC
DTSTART;TZID=Asia/Tokyo:20151102T171000
DTEND;TZID=Asia/Tokyo:20151102T191000
DTSTAMP:20161222T095703Z
URL:https://datatracker.ietf.org/meeting/94/materials/agenda-94-rtgarea
DESCRIPTION:Afternoon Session III\n
 \n
 Agenda https://datatracker.ietf.org/meeting/94/materials/agenda-94-rtgarea\n
 \n
 Session materials: https://datatracker.ietf.org/meeting/94/session/rtgarea\n
 \n
 See in schedule: https://datatracker.ietf.org/meeting/94/agenda#row-94-2015-11-02-mon-1710-rtg-rtgarea\n
END:VEVENT
BEGIN:VEVENT
UID:ietf-94-6816-bfd
SUMMARY:bfd - Bidirectional Forwarding Detection (1030 - 1130)
LOCATION:Room 303
STATUS:CONFIRMED
CLASS:PUBLIC
DTSTART;TZID=Asia/Tokyo:20151103T090000
DTEND;TZID=Asia/Tokyo:20151103T113000
DTSTAMP:20161222T095703Z
URL:https://datatracker.ietf.org/meeting/94/materials/agenda-94-bfd
DESCRIPTION:Morning Session I\n
 Note: 1030 - 1130\n
 \n
 Agenda https://datatracker.ietf.org/meeting/94/materials/agenda-94-bfd\n
 \n
 Session materials: https://datatracker.ietf.org/meeting/94/session/bfd\n
 \n
 See in schedule: https://datatracker.ietf.org/meeting/94/agenda#row-94-2015-11-03-tue-0900-rtg-bfd\n
END:VEVENT
BEGIN:VEVENT
UID:ietf-94-6816-spring
SUMMARY:spring - Source Packet Routing in Networking (0900 - 1030)
LOCATION:Room 303
STATUS:CONFIRMED
CLASS:PUBLIC
DTSTART;TZID=Asia/Tokyo:20151103T090000
DTEND;TZID=Asia/Tokyo:20151103T113000
DTSTAMP:20161222T095703Z
URL:https://datatracker.ietf.org/meeting/94/materials/agenda-94-spring
DESCRIPTION:Morning Session I\n
 Note: 0900 - 1030\n
 \n
 Agenda https://datatracker.ietf.org/meeting/94/materials/agenda-94-spring\n
 \n
 Session materials: https://datatracker.ietf.org/meeting/94/session/spring\n
 \n
 See in schedule: https://datatracker.ietf.org/meeting/94/agenda#row-94-2015-11-03-tue-0900-rtg-spring\n
END:VEVENT
BEGIN:VEVENT
UID:ietf-94-6722-nvo3
SUMMARY:nvo3 - Network Virtualization Overlays
LOCATION:Room 502
STATUS:CONFIRMED
CLASS:PUBLIC
DTSTART;TZID=Asia/Tokyo:20151103T130000
DTEND;TZID=Asia/Tokyo:20151103T150000
DTSTAMP:20161222T095703Z
URL:https://datatracker.ietf.org/meeting/94/materials/agenda-94-nvo3
DESCRIPTION:Afternoon Session I\n
 \n
 Agenda https://datatracker.ietf.org/meeting/94/materials/agenda-94-nvo3\n
 \n
 Session materials: https://datatracker.ietf.org/meeting/94/session/nvo3\n
 \n
 See in schedule: https://datatracker.ietf.org/meeting/94/agenda#row-94-2015-11-03-tue-1300-rtg-nvo3\n
END:VEVENT
BEGIN:VEVENT
UID:ietf-94-6725-lisp
SUMMARY:lisp - Locator/ID Separation Protocol
LOCATION:Room 301
STATUS:CONFIRMED
CLASS:PUBLIC
DTSTART;TZID=Asia/Tokyo:20151103T152000
DTEND;TZID=Asia/Tokyo:20151103T165000
DTSTAMP:20161222T095703Z
URL:https://datatracker.ietf.org/meeting/94/materials/agenda-94-lisp
DESCRIPTION:Afternoon Session II\n
 \n
 Agenda https://datatracker.ietf.org/meeting/94/materials/agenda-94-lisp\n
 \n
 Session materials: https://datatracker.ietf.org/meeting/94/session/lisp\n
 \n
 See in schedule: https://datatracker.ietf.org/meeting/94/agenda#row-94-2015-11-03-tue-1520-rtg-lisp\n
END:VEVENT
BEGIN:VEVENT
UID:ietf-94-6724-trill
SUMMARY:trill - Transparent Interconnection of Lots of Links
LOCATION:Rooms 411/412
STATUS:CONFIRMED
CLASS:PUBLIC
DTSTART;TZID=Asia/Tokyo:20151103T152000
DTEND;TZID=Asia/Tokyo:20151103T165000
DTSTAMP:20161222T095703Z
URL:https://datatracker.ietf.org/meeting/94/materials/agenda-94-trill
DESCRIPTION:Afternoon Session II\n
 \n
 Agenda https://datatracker.ietf.org/meeting/94/materials/agenda-94-trill\n
 \n
 Session materials: https://datatracker.ietf.org/meeting/94/session/trill\n
 \n
 See in schedule: https://datatracker.ietf.org/meeting/94/agenda#row-94-2015-11-03-tue-1520-rtg-trill\n
END:VEVENT
BEGIN:VEVENT
UID:ietf-94-6737-pce
SUMMARY:pce - Path Computation Element
LOCATION:Room 501
STATUS:CONFIRMED
CLASS:PUBLIC
DTSTART;TZID=Asia/Tokyo:20151103T171000
DTEND;TZID=Asia/Tokyo:20151103T184000
DTSTAMP:20161222T095703Z
URL:https://datatracker.ietf.org/meeting/94/materials/agenda-94-pce
DESCRIPTION:Afternoon Session III\n
 \n
 Agenda https://datatracker.ietf.org/meeting/94/materials/agenda-94-pce\n
 \n
 Session materials: https://datatracker.ietf.org/meeting/94/session/pce\n
 \n
 See in schedule: https://datatracker.ietf.org/meeting/94/agenda#row-94-2015-11-03-tue-1710-rtg-pce\n
END:VEVENT
BEGIN:VEVENT
UID:ietf-94-6736-sidr
SUMMARY:sidr - Secure Inter-Domain Routing
LOCATION:Room 304
STATUS:CONFIRMED
CLASS:PUBLIC
DTSTART;TZID=Asia/Tokyo:20151103T171000
DTEND;TZID=Asia/Tokyo:20151103T184000
DTSTAMP:20161222T095703Z
URL:https://datatracker.ietf.org/meeting/94/materials/agenda-94-sidr
DESCRIPTION:Afternoon Session III\n
 \n
 Agenda https://datatracker.ietf.org/meeting/94/materials/agenda-94-sidr\n
 \n
 Session materials: https://datatracker.ietf.org/meeting/94/session/sidr\n
 \n
 See in schedule: https://datatracker.ietf.org/meeting/94/agenda#row-94-2015-11-03-tue-1710-rtg-sidr\n
END:VEVENT
BEGIN:VEVENT
UID:ietf-94-6744-mpls
SUMMARY:mpls - Multiprotocol Label Switching
LOCATION:Room 304
STATUS:CONFIRMED
CLASS:PUBLIC
DTSTART;TZID=Asia/Tokyo:20151104T090000
DTEND;TZID=Asia/Tokyo:20151104T113000
DTSTAMP:20161222T095703Z
URL:https://datatracker.ietf.org/meeting/94/materials/agenda-94-mpls
DESCRIPTION:Morning Session I\n
 \n
 Agenda https://datatracker.ietf.org/meeting/94/materials/agenda-94-mpls\n
 \n
 Session materials: https://datatracker.ietf.org/meeting/94/session/mpls\n
 \n
 See in schedule: https://datatracker.ietf.org/meeting/94/agenda#row-94-2015-11-04-wed-0900-rtg-mpls\n
END:VEVENT
BEGIN:VEVENT
UID:ietf-94-6747-ospf
SUMMARY:ospf - Open Shortest Path First IGP
LOCATION:Room 413
STATUS:CONFIRMED
CLASS:PUBLIC
DTSTART;TZID=Asia/Tokyo:20151104T130000
DTEND;TZID=Asia/Tokyo:20151104T150000
DTSTAMP:20161222T095703Z
URL:https://datatracker.ietf.org/meeting/94/materials/agenda-94-ospf
DESCRIPTION:Afternoon Session I\n
 \n
 Agenda https://datatracker.ietf.org/meeting/94/materials/agenda-94-ospf\n
 \n
 Session materials: https://datatracker.ietf.org/meeting/94/session/ospf\n
 \n
 See in schedule: https://datatracker.ietf.org/meeting/94/agenda#row-94-2015-11-04-wed-1300-rtg-ospf\n
END:VEVENT
BEGIN:VEVENT
UID:ietf-94-6830-sfc
SUMMARY:sfc - Service Function Chaining
LOCATION:Room 502
STATUS:CONFIRMED
CLASS:PUBLIC
DTSTART;TZID=Asia/Tokyo:20151105T090000
DTEND;TZID=Asia/Tokyo:20151105T113000
DTSTAMP:20161222T095703Z
URL:https://datatracker.ietf.org/meeting/94/materials/agenda-94-sfc
DESCRIPTION:Morning Session I\n
 \n
 Agenda https://datatracker.ietf.org/meeting/94/materials/agenda-94-sfc\n
 \n
 Session materials: https://datatracker.ietf.org/meeting/94/session/sfc\n
 \n
 See in schedule: https://datatracker.ietf.org/meeting/94/agenda#row-94-2015-11-05-thu-0900-rtg-sfc\n
END:VEVENT
BEGIN:VEVENT
UID:ietf-94-6825-teas
SUMMARY:teas - Traffic Engineering Architecture and Signaling
LOCATION:Room 301
STATUS:CONFIRMED
CLASS:PUBLIC
DTSTART;TZID=Asia/Tokyo:20151105T090000
DTEND;TZID=Asia/Tokyo:20151105T113000
DTSTAMP:20161222T095703Z
URL:https://datatracker.ietf.org/meeting/94/materials/agenda-94-teas
DESCRIPTION:Morning Session I\n
 \n
 Agenda https://datatracker.ietf.org/meeting/94/materials/agenda-94-teas\n
 \n
 Session materials: https://datatracker.ietf.org/meeting/94/session/teas\n
 \n
 See in schedule: https://datatracker.ietf.org/meeting/94/agenda#row-94-2015-11-05-thu-0900-rtg-teas\n
END:VEVENT
BEGIN:VEVENT
UID:ietf-94-6776-bess
SUMMARY:bess - BGP Enabled Services
LOCATION:Room 304
STATUS:CONFIRMED
CLASS:PUBLIC
DTSTART;TZID=Asia/Tokyo:20151105T130000
DTEND;TZID=Asia/Tokyo:20151105T150000
DTSTAMP:20161222T095703Z
URL:https://datatracker.ietf.org/meeting/94/materials/agenda-94-bess
DESCRIPTION:Afternoon Session I\n
 \n
 Agenda https://datatracker.ietf.org/meeting/94/materials/agenda-94-bess\n
 \n
 Session materials: https://datatracker.ietf.org/meeting/94/session/bess\n
 \n
 See in schedule: https://datatracker.ietf.org/meeting/94/agenda#row-94-2015-11-05-thu-1300-rtg-bess\n
END:VEVENT
BEGIN:VEVENT
UID:ietf-94-6773-isis
SUMMARY:isis - IS-IS for IP Internets
LOCATION:Room 301
STATUS:CONFIRMED
CLASS:PUBLIC
DTSTART;TZID=Asia/Tokyo:20151105T130000
DTEND;TZID=Asia/Tokyo:20151105T150000
DTSTAMP:20161222T095703Z
URL:https://datatracker.ietf.org/meeting/94/materials/agenda-94-isis
DESCRIPTION:Afternoon Session I\n
 \n
 Agenda https://datatracker.ietf.org/meeting/94/materials/agenda-94-isis\n
 \n
 Session materials: https://datatracker.ietf.org/meeting/94/session/isis\n
 \n
 See in schedule: https://datatracker.ietf.org/meeting/94/agenda#row-94-2015-11-05-thu-1300-rtg-isis\n
END:VEVENT
BEGIN:VEVENT
UID:ietf-94-6780-pim
SUMMARY:pim - Protocols for IP Multicast
LOCATION:Rooms 411/412
STATUS:CONFIRMED
CLASS:PUBLIC
DTSTART;TZID=Asia/Tokyo:20151105T152000
DTEND;TZID=Asia/Tokyo:20151105T172000
DTSTAMP:20161222T095703Z
URL:https://datatracker.ietf.org/meeting/94/materials/agenda-94-pim
DESCRIPTION:Afternoon Session II\n
 \n
 Agenda https://datatracker.ietf.org/meeting/94/materials/agenda-94-pim\n
 \n
 Session materials: https://datatracker.ietf.org/meeting/94/session/pim\n
 \n
 See in schedule: https://datatracker.ietf.org/meeting/94/agenda#row-94-2015-11-05-thu-1520-rtg-pim\n
END:VEVENT
BEGIN:VEVENT
UID:ietf-94-6784-rtgwg
SUMMARY:rtgwg - Routing Area Working Group
LOCATION:Room 304
STATUS:CONFIRMED
CLASS:PUBLIC
DTSTART;TZID=Asia/Tokyo:20151105T152000
DTEND;TZID=Asia/Tokyo:20151105T172000
DTSTAMP:20161222T095703Z
URL:https://datatracker.ietf.org/meeting/94/materials/agenda-94-rtgwg
DESCRIPTION:Afternoon Session II\n
 \n
 Agenda https://datatracker.ietf.org/meeting/94/materials/agenda-94-rtgwg\n
 \n
 Session materials: https://datatracker.ietf.org/meeting/94/session/rtgwg\n
 \n
 See in schedule: https://datatracker.ietf.org/meeting/94/agenda#row-94-2015-11-05-thu-1520-rtg-rtgwg\n
END:VEVENT
BEGIN:VEVENT
UID:ietf-94-6794-mpls
SUMMARY:mpls - Multiprotocol Label Switching (Combined with TEAS)
LOCATION:Room 502
STATUS:CONFIRMED
CLASS:PUBLIC
DTSTART;TZID=Asia/Tokyo:20151105T174000
DTEND;TZID=Asia/Tokyo:20151105T184000
DTSTAMP:20161222T095703Z
URL:https://datatracker.ietf.org/meeting/94/materials/agenda-94-mpls
DESCRIPTION:Afternoon Session III\n
 Note: Combined with TEAS\n
 \n
 Agenda https://datatracker.ietf.org/meeting/94/materials/agenda-94-mpls\n
 \n
 Session materials: https://datatracker.ietf.org/meeting/94/session/mpls\n
 \n
 See in schedule: https://datatracker.ietf.org/meeting/94/agenda#row-94-2015-11-05-thu-1740-rtg-mpls\n
END:VEVENT
BEGIN:VEVENT
UID:ietf-94-6790-roll
SUMMARY:roll - Routing Over Low power and Lossy networks
LOCATION:Room 302
STATUS:CONFIRMED
CLASS:PUBLIC
DTSTART;TZID=Asia/Tokyo:20151105T174000
DTEND;TZID=Asia/Tokyo:20151105T184000
DTSTAMP:20161222T095703Z
URL:https://datatracker.ietf.org/meeting/94/materials/agenda-94-roll
DESCRIPTION:Afternoon Session III\n
 \n
 Agenda https://datatracker.ietf.org/meeting/94/materials/agenda-94-roll\n
 \n
 Session materials: https://datatracker.ietf.org/meeting/94/session/roll\n
 \n
 See in schedule: https://datatracker.ietf.org/meeting/94/agenda#row-94-2015-11-05-thu-1740-rtg-roll\n
END:VEVENT
BEGIN:VEVENT
UID:ietf-94-6791-trill
SUMMARY:trill - Transparent Interconnection of Lots of Links
LOCATION:Room 303
STATUS:CONFIRMED
CLASS:PUBLIC
DTSTART;TZID=Asia/Tokyo:20151105T174000
DTEND;TZID=Asia/Tokyo:20151105T184000
DTSTAMP:20161222T095703Z
URL:https://datatracker.ietf.org/meeting/94/materials/agenda-94-trill
DESCRIPTION:Afternoon Session III\n
 \n
 Agenda https://datatracker.ietf.org/meeting/94/materials/agenda-94-trill\n
 \n
 Session materials: https://datatracker.ietf.org/meeting/94/session/trill\n
 \n
 See in schedule: https://datatracker.ietf.org/meeting/94/agenda#row-94-2015-11-05-thu-1740-rtg-trill\n
END:VEVENT
BEGIN:VEVENT
UID:ietf-94-6795-bier
SUMMARY:bier - Bit Indexed Explicit Replication
LOCATION:Room 413
STATUS:CONFIRMED
CLASS:PUBLIC
DTSTART;TZID=Asia/Tokyo:20151106T090000
DTEND;TZID=Asia/Tokyo:20151106T113000
DTSTAMP:20161222T095703Z
URL:https://datatracker.ietf.org/meeting/94/materials/agenda-94-bier
DESCRIPTION:Morning Session I\n
 \n
 Agenda https://datatracker.ietf.org/meeting/94/materials/agenda-94-bier\n
 \n
 Session materials: https://datatracker.ietf.org/meeting/94/session/bier\n
 \n
 See in schedule: https://datatracker.ietf.org/meeting/94/agenda#row-94-2015-11-06-fri-0900-rtg-bier\n
END:VEVENT
BEGIN:VEVENT
UID:ietf-94-6799-sidr
SUMMARY:sidr - Secure Inter-Domain Routing (0900 - 1030)
LOCATION:Room 303
STATUS:CONFIRMED
CLASS:PUBLIC
DTSTART;TZID=Asia/Tokyo:20151106T090000
DTEND;TZID=Asia/Tokyo:20151106T113000
DTSTAMP:20161222T095703Z
URL:https://datatracker.ietf.org/meeting/94/materials/agenda-94-sidr
DESCRIPTION:Morning Session I\n
 Note: 0900 - 1030\n
 \n
 Agenda https://datatracker.ietf.org/meeting/94/materials/agenda-94-sidr\n
 \n
 Session materials: https://datatracker.ietf.org/meeting/94/session/sidr\n
 \n
 See in schedule: https://datatracker.ietf.org/meeting/94/agenda#row-94-2015-11-06-fri-0900-rtg-sidr\n
END:VEVENT
END:VCALENDAR
