BEGIN:VCALENDAR
VERSION:2.0
METHOD:PUBLISH
PRODID:-//IETF//datatracker.ietf.org ical agenda//EN
BEGIN:VTIMEZONE
TZID:Asia/Tokyo
X-LIC-LOCATION:Asia/Tokyo
BEGIN:STANDARD
TZOFFSETFROM:+091859
TZOFFSETTO:+0900
TZNAME:JST
DTSTART:18880101T001859
RDATE:18880101T001859
END:STANDARD
BEGIN:STANDARD
TZOFFSETFROM:+0900
TZOFFSETTO:+0900
TZNAME:JCST
DTSTART:18960101T000000
RDATE:18960101T000000
END:STANDARD
BEGIN:STANDARD
TZOFFSETFROM:+0900
TZOFFSETTO:+0900
TZNAME:JST
DTSTART:19371001T000000
RDATE:19371001T000000
END:STANDARD
BEGIN:DAYLIGHT
TZOFFSETFROM:+0900
TZOFFSETTO:+1000
TZNAME:JDT
DTSTART:19480502T020000
RDATE:19480502T020000
RDATE:19490403T020000
RDATE:19500507T020000
RDATE:19510506T020000
END:DAYLIGHT
BEGIN:STANDARD
TZOFFSETFROM:+1000
TZOFFSETTO:+0900
TZNAME:JST
DTSTART:19480911T020000
RDATE:19480911T020000
RDATE:19490910T020000
RDATE:19500909T020000
RDATE:19510908T020000
END:STANDARD
END:VTIMEZONE
BEGIN:VEVENT
UID:ietf-94-6678-ace
SUMMARY:ace - Authentication and Authorization for Constrained Environments
LOCATION:Room 302
STATUS:CONFIRMED
CLASS:PUBLIC
DTSTART;TZID=Asia/Tokyo:20151102T090000
DTEND;TZID=Asia/Tokyo:20151102T113000
DTSTAMP:20161222T095703Z
URL:https://datatracker.ietf.org/meeting/94/materials/agenda-94-ace
DESCRIPTION:Morning Session I\n
 \n
 Agenda https://datatracker.ietf.org/meeting/94/materials/agenda-94-ace\n
 \n
 Session materials: https://datatracker.ietf.org/meeting/94/session/ace\n
 \n
 See in schedule: https://datatracker.ietf.org/meeting/94/agenda#row-94-2015-11-02-mon-0900-sec-ace\n
END:VEVENT
BEGIN:VEVENT
UID:ietf-94-6683-mile
SUMMARY:mile - Managed Incident Lightweight Exchange
LOCATION:Room 413
STATUS:CONFIRMED
CLASS:PUBLIC
DTSTART;TZID=Asia/Tokyo:20151102T130000
DTEND;TZID=Asia/Tokyo:20151102T150000
DTSTAMP:20161222T095703Z
URL:https://datatracker.ietf.org/meeting/94/materials/agenda-94-mile
DESCRIPTION:Afternoon Session I\n
 \n
 Agenda https://datatracker.ietf.org/meeting/94/materials/agenda-94-mile\n
 \n
 Session materials: https://datatracker.ietf.org/meeting/94/session/mile\n
 \n
 See in schedule: https://datatracker.ietf.org/meeting/94/agenda#row-94-2015-11-02-mon-1300-sec-mile\n
END:VEVENT
BEGIN:VEVENT
UID:ietf-94-6684-trans
SUMMARY:trans - Public Notary Transparency 
LOCATION:Rooms 411/412
STATUS:CONFIRMED
CLASS:PUBLIC
DTSTART;TZID=Asia/Tokyo:20151102T130000
DTEND;TZID=Asia/Tokyo:20151102T150000
DTSTAMP:20161222T095703Z
URL:https://datatracker.ietf.org/meeting/94/materials/agenda-94-trans
DESCRIPTION:Afternoon Session I\n
 \n
 Agenda https://datatracker.ietf.org/meeting/94/materials/agenda-94-trans\n
 \n
 Session materials: https://datatracker.ietf.org/meeting/94/session/trans\n
 \n
 See in schedule: https://datatracker.ietf.org/meeting/94/agenda#row-94-2015-11-02-mon-1300-sec-trans\n
END:VEVENT
BEGIN:VEVENT
UID:ietf-94-6702-tokbind
SUMMARY:tokbind - Token Binding
LOCATION:Room 302
STATUS:CONFIRMED
CLASS:PUBLIC
DTSTART;TZID=Asia/Tokyo:20151102T171000
DTEND;TZID=Asia/Tokyo:20151102T191000
DTSTAMP:20161222T095703Z
URL:https://datatracker.ietf.org/meeting/94/materials/agenda-94-tokbind
DESCRIPTION:Afternoon Session III\n
 \n
 Agenda https://datatracker.ietf.org/meeting/94/materials/agenda-94-tokbind\n
 \n
 Session materials: https://datatracker.ietf.org/meeting/94/session/tokbind\n
 \n
 See in schedule: https://datatracker.ietf.org/meeting/94/agenda#row-94-2015-11-02-mon-1710-sec-tokbind\n
END:VEVENT
BEGIN:VEVENT
UID:ietf-94-6815-i2nsf
SUMMARY:i2nsf - Interface to Network Security Functions
LOCATION:Room 302
STATUS:CONFIRMED
CLASS:PUBLIC
DTSTART;TZID=Asia/Tokyo:20151103T090000
DTEND;TZID=Asia/Tokyo:20151103T113000
DTSTAMP:20161222T095703Z
URL:https://datatracker.ietf.org/meeting/94/materials/agenda-94-i2nsf
DESCRIPTION:Morning Session I\n
 \n
 Agenda https://datatracker.ietf.org/meeting/94/materials/agenda-94-i2nsf\n
 \n
 Session materials: https://datatracker.ietf.org/meeting/94/session/i2nsf\n
 \n
 See in schedule: https://datatracker.ietf.org/meeting/94/agenda#row-94-2015-11-03-tue-0900-sec-i2nsf\n
END:VEVENT
BEGIN:VEVENT
UID:ietf-94-6721-dots
SUMMARY:dots - DDoS Open Threat Signaling
LOCATION:Room 501
STATUS:CONFIRMED
CLASS:PUBLIC
DTSTART;TZID=Asia/Tokyo:20151103T130000
DTEND;TZID=Asia/Tokyo:20151103T150000
DTSTAMP:20161222T095703Z
URL:https://datatracker.ietf.org/meeting/94/materials/agenda-94-dots
DESCRIPTION:Afternoon Session I\n
 \n
 Agenda https://datatracker.ietf.org/meeting/94/materials/agenda-94-dots\n
 \n
 Session materials: https://datatracker.ietf.org/meeting/94/session/dots\n
 \n
 See in schedule: https://datatracker.ietf.org/meeting/94/agenda#row-94-2015-11-03-tue-1300-sec-dots\n
END:VEVENT
BEGIN:VEVENT
UID:ietf-94-6723-cose
SUMMARY:cose - CBOR Object Signing and Encryption
LOCATION:Room 413
STATUS:CONFIRMED
CLASS:PUBLIC
DTSTART;TZID=Asia/Tokyo:20151103T152000
DTEND;TZID=Asia/Tokyo:20151103T165000
DTSTAMP:20161222T095703Z
URL:https://datatracker.ietf.org/meeting/94/materials/agenda-94-cose
DESCRIPTION:Afternoon Session II\n
 \n
 Agenda https://datatracker.ietf.org/meeting/94/materials/agenda-94-cose\n
 \n
 Session materials: https://datatracker.ietf.org/meeting/94/session/cose\n
 \n
 See in schedule: https://datatracker.ietf.org/meeting/94/agenda#row-94-2015-11-03-tue-1520-sec-cose\n
END:VEVENT
BEGIN:VEVENT
UID:ietf-94-6732-openpgp
SUMMARY:openpgp - Open Specification for Pretty Good Privacy
LOCATION:Rooms 411/412
STATUS:CONFIRMED
CLASS:PUBLIC
DTSTART;TZID=Asia/Tokyo:20151103T171000
DTEND;TZID=Asia/Tokyo:20151103T184000
DTSTAMP:20161222T095703Z
URL:https://datatracker.ietf.org/meeting/94/materials/agenda-94-openpgp
DESCRIPTION:Afternoon Session III\n
 \n
 Agenda https://datatracker.ietf.org/meeting/94/materials/agenda-94-openpgp\n
 \n
 Session materials: https://datatracker.ietf.org/meeting/94/session/openpgp\n
 \n
 See in schedule: https://datatracker.ietf.org/meeting/94/agenda#row-94-2015-11-03-tue-1710-sec-openpgp\n
END:VEVENT
BEGIN:VEVENT
UID:ietf-94-6734-sacm
SUMMARY:sacm - Security Automation and Continuous Monitoring
LOCATION:Room 302
STATUS:CONFIRMED
CLASS:PUBLIC
DTSTART;TZID=Asia/Tokyo:20151103T171000
DTEND;TZID=Asia/Tokyo:20151103T184000
DTSTAMP:20161222T095703Z
URL:https://datatracker.ietf.org/meeting/94/materials/agenda-94-sacm
DESCRIPTION:Afternoon Session III\n
 \n
 Agenda https://datatracker.ietf.org/meeting/94/materials/agenda-94-sacm\n
 \n
 Session materials: https://datatracker.ietf.org/meeting/94/session/sacm\n
 \n
 See in schedule: https://datatracker.ietf.org/meeting/94/agenda#row-94-2015-11-03-tue-1710-sec-sacm\n
END:VEVENT
BEGIN:VEVENT
UID:ietf-94-6743-tls
SUMMARY:tls - Transport Layer Security
LOCATION:Room 303
STATUS:CONFIRMED
CLASS:PUBLIC
DTSTART;TZID=Asia/Tokyo:20151104T090000
DTEND;TZID=Asia/Tokyo:20151104T113000
DTSTAMP:20161222T095703Z
URL:https://datatracker.ietf.org/meeting/94/materials/agenda-94-tls
DESCRIPTION:Morning Session I\n
 \n
 Agenda https://datatracker.ietf.org/meeting/94/materials/agenda-94-tls\n
 \n
 Session materials: https://datatracker.ietf.org/meeting/94/session/tls\n
 \n
 See in schedule: https://datatracker.ietf.org/meeting/94/agenda#row-94-2015-11-04-wed-0900-sec-tls\n
END:VEVENT
BEGIN:VEVENT
UID:ietf-94-6823-sacm
SUMMARY:sacm - Security Automation and Continuous Monitoring
LOCATION:Room 413
STATUS:CONFIRMED
CLASS:PUBLIC
DTSTART;TZID=Asia/Tokyo:20151105T090000
DTEND;TZID=Asia/Tokyo:20151105T113000
DTSTAMP:20161222T095703Z
URL:https://datatracker.ietf.org/meeting/94/materials/agenda-94-sacm
DESCRIPTION:Morning Session I\n
 \n
 Agenda https://datatracker.ietf.org/meeting/94/materials/agenda-94-sacm\n
 \n
 Session materials: https://datatracker.ietf.org/meeting/94/session/sacm\n
 \n
 See in schedule: https://datatracker.ietf.org/meeting/94/agenda#row-94-2015-11-05-thu-0900-sec-sacm\n
END:VEVENT
BEGIN:VEVENT
UID:ietf-94-6778-saag
SUMMARY:saag - Security Area Open Meeting
LOCATION:Room 502
STATUS:CONFIRMED
CLASS:PUBLIC
DTSTART;TZID=Asia/Tokyo:20151105T130000
DTEND;TZID=Asia/Tokyo:20151105T150000
DTSTAMP:20161222T095703Z
URL:https://datatracker.ietf.org/meeting/94/materials/agenda-94-saag
DESCRIPTION:Afternoon Session I\n
 \n
 Agenda https://datatracker.ietf.org/meeting/94/materials/agenda-94-saag\n
 \n
 Session materials: https://datatracker.ietf.org/meeting/94/session/saag\n
 \n
 See in schedule: https://datatracker.ietf.org/meeting/94/agenda#row-94-2015-11-05-thu-1300-sec-saag\n
END:VEVENT
BEGIN:VEVENT
UID:ietf-94-6781-oauth
SUMMARY:oauth - Web Authorization Protocol
LOCATION:Room 301
STATUS:CONFIRMED
CLASS:PUBLIC
DTSTART;TZID=Asia/Tokyo:20151105T152000
DTEND;TZID=Asia/Tokyo:20151105T172000
DTSTAMP:20161222T095703Z
URL:https://datatracker.ietf.org/meeting/94/materials/agenda-94-oauth
DESCRIPTION:Afternoon Session II\n
 \n
 Agenda https://datatracker.ietf.org/meeting/94/materials/agenda-94-oauth\n
 \n
 Session materials: https://datatracker.ietf.org/meeting/94/session/oauth\n
 \n
 See in schedule: https://datatracker.ietf.org/meeting/94/agenda#row-94-2015-11-05-thu-1520-sec-oauth\n
END:VEVENT
BEGIN:VEVENT
UID:ietf-94-6793-tls
SUMMARY:tls - Transport Layer Security
LOCATION:Room 501
STATUS:CONFIRMED
CLASS:PUBLIC
DTSTART;TZID=Asia/Tokyo:20151105T174000
DTEND;TZID=Asia/Tokyo:20151105T184000
DTSTAMP:20161222T095703Z
URL:https://datatracker.ietf.org/meeting/94/materials/agenda-94-tls
DESCRIPTION:Afternoon Session III\n
 \n
 Agenda https://datatracker.ietf.org/meeting/94/materials/agenda-94-tls\n
 \n
 Session materials: https://datatracker.ietf.org/meeting/94/session/tls\n
 \n
 See in schedule: https://datatracker.ietf.org/meeting/94/agenda#row-94-2015-11-05-thu-1740-sec-tls\n
END:VEVENT
BEGIN:VEVENT
UID:ietf-94-6800-acme
SUMMARY:acme - Automated Certificate Management Environment
LOCATION:Room 304
STATUS:CONFIRMED
CLASS:PUBLIC
DTSTART;TZID=Asia/Tokyo:20151106T090000
DTEND;TZID=Asia/Tokyo:20151106T113000
DTSTAMP:20161222T095703Z
URL:https://datatracker.ietf.org/meeting/94/materials/agenda-94-acme
DESCRIPTION:Morning Session I\n
 \n
 Agenda https://datatracker.ietf.org/meeting/94/materials/agenda-94-acme\n
 \n
 Session materials: https://datatracker.ietf.org/meeting/94/session/acme\n
 \n
 See in schedule: https://datatracker.ietf.org/meeting/94/agenda#row-94-2015-11-06-fri-0900-sec-acme\n
END:VEVENT
END:VCALENDAR
